BEGIN:VCALENDAR
VERSION:2.0
PRODID:-//Stonegate Community Health Centre - ECPv6.15.20//NONSGML v1.0//EN
CALSCALE:GREGORIAN
METHOD:PUBLISH
X-WR-CALNAME:Stonegate Community Health Centre
X-ORIGINAL-URL:https://www.stonegatechc.org
X-WR-CALDESC:Events for Stonegate Community Health Centre
REFRESH-INTERVAL;VALUE=DURATION:PT1H
X-Robots-Tag:noindex
X-PUBLISHED-TTL:PT1H
BEGIN:VTIMEZONE
TZID:America/Toronto
BEGIN:DAYLIGHT
TZOFFSETFROM:-0500
TZOFFSETTO:-0400
TZNAME:EDT
DTSTART:20240310T070000
END:DAYLIGHT
BEGIN:STANDARD
TZOFFSETFROM:-0400
TZOFFSETTO:-0500
TZNAME:EST
DTSTART:20241103T060000
END:STANDARD
BEGIN:DAYLIGHT
TZOFFSETFROM:-0500
TZOFFSETTO:-0400
TZNAME:EDT
DTSTART:20250309T070000
END:DAYLIGHT
BEGIN:STANDARD
TZOFFSETFROM:-0400
TZOFFSETTO:-0500
TZNAME:EST
DTSTART:20251102T060000
END:STANDARD
BEGIN:DAYLIGHT
TZOFFSETFROM:-0500
TZOFFSETTO:-0400
TZNAME:EDT
DTSTART:20260308T070000
END:DAYLIGHT
BEGIN:STANDARD
TZOFFSETFROM:-0400
TZOFFSETTO:-0500
TZNAME:EST
DTSTART:20261101T060000
END:STANDARD
END:VTIMEZONE
BEGIN:VEVENT
DTSTART;TZID=America/Toronto:20251103T090000
DTEND;TZID=America/Toronto:20251103T120000
DTSTAMP:20260423T063819
CREATED:20251006T195351Z
LAST-MODIFIED:20260121T170949Z
UID:10010877-1762160400-1762171200@www.stonegatechc.org
SUMMARY:SUNNYLEA DROP-IN
DESCRIPTION:SUNNYLEA DROP-IN \nFor families with children 0-6 of age! \n  \nJoin us for free \, fun\, and educational activities! \nEnjoy interactive play\, storyline\, crafts\, and more . \nConnect with other adults and access valuable resources. \nSeptember 2025 – June 2026 \nMondays                                                                 \n09:00 am – 12:00 pm \nProgram starts Monday \, Sep 8 \n851 Royal York Rd. Etobicoke \, ON\, M9Y2V3 \n  \nDrop in and explore! \nRegistration not required \nFor more information\, contact early.years@stonegatechc.org
URL:https://www.stonegatechc.org/event/sunnylea-drop-in-4/2025-11-03/
LOCATION:Sunnylea Park\, 195 prince edward drive\, Etobicoke\, ON\, M8Y 3x1\, Canada
CATEGORIES:Children & Youth,Early Years Programs
ATTACH;FMTTYPE=image/jpeg:https://www.stonegatechc.org/wp-content/uploads/2025/10/Sunnylea-Family-Drop-in-002-e1759780411438.jpg
ORGANIZER;CN="Stonegate CHC":MAILTO:health.promotion@stonegatechc.org
END:VEVENT
BEGIN:VEVENT
DTSTART;TZID=America/Toronto:20251103T153000
DTEND;TZID=America/Toronto:20251103T173000
DTSTAMP:20260423T063819
CREATED:20251006T153945Z
LAST-MODIFIED:20251006T153945Z
UID:10010856-1762183800-1762191000@www.stonegatechc.org
SUMMARY:AFTERNOON EXPLORERS
DESCRIPTION:AFTERNOON EXPLORERS \nJoin us for an exciting and engaging afternoon program designed for children ages 4-6 and their caregivers! \nAfternoon Explorers focuses on creativity\, learning\, and connection through hands-on activities and interactive play. \nWhen : Monday\, October 6-November 24 \n3:30 pm – 5:30 pm \nWhere : 10 Neighborhood lane \, unit 201 – Trillium Room \nRegistration Required early.years®stonegatechc.org \natten: Anna & Larissa \n  \nIndoor running shoes are required \n 
URL:https://www.stonegatechc.org/event/afternoon-explorers/2025-11-03/
LOCATION:Stonegate Community Health Centre\, 10 Neighbourhood Lane\, Unit 201\, Stonegate CHC\, ETOBICOKE\, Ontario\, M8Y 0C5\, Canada
CATEGORIES:Children & Youth,Early Years Programs
ATTACH;FMTTYPE=image/jpeg:https://www.stonegatechc.org/wp-content/uploads/2025/10/Afternoon-Drop-in-Poster-SCHC-e1759765162731.jpg
ORGANIZER;CN="Stonegate CHC":MAILTO:health.promotion@stonegatechc.org
END:VEVENT
BEGIN:VEVENT
DTSTART;TZID=America/Toronto:20251104T160000
DTEND;TZID=America/Toronto:20251104T180000
DTSTAMP:20260423T063819
CREATED:20250917T171108Z
LAST-MODIFIED:20250917T171108Z
UID:10010576-1762272000-1762279200@www.stonegatechc.org
SUMMARY:MARTIAL ARTS
DESCRIPTION:MARTIAL ARTS \nStrength • Speed  • Discipline \nTuesdays starting September 23rd\,2025 \nBEGINNERS \n4:00 PM TO 4:45 PM \n  \nINTERMEDIATE/ADVANCED \n5:00 PM TO 5:45 PM \n  \nSPACES LIMITED REGISTER BY PHONE: \n416-231-7070 X 283 OR EMAIL: health.promotion@stonegatechc.org \n 
URL:https://www.stonegatechc.org/event/martial-arts-2/2025-11-04/
LOCATION:Stonegate Community Health Centre\, 10 Neighbourhood Lane\, Unit 201\, Stonegate CHC\, ETOBICOKE\, Ontario\, M8Y 0C5\, Canada
CATEGORIES:Children & Youth
ATTACH;FMTTYPE=image/jpeg:https://www.stonegatechc.org/wp-content/uploads/2025/09/Martial-Arts-2025-e1758126601560.jpg
ORGANIZER;CN="Stonegate CHC":MAILTO:health.promotion@stonegatechc.org
END:VEVENT
BEGIN:VEVENT
DTSTART;TZID=America/Toronto:20251106T090000
DTEND;TZID=America/Toronto:20251106T120000
DTSTAMP:20260423T063819
CREATED:20251006T154810Z
LAST-MODIFIED:20251006T154810Z
UID:10010865-1762419600-1762430400@www.stonegatechc.org
SUMMARY:STONEGATE DROP-IN
DESCRIPTION:STONEGATE DROP-IN \nJoin us at Stonegate Family Drop-in for fun \, engaging activities designed for children aged 0-6 and their caregivers. \nConnect \, play \, and grow together in a welcoming space! \nWhen : Oct 2- Nov 27 \nEvery Thursday  \n09:00 am – 12:00 pm \nWhere: \n10 Neighborhood Ln\, \nSuit 201\, Toronto\, ON \nChildren’s room \n  \nFor more information\, contact early.years@stonegatechc.org \nAttn: Ann or Larissa \n  \nIndoor shoes required. \n 
URL:https://www.stonegatechc.org/event/stonegate-drop-in/2025-11-06/
LOCATION:Stonegate Community Health Centre\, 10 Neighbourhood Lane\, Unit 201\, Stonegate CHC\, ETOBICOKE\, Ontario\, M8Y 0C5\, Canada
CATEGORIES:Children & Youth,Early Years Programs
ATTACH;FMTTYPE=image/jpeg:https://www.stonegatechc.org/wp-content/uploads/2025/10/stonegate-drop-in-e1759765628597.jpg
ORGANIZER;CN="Stonegate CHC":MAILTO:health.promotion@stonegatechc.org
END:VEVENT
BEGIN:VEVENT
DTSTART;TZID=America/Toronto:20251110T090000
DTEND;TZID=America/Toronto:20251110T120000
DTSTAMP:20260423T063819
CREATED:20251006T195351Z
LAST-MODIFIED:20260121T170949Z
UID:10010878-1762765200-1762776000@www.stonegatechc.org
SUMMARY:SUNNYLEA DROP-IN
DESCRIPTION:SUNNYLEA DROP-IN \nFor families with children 0-6 of age! \n  \nJoin us for free \, fun\, and educational activities! \nEnjoy interactive play\, storyline\, crafts\, and more . \nConnect with other adults and access valuable resources. \nSeptember 2025 – June 2026 \nMondays                                                                 \n09:00 am – 12:00 pm \nProgram starts Monday \, Sep 8 \n851 Royal York Rd. Etobicoke \, ON\, M9Y2V3 \n  \nDrop in and explore! \nRegistration not required \nFor more information\, contact early.years@stonegatechc.org
URL:https://www.stonegatechc.org/event/sunnylea-drop-in-4/2025-11-10/
LOCATION:Sunnylea Park\, 195 prince edward drive\, Etobicoke\, ON\, M8Y 3x1\, Canada
CATEGORIES:Children & Youth,Early Years Programs
ATTACH;FMTTYPE=image/jpeg:https://www.stonegatechc.org/wp-content/uploads/2025/10/Sunnylea-Family-Drop-in-002-e1759780411438.jpg
ORGANIZER;CN="Stonegate CHC":MAILTO:health.promotion@stonegatechc.org
END:VEVENT
BEGIN:VEVENT
DTSTART;TZID=America/Toronto:20251110T153000
DTEND;TZID=America/Toronto:20251110T173000
DTSTAMP:20260423T063819
CREATED:20251006T153945Z
LAST-MODIFIED:20251006T153945Z
UID:10010857-1762788600-1762795800@www.stonegatechc.org
SUMMARY:AFTERNOON EXPLORERS
DESCRIPTION:AFTERNOON EXPLORERS \nJoin us for an exciting and engaging afternoon program designed for children ages 4-6 and their caregivers! \nAfternoon Explorers focuses on creativity\, learning\, and connection through hands-on activities and interactive play. \nWhen : Monday\, October 6-November 24 \n3:30 pm – 5:30 pm \nWhere : 10 Neighborhood lane \, unit 201 – Trillium Room \nRegistration Required early.years®stonegatechc.org \natten: Anna & Larissa \n  \nIndoor running shoes are required \n 
URL:https://www.stonegatechc.org/event/afternoon-explorers/2025-11-10/
LOCATION:Stonegate Community Health Centre\, 10 Neighbourhood Lane\, Unit 201\, Stonegate CHC\, ETOBICOKE\, Ontario\, M8Y 0C5\, Canada
CATEGORIES:Children & Youth,Early Years Programs
ATTACH;FMTTYPE=image/jpeg:https://www.stonegatechc.org/wp-content/uploads/2025/10/Afternoon-Drop-in-Poster-SCHC-e1759765162731.jpg
ORGANIZER;CN="Stonegate CHC":MAILTO:health.promotion@stonegatechc.org
END:VEVENT
BEGIN:VEVENT
DTSTART;TZID=America/Toronto:20251111T160000
DTEND;TZID=America/Toronto:20251111T180000
DTSTAMP:20260423T063819
CREATED:20250917T171108Z
LAST-MODIFIED:20250917T171108Z
UID:10010577-1762876800-1762884000@www.stonegatechc.org
SUMMARY:MARTIAL ARTS
DESCRIPTION:MARTIAL ARTS \nStrength • Speed  • Discipline \nTuesdays starting September 23rd\,2025 \nBEGINNERS \n4:00 PM TO 4:45 PM \n  \nINTERMEDIATE/ADVANCED \n5:00 PM TO 5:45 PM \n  \nSPACES LIMITED REGISTER BY PHONE: \n416-231-7070 X 283 OR EMAIL: health.promotion@stonegatechc.org \n 
URL:https://www.stonegatechc.org/event/martial-arts-2/2025-11-11/
LOCATION:Stonegate Community Health Centre\, 10 Neighbourhood Lane\, Unit 201\, Stonegate CHC\, ETOBICOKE\, Ontario\, M8Y 0C5\, Canada
CATEGORIES:Children & Youth
ATTACH;FMTTYPE=image/jpeg:https://www.stonegatechc.org/wp-content/uploads/2025/09/Martial-Arts-2025-e1758126601560.jpg
ORGANIZER;CN="Stonegate CHC":MAILTO:health.promotion@stonegatechc.org
END:VEVENT
BEGIN:VEVENT
DTSTART;TZID=America/Toronto:20251113T090000
DTEND;TZID=America/Toronto:20251113T120000
DTSTAMP:20260423T063819
CREATED:20251006T154810Z
LAST-MODIFIED:20251006T154810Z
UID:10010866-1763024400-1763035200@www.stonegatechc.org
SUMMARY:STONEGATE DROP-IN
DESCRIPTION:STONEGATE DROP-IN \nJoin us at Stonegate Family Drop-in for fun \, engaging activities designed for children aged 0-6 and their caregivers. \nConnect \, play \, and grow together in a welcoming space! \nWhen : Oct 2- Nov 27 \nEvery Thursday  \n09:00 am – 12:00 pm \nWhere: \n10 Neighborhood Ln\, \nSuit 201\, Toronto\, ON \nChildren’s room \n  \nFor more information\, contact early.years@stonegatechc.org \nAttn: Ann or Larissa \n  \nIndoor shoes required. \n 
URL:https://www.stonegatechc.org/event/stonegate-drop-in/2025-11-13/
LOCATION:Stonegate Community Health Centre\, 10 Neighbourhood Lane\, Unit 201\, Stonegate CHC\, ETOBICOKE\, Ontario\, M8Y 0C5\, Canada
CATEGORIES:Children & Youth,Early Years Programs
ATTACH;FMTTYPE=image/jpeg:https://www.stonegatechc.org/wp-content/uploads/2025/10/stonegate-drop-in-e1759765628597.jpg
ORGANIZER;CN="Stonegate CHC":MAILTO:health.promotion@stonegatechc.org
END:VEVENT
BEGIN:VEVENT
DTSTART;TZID=America/Toronto:20251117T090000
DTEND;TZID=America/Toronto:20251117T120000
DTSTAMP:20260423T063819
CREATED:20251006T195351Z
LAST-MODIFIED:20260121T170949Z
UID:10010879-1763370000-1763380800@www.stonegatechc.org
SUMMARY:SUNNYLEA DROP-IN
DESCRIPTION:SUNNYLEA DROP-IN \nFor families with children 0-6 of age! \n  \nJoin us for free \, fun\, and educational activities! \nEnjoy interactive play\, storyline\, crafts\, and more . \nConnect with other adults and access valuable resources. \nSeptember 2025 – June 2026 \nMondays                                                                 \n09:00 am – 12:00 pm \nProgram starts Monday \, Sep 8 \n851 Royal York Rd. Etobicoke \, ON\, M9Y2V3 \n  \nDrop in and explore! \nRegistration not required \nFor more information\, contact early.years@stonegatechc.org
URL:https://www.stonegatechc.org/event/sunnylea-drop-in-4/2025-11-17/
LOCATION:Sunnylea Park\, 195 prince edward drive\, Etobicoke\, ON\, M8Y 3x1\, Canada
CATEGORIES:Children & Youth,Early Years Programs
ATTACH;FMTTYPE=image/jpeg:https://www.stonegatechc.org/wp-content/uploads/2025/10/Sunnylea-Family-Drop-in-002-e1759780411438.jpg
ORGANIZER;CN="Stonegate CHC":MAILTO:health.promotion@stonegatechc.org
END:VEVENT
BEGIN:VEVENT
DTSTART;TZID=America/Toronto:20251117T153000
DTEND;TZID=America/Toronto:20251117T173000
DTSTAMP:20260423T063819
CREATED:20251006T153945Z
LAST-MODIFIED:20251006T153945Z
UID:10010858-1763393400-1763400600@www.stonegatechc.org
SUMMARY:AFTERNOON EXPLORERS
DESCRIPTION:AFTERNOON EXPLORERS \nJoin us for an exciting and engaging afternoon program designed for children ages 4-6 and their caregivers! \nAfternoon Explorers focuses on creativity\, learning\, and connection through hands-on activities and interactive play. \nWhen : Monday\, October 6-November 24 \n3:30 pm – 5:30 pm \nWhere : 10 Neighborhood lane \, unit 201 – Trillium Room \nRegistration Required early.years®stonegatechc.org \natten: Anna & Larissa \n  \nIndoor running shoes are required \n 
URL:https://www.stonegatechc.org/event/afternoon-explorers/2025-11-17/
LOCATION:Stonegate Community Health Centre\, 10 Neighbourhood Lane\, Unit 201\, Stonegate CHC\, ETOBICOKE\, Ontario\, M8Y 0C5\, Canada
CATEGORIES:Children & Youth,Early Years Programs
ATTACH;FMTTYPE=image/jpeg:https://www.stonegatechc.org/wp-content/uploads/2025/10/Afternoon-Drop-in-Poster-SCHC-e1759765162731.jpg
ORGANIZER;CN="Stonegate CHC":MAILTO:health.promotion@stonegatechc.org
END:VEVENT
BEGIN:VEVENT
DTSTART;TZID=America/Toronto:20251118T160000
DTEND;TZID=America/Toronto:20251118T180000
DTSTAMP:20260423T063819
CREATED:20250917T171108Z
LAST-MODIFIED:20250917T171108Z
UID:10010578-1763481600-1763488800@www.stonegatechc.org
SUMMARY:MARTIAL ARTS
DESCRIPTION:MARTIAL ARTS \nStrength • Speed  • Discipline \nTuesdays starting September 23rd\,2025 \nBEGINNERS \n4:00 PM TO 4:45 PM \n  \nINTERMEDIATE/ADVANCED \n5:00 PM TO 5:45 PM \n  \nSPACES LIMITED REGISTER BY PHONE: \n416-231-7070 X 283 OR EMAIL: health.promotion@stonegatechc.org \n 
URL:https://www.stonegatechc.org/event/martial-arts-2/2025-11-18/
LOCATION:Stonegate Community Health Centre\, 10 Neighbourhood Lane\, Unit 201\, Stonegate CHC\, ETOBICOKE\, Ontario\, M8Y 0C5\, Canada
CATEGORIES:Children & Youth
ATTACH;FMTTYPE=image/jpeg:https://www.stonegatechc.org/wp-content/uploads/2025/09/Martial-Arts-2025-e1758126601560.jpg
ORGANIZER;CN="Stonegate CHC":MAILTO:health.promotion@stonegatechc.org
END:VEVENT
BEGIN:VEVENT
DTSTART;TZID=America/Toronto:20251120T090000
DTEND;TZID=America/Toronto:20251120T120000
DTSTAMP:20260423T063819
CREATED:20251006T154810Z
LAST-MODIFIED:20251006T154810Z
UID:10010867-1763629200-1763640000@www.stonegatechc.org
SUMMARY:STONEGATE DROP-IN
DESCRIPTION:STONEGATE DROP-IN \nJoin us at Stonegate Family Drop-in for fun \, engaging activities designed for children aged 0-6 and their caregivers. \nConnect \, play \, and grow together in a welcoming space! \nWhen : Oct 2- Nov 27 \nEvery Thursday  \n09:00 am – 12:00 pm \nWhere: \n10 Neighborhood Ln\, \nSuit 201\, Toronto\, ON \nChildren’s room \n  \nFor more information\, contact early.years@stonegatechc.org \nAttn: Ann or Larissa \n  \nIndoor shoes required. \n 
URL:https://www.stonegatechc.org/event/stonegate-drop-in/2025-11-20/
LOCATION:Stonegate Community Health Centre\, 10 Neighbourhood Lane\, Unit 201\, Stonegate CHC\, ETOBICOKE\, Ontario\, M8Y 0C5\, Canada
CATEGORIES:Children & Youth,Early Years Programs
ATTACH;FMTTYPE=image/jpeg:https://www.stonegatechc.org/wp-content/uploads/2025/10/stonegate-drop-in-e1759765628597.jpg
ORGANIZER;CN="Stonegate CHC":MAILTO:health.promotion@stonegatechc.org
END:VEVENT
BEGIN:VEVENT
DTSTART;TZID=America/Toronto:20251124T090000
DTEND;TZID=America/Toronto:20251124T120000
DTSTAMP:20260423T063819
CREATED:20251006T195351Z
LAST-MODIFIED:20260121T170949Z
UID:10010880-1763974800-1763985600@www.stonegatechc.org
SUMMARY:SUNNYLEA DROP-IN
DESCRIPTION:SUNNYLEA DROP-IN \nFor families with children 0-6 of age! \n  \nJoin us for free \, fun\, and educational activities! \nEnjoy interactive play\, storyline\, crafts\, and more . \nConnect with other adults and access valuable resources. \nSeptember 2025 – June 2026 \nMondays                                                                 \n09:00 am – 12:00 pm \nProgram starts Monday \, Sep 8 \n851 Royal York Rd. Etobicoke \, ON\, M9Y2V3 \n  \nDrop in and explore! \nRegistration not required \nFor more information\, contact early.years@stonegatechc.org
URL:https://www.stonegatechc.org/event/sunnylea-drop-in-4/2025-11-24/
LOCATION:Sunnylea Park\, 195 prince edward drive\, Etobicoke\, ON\, M8Y 3x1\, Canada
CATEGORIES:Children & Youth,Early Years Programs
ATTACH;FMTTYPE=image/jpeg:https://www.stonegatechc.org/wp-content/uploads/2025/10/Sunnylea-Family-Drop-in-002-e1759780411438.jpg
ORGANIZER;CN="Stonegate CHC":MAILTO:health.promotion@stonegatechc.org
END:VEVENT
BEGIN:VEVENT
DTSTART;TZID=America/Toronto:20251124T153000
DTEND;TZID=America/Toronto:20251124T173000
DTSTAMP:20260423T063819
CREATED:20251006T153945Z
LAST-MODIFIED:20251006T153945Z
UID:10010859-1763998200-1764005400@www.stonegatechc.org
SUMMARY:AFTERNOON EXPLORERS
DESCRIPTION:AFTERNOON EXPLORERS \nJoin us for an exciting and engaging afternoon program designed for children ages 4-6 and their caregivers! \nAfternoon Explorers focuses on creativity\, learning\, and connection through hands-on activities and interactive play. \nWhen : Monday\, October 6-November 24 \n3:30 pm – 5:30 pm \nWhere : 10 Neighborhood lane \, unit 201 – Trillium Room \nRegistration Required early.years®stonegatechc.org \natten: Anna & Larissa \n  \nIndoor running shoes are required \n 
URL:https://www.stonegatechc.org/event/afternoon-explorers/2025-11-24/
LOCATION:Stonegate Community Health Centre\, 10 Neighbourhood Lane\, Unit 201\, Stonegate CHC\, ETOBICOKE\, Ontario\, M8Y 0C5\, Canada
CATEGORIES:Children & Youth,Early Years Programs
ATTACH;FMTTYPE=image/jpeg:https://www.stonegatechc.org/wp-content/uploads/2025/10/Afternoon-Drop-in-Poster-SCHC-e1759765162731.jpg
ORGANIZER;CN="Stonegate CHC":MAILTO:health.promotion@stonegatechc.org
END:VEVENT
BEGIN:VEVENT
DTSTART;TZID=America/Toronto:20251125T160000
DTEND;TZID=America/Toronto:20251125T180000
DTSTAMP:20260423T063819
CREATED:20250917T171108Z
LAST-MODIFIED:20250917T171108Z
UID:10010579-1764086400-1764093600@www.stonegatechc.org
SUMMARY:MARTIAL ARTS
DESCRIPTION:MARTIAL ARTS \nStrength • Speed  • Discipline \nTuesdays starting September 23rd\,2025 \nBEGINNERS \n4:00 PM TO 4:45 PM \n  \nINTERMEDIATE/ADVANCED \n5:00 PM TO 5:45 PM \n  \nSPACES LIMITED REGISTER BY PHONE: \n416-231-7070 X 283 OR EMAIL: health.promotion@stonegatechc.org \n 
URL:https://www.stonegatechc.org/event/martial-arts-2/2025-11-25/
LOCATION:Stonegate Community Health Centre\, 10 Neighbourhood Lane\, Unit 201\, Stonegate CHC\, ETOBICOKE\, Ontario\, M8Y 0C5\, Canada
CATEGORIES:Children & Youth
ATTACH;FMTTYPE=image/jpeg:https://www.stonegatechc.org/wp-content/uploads/2025/09/Martial-Arts-2025-e1758126601560.jpg
ORGANIZER;CN="Stonegate CHC":MAILTO:health.promotion@stonegatechc.org
END:VEVENT
BEGIN:VEVENT
DTSTART;TZID=America/Toronto:20251127T090000
DTEND;TZID=America/Toronto:20251127T120000
DTSTAMP:20260423T063819
CREATED:20251006T154810Z
LAST-MODIFIED:20251006T154810Z
UID:10010868-1764234000-1764244800@www.stonegatechc.org
SUMMARY:STONEGATE DROP-IN
DESCRIPTION:STONEGATE DROP-IN \nJoin us at Stonegate Family Drop-in for fun \, engaging activities designed for children aged 0-6 and their caregivers. \nConnect \, play \, and grow together in a welcoming space! \nWhen : Oct 2- Nov 27 \nEvery Thursday  \n09:00 am – 12:00 pm \nWhere: \n10 Neighborhood Ln\, \nSuit 201\, Toronto\, ON \nChildren’s room \n  \nFor more information\, contact early.years@stonegatechc.org \nAttn: Ann or Larissa \n  \nIndoor shoes required. \n 
URL:https://www.stonegatechc.org/event/stonegate-drop-in/2025-11-27/
LOCATION:Stonegate Community Health Centre\, 10 Neighbourhood Lane\, Unit 201\, Stonegate CHC\, ETOBICOKE\, Ontario\, M8Y 0C5\, Canada
CATEGORIES:Children & Youth,Early Years Programs
ATTACH;FMTTYPE=image/jpeg:https://www.stonegatechc.org/wp-content/uploads/2025/10/stonegate-drop-in-e1759765628597.jpg
ORGANIZER;CN="Stonegate CHC":MAILTO:health.promotion@stonegatechc.org
END:VEVENT
END:VCALENDAR