BEGIN:VCALENDAR
VERSION:2.0
PRODID:-//Stonegate Community Health Centre - ECPv6.15.20//NONSGML v1.0//EN
CALSCALE:GREGORIAN
METHOD:PUBLISH
X-ORIGINAL-URL:https://www.stonegatechc.org
X-WR-CALDESC:Events for Stonegate Community Health Centre
REFRESH-INTERVAL;VALUE=DURATION:PT1H
X-Robots-Tag:noindex
X-PUBLISHED-TTL:PT1H
BEGIN:VTIMEZONE
TZID:America/Toronto
BEGIN:DAYLIGHT
TZOFFSETFROM:-0500
TZOFFSETTO:-0400
TZNAME:EDT
DTSTART:20240310T070000
END:DAYLIGHT
BEGIN:STANDARD
TZOFFSETFROM:-0400
TZOFFSETTO:-0500
TZNAME:EST
DTSTART:20241103T060000
END:STANDARD
BEGIN:DAYLIGHT
TZOFFSETFROM:-0500
TZOFFSETTO:-0400
TZNAME:EDT
DTSTART:20250309T070000
END:DAYLIGHT
BEGIN:STANDARD
TZOFFSETFROM:-0400
TZOFFSETTO:-0500
TZNAME:EST
DTSTART:20251102T060000
END:STANDARD
BEGIN:DAYLIGHT
TZOFFSETFROM:-0500
TZOFFSETTO:-0400
TZNAME:EDT
DTSTART:20260308T070000
END:DAYLIGHT
BEGIN:STANDARD
TZOFFSETFROM:-0400
TZOFFSETTO:-0500
TZNAME:EST
DTSTART:20261101T060000
END:STANDARD
END:VTIMEZONE
BEGIN:VEVENT
DTSTART;TZID=America/Toronto:20250818T153000
DTEND;TZID=America/Toronto:20250818T173000
DTSTAMP:20260423T132258
CREATED:20250626T164152Z
LAST-MODIFIED:20250626T164152Z
UID:10010270-1755531000-1755538200@www.stonegatechc.org
SUMMARY:CREATIVE OUTDOOR ADVENTURES
DESCRIPTION:CREATIVE OUTDOOR ADVENTURES \nMONDAY AFTERNOON DROP-IN \nJoin us each week  for outdoor craft  time designed for children ages \n0-6\, a perfect mix of fresh air\, sunshine\, and imagination! \nEach week  brings  a new\, exciting craft  project to spark creativity and make memories. \nWhether it’s painting with nature\, sensory play\, or seasonal art\, your child will love exploring and creating outdoors! \nMonday\, August 11-25 \n3:30 p.m. – 5:30 p.m. \nSunnylea Park \n195 prince Edward Dr \nPlease note: The program will be cancelled in the event of extreme heat\, rain\, or thunderstorms. \nCheck the Stonegate CWC Family Programs Facebook Page \nfor closure updates \nDress for the weather!
URL:https://www.stonegatechc.org/event/creative-outdoor-adventures-2/2025-08-18/
LOCATION:Sunnylea Park\, 195 prince edward drive\, Etobicoke\, ON\, M8Y 3x1\, Canada
CATEGORIES:Children & Youth,Early Years Programs
ATTACH;FMTTYPE=image/jpeg:https://www.stonegatechc.org/wp-content/uploads/2025/06/Creative-Outdoor-Adventures-July-and-August-1-e1750956096609.jpg
ORGANIZER;CN="Stonegate CHC":MAILTO:health.promotion@stonegatechc.org
END:VEVENT
END:VCALENDAR