BEGIN:VCALENDAR
VERSION:2.0
PRODID:-//Stonegate Community Health Centre - ECPv6.15.20//NONSGML v1.0//EN
CALSCALE:GREGORIAN
METHOD:PUBLISH
X-WR-CALNAME:Stonegate Community Health Centre
X-ORIGINAL-URL:https://www.stonegatechc.org
X-WR-CALDESC:Events for Stonegate Community Health Centre
REFRESH-INTERVAL;VALUE=DURATION:PT1H
X-Robots-Tag:noindex
X-PUBLISHED-TTL:PT1H
BEGIN:VTIMEZONE
TZID:America/Toronto
BEGIN:DAYLIGHT
TZOFFSETFROM:-0500
TZOFFSETTO:-0400
TZNAME:EDT
DTSTART:20240310T070000
END:DAYLIGHT
BEGIN:STANDARD
TZOFFSETFROM:-0400
TZOFFSETTO:-0500
TZNAME:EST
DTSTART:20241103T060000
END:STANDARD
BEGIN:DAYLIGHT
TZOFFSETFROM:-0500
TZOFFSETTO:-0400
TZNAME:EDT
DTSTART:20250309T070000
END:DAYLIGHT
BEGIN:STANDARD
TZOFFSETFROM:-0400
TZOFFSETTO:-0500
TZNAME:EST
DTSTART:20251102T060000
END:STANDARD
BEGIN:DAYLIGHT
TZOFFSETFROM:-0500
TZOFFSETTO:-0400
TZNAME:EDT
DTSTART:20260308T070000
END:DAYLIGHT
BEGIN:STANDARD
TZOFFSETFROM:-0400
TZOFFSETTO:-0500
TZNAME:EST
DTSTART:20261101T060000
END:STANDARD
END:VTIMEZONE
BEGIN:VEVENT
DTSTART;TZID=America/Toronto:20251120T090000
DTEND;TZID=America/Toronto:20251120T120000
DTSTAMP:20260423T091341
CREATED:20251006T154810Z
LAST-MODIFIED:20251006T154810Z
UID:10010867-1763629200-1763640000@www.stonegatechc.org
SUMMARY:STONEGATE DROP-IN
DESCRIPTION:STONEGATE DROP-IN \nJoin us at Stonegate Family Drop-in for fun \, engaging activities designed for children aged 0-6 and their caregivers. \nConnect \, play \, and grow together in a welcoming space! \nWhen : Oct 2- Nov 27 \nEvery Thursday  \n09:00 am – 12:00 pm \nWhere: \n10 Neighborhood Ln\, \nSuit 201\, Toronto\, ON \nChildren’s room \n  \nFor more information\, contact early.years@stonegatechc.org \nAttn: Ann or Larissa \n  \nIndoor shoes required. \n 
URL:https://www.stonegatechc.org/event/stonegate-drop-in/2025-11-20/
LOCATION:Stonegate Community Health Centre\, 10 Neighbourhood Lane\, Unit 201\, Stonegate CHC\, ETOBICOKE\, Ontario\, M8Y 0C5\, Canada
CATEGORIES:Children & Youth,Early Years Programs
ATTACH;FMTTYPE=image/jpeg:https://www.stonegatechc.org/wp-content/uploads/2025/10/stonegate-drop-in-e1759765628597.jpg
ORGANIZER;CN="Stonegate CHC":MAILTO:health.promotion@stonegatechc.org
END:VEVENT
END:VCALENDAR