BEGIN:VCALENDAR
VERSION:2.0
PRODID:-//Stonegate Community Health Centre - ECPv6.15.20//NONSGML v1.0//EN
CALSCALE:GREGORIAN
METHOD:PUBLISH
X-WR-CALNAME:Stonegate Community Health Centre
X-ORIGINAL-URL:https://www.stonegatechc.org
X-WR-CALDESC:Events for Stonegate Community Health Centre
REFRESH-INTERVAL;VALUE=DURATION:PT1H
X-Robots-Tag:noindex
X-PUBLISHED-TTL:PT1H
BEGIN:VTIMEZONE
TZID:America/Toronto
BEGIN:DAYLIGHT
TZOFFSETFROM:-0500
TZOFFSETTO:-0400
TZNAME:EDT
DTSTART:20250309T070000
END:DAYLIGHT
BEGIN:STANDARD
TZOFFSETFROM:-0400
TZOFFSETTO:-0500
TZNAME:EST
DTSTART:20251102T060000
END:STANDARD
BEGIN:DAYLIGHT
TZOFFSETFROM:-0500
TZOFFSETTO:-0400
TZNAME:EDT
DTSTART:20260308T070000
END:DAYLIGHT
BEGIN:STANDARD
TZOFFSETFROM:-0400
TZOFFSETTO:-0500
TZNAME:EST
DTSTART:20261101T060000
END:STANDARD
BEGIN:DAYLIGHT
TZOFFSETFROM:-0500
TZOFFSETTO:-0400
TZNAME:EDT
DTSTART:20270314T070000
END:DAYLIGHT
BEGIN:STANDARD
TZOFFSETFROM:-0400
TZOFFSETTO:-0500
TZNAME:EST
DTSTART:20271107T060000
END:STANDARD
END:VTIMEZONE
BEGIN:VEVENT
DTSTART;TZID=America/Toronto:20260706T090000
DTEND;TZID=America/Toronto:20260706T120000
DTSTAMP:20260422T175038
CREATED:20251006T195351Z
LAST-MODIFIED:20260121T170949Z
UID:10010912-1783328400-1783339200@www.stonegatechc.org
SUMMARY:SUNNYLEA DROP-IN
DESCRIPTION:SUNNYLEA DROP-IN \nFor families with children 0-6 of age! \n  \nJoin us for free \, fun\, and educational activities! \nEnjoy interactive play\, storyline\, crafts\, and more . \nConnect with other adults and access valuable resources. \nSeptember 2025 – June 2026 \nMondays                                                                 \n09:00 am – 12:00 pm \nProgram starts Monday \, Sep 8 \n851 Royal York Rd. Etobicoke \, ON\, M9Y2V3 \n  \nDrop in and explore! \nRegistration not required \nFor more information\, contact early.years@stonegatechc.org
URL:https://www.stonegatechc.org/event/sunnylea-drop-in-4/2026-07-06/
LOCATION:Sunnylea Park\, 195 prince edward drive\, Etobicoke\, ON\, M8Y 3x1\, Canada
CATEGORIES:Children & Youth,Early Years Programs
ATTACH;FMTTYPE=image/jpeg:https://www.stonegatechc.org/wp-content/uploads/2025/10/Sunnylea-Family-Drop-in-002-e1759780411438.jpg
ORGANIZER;CN="Stonegate CHC":MAILTO:health.promotion@stonegatechc.org
END:VEVENT
BEGIN:VEVENT
DTSTART;TZID=America/Toronto:20260713T090000
DTEND;TZID=America/Toronto:20260713T120000
DTSTAMP:20260422T175038
CREATED:20251006T195351Z
LAST-MODIFIED:20260121T170949Z
UID:10010913-1783933200-1783944000@www.stonegatechc.org
SUMMARY:SUNNYLEA DROP-IN
DESCRIPTION:SUNNYLEA DROP-IN \nFor families with children 0-6 of age! \n  \nJoin us for free \, fun\, and educational activities! \nEnjoy interactive play\, storyline\, crafts\, and more . \nConnect with other adults and access valuable resources. \nSeptember 2025 – June 2026 \nMondays                                                                 \n09:00 am – 12:00 pm \nProgram starts Monday \, Sep 8 \n851 Royal York Rd. Etobicoke \, ON\, M9Y2V3 \n  \nDrop in and explore! \nRegistration not required \nFor more information\, contact early.years@stonegatechc.org
URL:https://www.stonegatechc.org/event/sunnylea-drop-in-4/2026-07-13/
LOCATION:Sunnylea Park\, 195 prince edward drive\, Etobicoke\, ON\, M8Y 3x1\, Canada
CATEGORIES:Children & Youth,Early Years Programs
ATTACH;FMTTYPE=image/jpeg:https://www.stonegatechc.org/wp-content/uploads/2025/10/Sunnylea-Family-Drop-in-002-e1759780411438.jpg
ORGANIZER;CN="Stonegate CHC":MAILTO:health.promotion@stonegatechc.org
END:VEVENT
BEGIN:VEVENT
DTSTART;TZID=America/Toronto:20260720T090000
DTEND;TZID=America/Toronto:20260720T120000
DTSTAMP:20260422T175038
CREATED:20251006T195351Z
LAST-MODIFIED:20260121T170949Z
UID:10010914-1784538000-1784548800@www.stonegatechc.org
SUMMARY:SUNNYLEA DROP-IN
DESCRIPTION:SUNNYLEA DROP-IN \nFor families with children 0-6 of age! \n  \nJoin us for free \, fun\, and educational activities! \nEnjoy interactive play\, storyline\, crafts\, and more . \nConnect with other adults and access valuable resources. \nSeptember 2025 – June 2026 \nMondays                                                                 \n09:00 am – 12:00 pm \nProgram starts Monday \, Sep 8 \n851 Royal York Rd. Etobicoke \, ON\, M9Y2V3 \n  \nDrop in and explore! \nRegistration not required \nFor more information\, contact early.years@stonegatechc.org
URL:https://www.stonegatechc.org/event/sunnylea-drop-in-4/2026-07-20/
LOCATION:Sunnylea Park\, 195 prince edward drive\, Etobicoke\, ON\, M8Y 3x1\, Canada
CATEGORIES:Children & Youth,Early Years Programs
ATTACH;FMTTYPE=image/jpeg:https://www.stonegatechc.org/wp-content/uploads/2025/10/Sunnylea-Family-Drop-in-002-e1759780411438.jpg
ORGANIZER;CN="Stonegate CHC":MAILTO:health.promotion@stonegatechc.org
END:VEVENT
BEGIN:VEVENT
DTSTART;TZID=America/Toronto:20260727T090000
DTEND;TZID=America/Toronto:20260727T120000
DTSTAMP:20260422T175038
CREATED:20251006T195351Z
LAST-MODIFIED:20260121T170949Z
UID:10010915-1785142800-1785153600@www.stonegatechc.org
SUMMARY:SUNNYLEA DROP-IN
DESCRIPTION:SUNNYLEA DROP-IN \nFor families with children 0-6 of age! \n  \nJoin us for free \, fun\, and educational activities! \nEnjoy interactive play\, storyline\, crafts\, and more . \nConnect with other adults and access valuable resources. \nSeptember 2025 – June 2026 \nMondays                                                                 \n09:00 am – 12:00 pm \nProgram starts Monday \, Sep 8 \n851 Royal York Rd. Etobicoke \, ON\, M9Y2V3 \n  \nDrop in and explore! \nRegistration not required \nFor more information\, contact early.years@stonegatechc.org
URL:https://www.stonegatechc.org/event/sunnylea-drop-in-4/2026-07-27/
LOCATION:Sunnylea Park\, 195 prince edward drive\, Etobicoke\, ON\, M8Y 3x1\, Canada
CATEGORIES:Children & Youth,Early Years Programs
ATTACH;FMTTYPE=image/jpeg:https://www.stonegatechc.org/wp-content/uploads/2025/10/Sunnylea-Family-Drop-in-002-e1759780411438.jpg
ORGANIZER;CN="Stonegate CHC":MAILTO:health.promotion@stonegatechc.org
END:VEVENT
END:VCALENDAR