BEGIN:VCALENDAR
VERSION:2.0
PRODID:-//Stonegate Community Health Centre - ECPv6.15.20//NONSGML v1.0//EN
CALSCALE:GREGORIAN
METHOD:PUBLISH
X-WR-CALNAME:Stonegate Community Health Centre
X-ORIGINAL-URL:https://www.stonegatechc.org
X-WR-CALDESC:Events for Stonegate Community Health Centre
REFRESH-INTERVAL;VALUE=DURATION:PT1H
X-Robots-Tag:noindex
X-PUBLISHED-TTL:PT1H
BEGIN:VTIMEZONE
TZID:America/Toronto
BEGIN:DAYLIGHT
TZOFFSETFROM:-0500
TZOFFSETTO:-0400
TZNAME:EDT
DTSTART:20270314T070000
END:DAYLIGHT
BEGIN:STANDARD
TZOFFSETFROM:-0400
TZOFFSETTO:-0500
TZNAME:EST
DTSTART:20271107T060000
END:STANDARD
BEGIN:DAYLIGHT
TZOFFSETFROM:-0500
TZOFFSETTO:-0400
TZNAME:EDT
DTSTART:20280312T070000
END:DAYLIGHT
BEGIN:STANDARD
TZOFFSETFROM:-0400
TZOFFSETTO:-0500
TZNAME:EST
DTSTART:20281105T060000
END:STANDARD
BEGIN:DAYLIGHT
TZOFFSETFROM:-0500
TZOFFSETTO:-0400
TZNAME:EDT
DTSTART:20290311T070000
END:DAYLIGHT
BEGIN:STANDARD
TZOFFSETFROM:-0400
TZOFFSETTO:-0500
TZNAME:EST
DTSTART:20291104T060000
END:STANDARD
BEGIN:DAYLIGHT
TZOFFSETFROM:-0500
TZOFFSETTO:-0400
TZNAME:EDT
DTSTART:20300310T070000
END:DAYLIGHT
BEGIN:STANDARD
TZOFFSETFROM:-0400
TZOFFSETTO:-0500
TZNAME:EST
DTSTART:20301103T060000
END:STANDARD
END:VTIMEZONE
BEGIN:VEVENT
DTSTART;TZID=America/Toronto:20280907T100000
DTEND;TZID=America/Toronto:20280907T113000
DTSTAMP:20260422T220215
CREATED:20250911T153116Z
LAST-MODIFIED:20250911T153116Z
UID:10010448-1851933600-1851939000@www.stonegatechc.org
SUMMARY:Spanish speaking Women’s Group
DESCRIPTION:“Spanish speaking Women’s Group” \nLadies are invited to participate in a variety of activities such as informative and motivational chats\, arts & crafts\, meditation and relaxation sessions\, cooking demos and more. \nThe group meets every Thursday at 10:00am \nTo register email sonia.demartinez@stonegatechc.org or call 416-231-7070 Ext 239
URL:https://www.stonegatechc.org/event/spanish-speaking-womens-group-2-2/2028-09-07/
CATEGORIES:Women's Programs
ATTACH;FMTTYPE=image/jpeg:https://www.stonegatechc.org/wp-content/uploads/2024/01/Spanish-Womens-Group-new-poster-e1757604627756.jpg
END:VEVENT
BEGIN:VEVENT
DTSTART;TZID=America/Toronto:20280914T100000
DTEND;TZID=America/Toronto:20280914T113000
DTSTAMP:20260422T220215
CREATED:20250911T153116Z
LAST-MODIFIED:20250911T153116Z
UID:10010449-1852538400-1852543800@www.stonegatechc.org
SUMMARY:Spanish speaking Women’s Group
DESCRIPTION:“Spanish speaking Women’s Group” \nLadies are invited to participate in a variety of activities such as informative and motivational chats\, arts & crafts\, meditation and relaxation sessions\, cooking demos and more. \nThe group meets every Thursday at 10:00am \nTo register email sonia.demartinez@stonegatechc.org or call 416-231-7070 Ext 239
URL:https://www.stonegatechc.org/event/spanish-speaking-womens-group-2-2/2028-09-14/
CATEGORIES:Women's Programs
ATTACH;FMTTYPE=image/jpeg:https://www.stonegatechc.org/wp-content/uploads/2024/01/Spanish-Womens-Group-new-poster-e1757604627756.jpg
END:VEVENT
BEGIN:VEVENT
DTSTART;TZID=America/Toronto:20280921T100000
DTEND;TZID=America/Toronto:20280921T113000
DTSTAMP:20260422T220215
CREATED:20250911T153116Z
LAST-MODIFIED:20250911T153116Z
UID:10010450-1853143200-1853148600@www.stonegatechc.org
SUMMARY:Spanish speaking Women’s Group
DESCRIPTION:“Spanish speaking Women’s Group” \nLadies are invited to participate in a variety of activities such as informative and motivational chats\, arts & crafts\, meditation and relaxation sessions\, cooking demos and more. \nThe group meets every Thursday at 10:00am \nTo register email sonia.demartinez@stonegatechc.org or call 416-231-7070 Ext 239
URL:https://www.stonegatechc.org/event/spanish-speaking-womens-group-2-2/2028-09-21/
CATEGORIES:Women's Programs
ATTACH;FMTTYPE=image/jpeg:https://www.stonegatechc.org/wp-content/uploads/2024/01/Spanish-Womens-Group-new-poster-e1757604627756.jpg
END:VEVENT
BEGIN:VEVENT
DTSTART;TZID=America/Toronto:20280928T100000
DTEND;TZID=America/Toronto:20280928T113000
DTSTAMP:20260422T220215
CREATED:20250911T153116Z
LAST-MODIFIED:20250911T153116Z
UID:10010451-1853748000-1853753400@www.stonegatechc.org
SUMMARY:Spanish speaking Women’s Group
DESCRIPTION:“Spanish speaking Women’s Group” \nLadies are invited to participate in a variety of activities such as informative and motivational chats\, arts & crafts\, meditation and relaxation sessions\, cooking demos and more. \nThe group meets every Thursday at 10:00am \nTo register email sonia.demartinez@stonegatechc.org or call 416-231-7070 Ext 239
URL:https://www.stonegatechc.org/event/spanish-speaking-womens-group-2-2/2028-09-28/
CATEGORIES:Women's Programs
ATTACH;FMTTYPE=image/jpeg:https://www.stonegatechc.org/wp-content/uploads/2024/01/Spanish-Womens-Group-new-poster-e1757604627756.jpg
END:VEVENT
BEGIN:VEVENT
DTSTART;TZID=America/Toronto:20281005T100000
DTEND;TZID=America/Toronto:20281005T113000
DTSTAMP:20260422T220215
CREATED:20250911T153116Z
LAST-MODIFIED:20250911T153116Z
UID:10010452-1854352800-1854358200@www.stonegatechc.org
SUMMARY:Spanish speaking Women’s Group
DESCRIPTION:“Spanish speaking Women’s Group” \nLadies are invited to participate in a variety of activities such as informative and motivational chats\, arts & crafts\, meditation and relaxation sessions\, cooking demos and more. \nThe group meets every Thursday at 10:00am \nTo register email sonia.demartinez@stonegatechc.org or call 416-231-7070 Ext 239
URL:https://www.stonegatechc.org/event/spanish-speaking-womens-group-2-2/2028-10-05/
CATEGORIES:Women's Programs
ATTACH;FMTTYPE=image/jpeg:https://www.stonegatechc.org/wp-content/uploads/2024/01/Spanish-Womens-Group-new-poster-e1757604627756.jpg
END:VEVENT
BEGIN:VEVENT
DTSTART;TZID=America/Toronto:20281012T100000
DTEND;TZID=America/Toronto:20281012T113000
DTSTAMP:20260422T220215
CREATED:20250911T153116Z
LAST-MODIFIED:20250911T153116Z
UID:10010453-1854957600-1854963000@www.stonegatechc.org
SUMMARY:Spanish speaking Women’s Group
DESCRIPTION:“Spanish speaking Women’s Group” \nLadies are invited to participate in a variety of activities such as informative and motivational chats\, arts & crafts\, meditation and relaxation sessions\, cooking demos and more. \nThe group meets every Thursday at 10:00am \nTo register email sonia.demartinez@stonegatechc.org or call 416-231-7070 Ext 239
URL:https://www.stonegatechc.org/event/spanish-speaking-womens-group-2-2/2028-10-12/
CATEGORIES:Women's Programs
ATTACH;FMTTYPE=image/jpeg:https://www.stonegatechc.org/wp-content/uploads/2024/01/Spanish-Womens-Group-new-poster-e1757604627756.jpg
END:VEVENT
BEGIN:VEVENT
DTSTART;TZID=America/Toronto:20281019T100000
DTEND;TZID=America/Toronto:20281019T113000
DTSTAMP:20260422T220215
CREATED:20250911T153116Z
LAST-MODIFIED:20250911T153116Z
UID:10010454-1855562400-1855567800@www.stonegatechc.org
SUMMARY:Spanish speaking Women’s Group
DESCRIPTION:“Spanish speaking Women’s Group” \nLadies are invited to participate in a variety of activities such as informative and motivational chats\, arts & crafts\, meditation and relaxation sessions\, cooking demos and more. \nThe group meets every Thursday at 10:00am \nTo register email sonia.demartinez@stonegatechc.org or call 416-231-7070 Ext 239
URL:https://www.stonegatechc.org/event/spanish-speaking-womens-group-2-2/2028-10-19/
CATEGORIES:Women's Programs
ATTACH;FMTTYPE=image/jpeg:https://www.stonegatechc.org/wp-content/uploads/2024/01/Spanish-Womens-Group-new-poster-e1757604627756.jpg
END:VEVENT
BEGIN:VEVENT
DTSTART;TZID=America/Toronto:20281026T100000
DTEND;TZID=America/Toronto:20281026T113000
DTSTAMP:20260422T220215
CREATED:20250911T153116Z
LAST-MODIFIED:20250911T153116Z
UID:10010455-1856167200-1856172600@www.stonegatechc.org
SUMMARY:Spanish speaking Women’s Group
DESCRIPTION:“Spanish speaking Women’s Group” \nLadies are invited to participate in a variety of activities such as informative and motivational chats\, arts & crafts\, meditation and relaxation sessions\, cooking demos and more. \nThe group meets every Thursday at 10:00am \nTo register email sonia.demartinez@stonegatechc.org or call 416-231-7070 Ext 239
URL:https://www.stonegatechc.org/event/spanish-speaking-womens-group-2-2/2028-10-26/
CATEGORIES:Women's Programs
ATTACH;FMTTYPE=image/jpeg:https://www.stonegatechc.org/wp-content/uploads/2024/01/Spanish-Womens-Group-new-poster-e1757604627756.jpg
END:VEVENT
BEGIN:VEVENT
DTSTART;TZID=America/Toronto:20281102T100000
DTEND;TZID=America/Toronto:20281102T113000
DTSTAMP:20260422T220215
CREATED:20250911T153116Z
LAST-MODIFIED:20250911T153116Z
UID:10010456-1856772000-1856777400@www.stonegatechc.org
SUMMARY:Spanish speaking Women’s Group
DESCRIPTION:“Spanish speaking Women’s Group” \nLadies are invited to participate in a variety of activities such as informative and motivational chats\, arts & crafts\, meditation and relaxation sessions\, cooking demos and more. \nThe group meets every Thursday at 10:00am \nTo register email sonia.demartinez@stonegatechc.org or call 416-231-7070 Ext 239
URL:https://www.stonegatechc.org/event/spanish-speaking-womens-group-2-2/2028-11-02/
CATEGORIES:Women's Programs
ATTACH;FMTTYPE=image/jpeg:https://www.stonegatechc.org/wp-content/uploads/2024/01/Spanish-Womens-Group-new-poster-e1757604627756.jpg
END:VEVENT
BEGIN:VEVENT
DTSTART;TZID=America/Toronto:20281109T100000
DTEND;TZID=America/Toronto:20281109T113000
DTSTAMP:20260422T220215
CREATED:20250911T153116Z
LAST-MODIFIED:20250911T153116Z
UID:10010457-1857376800-1857382200@www.stonegatechc.org
SUMMARY:Spanish speaking Women’s Group
DESCRIPTION:“Spanish speaking Women’s Group” \nLadies are invited to participate in a variety of activities such as informative and motivational chats\, arts & crafts\, meditation and relaxation sessions\, cooking demos and more. \nThe group meets every Thursday at 10:00am \nTo register email sonia.demartinez@stonegatechc.org or call 416-231-7070 Ext 239
URL:https://www.stonegatechc.org/event/spanish-speaking-womens-group-2-2/2028-11-09/
CATEGORIES:Women's Programs
ATTACH;FMTTYPE=image/jpeg:https://www.stonegatechc.org/wp-content/uploads/2024/01/Spanish-Womens-Group-new-poster-e1757604627756.jpg
END:VEVENT
BEGIN:VEVENT
DTSTART;TZID=America/Toronto:20281116T100000
DTEND;TZID=America/Toronto:20281116T113000
DTSTAMP:20260422T220215
CREATED:20250911T153116Z
LAST-MODIFIED:20250911T153116Z
UID:10010458-1857981600-1857987000@www.stonegatechc.org
SUMMARY:Spanish speaking Women’s Group
DESCRIPTION:“Spanish speaking Women’s Group” \nLadies are invited to participate in a variety of activities such as informative and motivational chats\, arts & crafts\, meditation and relaxation sessions\, cooking demos and more. \nThe group meets every Thursday at 10:00am \nTo register email sonia.demartinez@stonegatechc.org or call 416-231-7070 Ext 239
URL:https://www.stonegatechc.org/event/spanish-speaking-womens-group-2-2/2028-11-16/
CATEGORIES:Women's Programs
ATTACH;FMTTYPE=image/jpeg:https://www.stonegatechc.org/wp-content/uploads/2024/01/Spanish-Womens-Group-new-poster-e1757604627756.jpg
END:VEVENT
BEGIN:VEVENT
DTSTART;TZID=America/Toronto:20281123T100000
DTEND;TZID=America/Toronto:20281123T113000
DTSTAMP:20260422T220215
CREATED:20250911T153116Z
LAST-MODIFIED:20250911T153116Z
UID:10010459-1858586400-1858591800@www.stonegatechc.org
SUMMARY:Spanish speaking Women’s Group
DESCRIPTION:“Spanish speaking Women’s Group” \nLadies are invited to participate in a variety of activities such as informative and motivational chats\, arts & crafts\, meditation and relaxation sessions\, cooking demos and more. \nThe group meets every Thursday at 10:00am \nTo register email sonia.demartinez@stonegatechc.org or call 416-231-7070 Ext 239
URL:https://www.stonegatechc.org/event/spanish-speaking-womens-group-2-2/2028-11-23/
CATEGORIES:Women's Programs
ATTACH;FMTTYPE=image/jpeg:https://www.stonegatechc.org/wp-content/uploads/2024/01/Spanish-Womens-Group-new-poster-e1757604627756.jpg
END:VEVENT
BEGIN:VEVENT
DTSTART;TZID=America/Toronto:20281130T100000
DTEND;TZID=America/Toronto:20281130T113000
DTSTAMP:20260422T220215
CREATED:20250911T153116Z
LAST-MODIFIED:20250911T153116Z
UID:10010460-1859191200-1859196600@www.stonegatechc.org
SUMMARY:Spanish speaking Women’s Group
DESCRIPTION:“Spanish speaking Women’s Group” \nLadies are invited to participate in a variety of activities such as informative and motivational chats\, arts & crafts\, meditation and relaxation sessions\, cooking demos and more. \nThe group meets every Thursday at 10:00am \nTo register email sonia.demartinez@stonegatechc.org or call 416-231-7070 Ext 239
URL:https://www.stonegatechc.org/event/spanish-speaking-womens-group-2-2/2028-11-30/
CATEGORIES:Women's Programs
ATTACH;FMTTYPE=image/jpeg:https://www.stonegatechc.org/wp-content/uploads/2024/01/Spanish-Womens-Group-new-poster-e1757604627756.jpg
END:VEVENT
BEGIN:VEVENT
DTSTART;TZID=America/Toronto:20281207T100000
DTEND;TZID=America/Toronto:20281207T113000
DTSTAMP:20260422T220215
CREATED:20250911T153116Z
LAST-MODIFIED:20250911T153116Z
UID:10010461-1859796000-1859801400@www.stonegatechc.org
SUMMARY:Spanish speaking Women’s Group
DESCRIPTION:“Spanish speaking Women’s Group” \nLadies are invited to participate in a variety of activities such as informative and motivational chats\, arts & crafts\, meditation and relaxation sessions\, cooking demos and more. \nThe group meets every Thursday at 10:00am \nTo register email sonia.demartinez@stonegatechc.org or call 416-231-7070 Ext 239
URL:https://www.stonegatechc.org/event/spanish-speaking-womens-group-2-2/2028-12-07/
CATEGORIES:Women's Programs
ATTACH;FMTTYPE=image/jpeg:https://www.stonegatechc.org/wp-content/uploads/2024/01/Spanish-Womens-Group-new-poster-e1757604627756.jpg
END:VEVENT
BEGIN:VEVENT
DTSTART;TZID=America/Toronto:20281214T100000
DTEND;TZID=America/Toronto:20281214T113000
DTSTAMP:20260422T220215
CREATED:20250911T153116Z
LAST-MODIFIED:20250911T153116Z
UID:10010462-1860400800-1860406200@www.stonegatechc.org
SUMMARY:Spanish speaking Women’s Group
DESCRIPTION:“Spanish speaking Women’s Group” \nLadies are invited to participate in a variety of activities such as informative and motivational chats\, arts & crafts\, meditation and relaxation sessions\, cooking demos and more. \nThe group meets every Thursday at 10:00am \nTo register email sonia.demartinez@stonegatechc.org or call 416-231-7070 Ext 239
URL:https://www.stonegatechc.org/event/spanish-speaking-womens-group-2-2/2028-12-14/
CATEGORIES:Women's Programs
ATTACH;FMTTYPE=image/jpeg:https://www.stonegatechc.org/wp-content/uploads/2024/01/Spanish-Womens-Group-new-poster-e1757604627756.jpg
END:VEVENT
BEGIN:VEVENT
DTSTART;TZID=America/Toronto:20281221T100000
DTEND;TZID=America/Toronto:20281221T113000
DTSTAMP:20260422T220215
CREATED:20250911T153116Z
LAST-MODIFIED:20250911T153116Z
UID:10010463-1861005600-1861011000@www.stonegatechc.org
SUMMARY:Spanish speaking Women’s Group
DESCRIPTION:“Spanish speaking Women’s Group” \nLadies are invited to participate in a variety of activities such as informative and motivational chats\, arts & crafts\, meditation and relaxation sessions\, cooking demos and more. \nThe group meets every Thursday at 10:00am \nTo register email sonia.demartinez@stonegatechc.org or call 416-231-7070 Ext 239
URL:https://www.stonegatechc.org/event/spanish-speaking-womens-group-2-2/2028-12-21/
CATEGORIES:Women's Programs
ATTACH;FMTTYPE=image/jpeg:https://www.stonegatechc.org/wp-content/uploads/2024/01/Spanish-Womens-Group-new-poster-e1757604627756.jpg
END:VEVENT
BEGIN:VEVENT
DTSTART;TZID=America/Toronto:20281228T100000
DTEND;TZID=America/Toronto:20281228T113000
DTSTAMP:20260422T220215
CREATED:20250911T153116Z
LAST-MODIFIED:20250911T153116Z
UID:10010464-1861610400-1861615800@www.stonegatechc.org
SUMMARY:Spanish speaking Women’s Group
DESCRIPTION:“Spanish speaking Women’s Group” \nLadies are invited to participate in a variety of activities such as informative and motivational chats\, arts & crafts\, meditation and relaxation sessions\, cooking demos and more. \nThe group meets every Thursday at 10:00am \nTo register email sonia.demartinez@stonegatechc.org or call 416-231-7070 Ext 239
URL:https://www.stonegatechc.org/event/spanish-speaking-womens-group-2-2/2028-12-28/
CATEGORIES:Women's Programs
ATTACH;FMTTYPE=image/jpeg:https://www.stonegatechc.org/wp-content/uploads/2024/01/Spanish-Womens-Group-new-poster-e1757604627756.jpg
END:VEVENT
BEGIN:VEVENT
DTSTART;TZID=America/Toronto:20290104T100000
DTEND;TZID=America/Toronto:20290104T113000
DTSTAMP:20260422T220215
CREATED:20250911T153116Z
LAST-MODIFIED:20250911T153116Z
UID:10010465-1862215200-1862220600@www.stonegatechc.org
SUMMARY:Spanish speaking Women’s Group
DESCRIPTION:“Spanish speaking Women’s Group” \nLadies are invited to participate in a variety of activities such as informative and motivational chats\, arts & crafts\, meditation and relaxation sessions\, cooking demos and more. \nThe group meets every Thursday at 10:00am \nTo register email sonia.demartinez@stonegatechc.org or call 416-231-7070 Ext 239
URL:https://www.stonegatechc.org/event/spanish-speaking-womens-group-2-2/2029-01-04/
CATEGORIES:Women's Programs
ATTACH;FMTTYPE=image/jpeg:https://www.stonegatechc.org/wp-content/uploads/2024/01/Spanish-Womens-Group-new-poster-e1757604627756.jpg
END:VEVENT
BEGIN:VEVENT
DTSTART;TZID=America/Toronto:20290111T100000
DTEND;TZID=America/Toronto:20290111T113000
DTSTAMP:20260422T220215
CREATED:20250911T153116Z
LAST-MODIFIED:20250911T153116Z
UID:10010466-1862820000-1862825400@www.stonegatechc.org
SUMMARY:Spanish speaking Women’s Group
DESCRIPTION:“Spanish speaking Women’s Group” \nLadies are invited to participate in a variety of activities such as informative and motivational chats\, arts & crafts\, meditation and relaxation sessions\, cooking demos and more. \nThe group meets every Thursday at 10:00am \nTo register email sonia.demartinez@stonegatechc.org or call 416-231-7070 Ext 239
URL:https://www.stonegatechc.org/event/spanish-speaking-womens-group-2-2/2029-01-11/
CATEGORIES:Women's Programs
ATTACH;FMTTYPE=image/jpeg:https://www.stonegatechc.org/wp-content/uploads/2024/01/Spanish-Womens-Group-new-poster-e1757604627756.jpg
END:VEVENT
BEGIN:VEVENT
DTSTART;TZID=America/Toronto:20290118T100000
DTEND;TZID=America/Toronto:20290118T113000
DTSTAMP:20260422T220215
CREATED:20250911T153116Z
LAST-MODIFIED:20250911T153116Z
UID:10010467-1863424800-1863430200@www.stonegatechc.org
SUMMARY:Spanish speaking Women’s Group
DESCRIPTION:“Spanish speaking Women’s Group” \nLadies are invited to participate in a variety of activities such as informative and motivational chats\, arts & crafts\, meditation and relaxation sessions\, cooking demos and more. \nThe group meets every Thursday at 10:00am \nTo register email sonia.demartinez@stonegatechc.org or call 416-231-7070 Ext 239
URL:https://www.stonegatechc.org/event/spanish-speaking-womens-group-2-2/2029-01-18/
CATEGORIES:Women's Programs
ATTACH;FMTTYPE=image/jpeg:https://www.stonegatechc.org/wp-content/uploads/2024/01/Spanish-Womens-Group-new-poster-e1757604627756.jpg
END:VEVENT
BEGIN:VEVENT
DTSTART;TZID=America/Toronto:20290125T100000
DTEND;TZID=America/Toronto:20290125T113000
DTSTAMP:20260422T220215
CREATED:20250911T153116Z
LAST-MODIFIED:20250911T153116Z
UID:10010468-1864029600-1864035000@www.stonegatechc.org
SUMMARY:Spanish speaking Women’s Group
DESCRIPTION:“Spanish speaking Women’s Group” \nLadies are invited to participate in a variety of activities such as informative and motivational chats\, arts & crafts\, meditation and relaxation sessions\, cooking demos and more. \nThe group meets every Thursday at 10:00am \nTo register email sonia.demartinez@stonegatechc.org or call 416-231-7070 Ext 239
URL:https://www.stonegatechc.org/event/spanish-speaking-womens-group-2-2/2029-01-25/
CATEGORIES:Women's Programs
ATTACH;FMTTYPE=image/jpeg:https://www.stonegatechc.org/wp-content/uploads/2024/01/Spanish-Womens-Group-new-poster-e1757604627756.jpg
END:VEVENT
BEGIN:VEVENT
DTSTART;TZID=America/Toronto:20290201T100000
DTEND;TZID=America/Toronto:20290201T113000
DTSTAMP:20260422T220215
CREATED:20250911T153116Z
LAST-MODIFIED:20250911T153116Z
UID:10010469-1864634400-1864639800@www.stonegatechc.org
SUMMARY:Spanish speaking Women’s Group
DESCRIPTION:“Spanish speaking Women’s Group” \nLadies are invited to participate in a variety of activities such as informative and motivational chats\, arts & crafts\, meditation and relaxation sessions\, cooking demos and more. \nThe group meets every Thursday at 10:00am \nTo register email sonia.demartinez@stonegatechc.org or call 416-231-7070 Ext 239
URL:https://www.stonegatechc.org/event/spanish-speaking-womens-group-2-2/2029-02-01/
CATEGORIES:Women's Programs
ATTACH;FMTTYPE=image/jpeg:https://www.stonegatechc.org/wp-content/uploads/2024/01/Spanish-Womens-Group-new-poster-e1757604627756.jpg
END:VEVENT
BEGIN:VEVENT
DTSTART;TZID=America/Toronto:20290208T100000
DTEND;TZID=America/Toronto:20290208T113000
DTSTAMP:20260422T220215
CREATED:20250911T153116Z
LAST-MODIFIED:20250911T153116Z
UID:10010470-1865239200-1865244600@www.stonegatechc.org
SUMMARY:Spanish speaking Women’s Group
DESCRIPTION:“Spanish speaking Women’s Group” \nLadies are invited to participate in a variety of activities such as informative and motivational chats\, arts & crafts\, meditation and relaxation sessions\, cooking demos and more. \nThe group meets every Thursday at 10:00am \nTo register email sonia.demartinez@stonegatechc.org or call 416-231-7070 Ext 239
URL:https://www.stonegatechc.org/event/spanish-speaking-womens-group-2-2/2029-02-08/
CATEGORIES:Women's Programs
ATTACH;FMTTYPE=image/jpeg:https://www.stonegatechc.org/wp-content/uploads/2024/01/Spanish-Womens-Group-new-poster-e1757604627756.jpg
END:VEVENT
BEGIN:VEVENT
DTSTART;TZID=America/Toronto:20290215T100000
DTEND;TZID=America/Toronto:20290215T113000
DTSTAMP:20260422T220215
CREATED:20250911T153116Z
LAST-MODIFIED:20250911T153116Z
UID:10010471-1865844000-1865849400@www.stonegatechc.org
SUMMARY:Spanish speaking Women’s Group
DESCRIPTION:“Spanish speaking Women’s Group” \nLadies are invited to participate in a variety of activities such as informative and motivational chats\, arts & crafts\, meditation and relaxation sessions\, cooking demos and more. \nThe group meets every Thursday at 10:00am \nTo register email sonia.demartinez@stonegatechc.org or call 416-231-7070 Ext 239
URL:https://www.stonegatechc.org/event/spanish-speaking-womens-group-2-2/2029-02-15/
CATEGORIES:Women's Programs
ATTACH;FMTTYPE=image/jpeg:https://www.stonegatechc.org/wp-content/uploads/2024/01/Spanish-Womens-Group-new-poster-e1757604627756.jpg
END:VEVENT
BEGIN:VEVENT
DTSTART;TZID=America/Toronto:20290222T100000
DTEND;TZID=America/Toronto:20290222T113000
DTSTAMP:20260422T220215
CREATED:20250911T153116Z
LAST-MODIFIED:20250911T153116Z
UID:10010472-1866448800-1866454200@www.stonegatechc.org
SUMMARY:Spanish speaking Women’s Group
DESCRIPTION:“Spanish speaking Women’s Group” \nLadies are invited to participate in a variety of activities such as informative and motivational chats\, arts & crafts\, meditation and relaxation sessions\, cooking demos and more. \nThe group meets every Thursday at 10:00am \nTo register email sonia.demartinez@stonegatechc.org or call 416-231-7070 Ext 239
URL:https://www.stonegatechc.org/event/spanish-speaking-womens-group-2-2/2029-02-22/
CATEGORIES:Women's Programs
ATTACH;FMTTYPE=image/jpeg:https://www.stonegatechc.org/wp-content/uploads/2024/01/Spanish-Womens-Group-new-poster-e1757604627756.jpg
END:VEVENT
BEGIN:VEVENT
DTSTART;TZID=America/Toronto:20290301T100000
DTEND;TZID=America/Toronto:20290301T113000
DTSTAMP:20260422T220215
CREATED:20250911T153116Z
LAST-MODIFIED:20250911T153116Z
UID:10010473-1867053600-1867059000@www.stonegatechc.org
SUMMARY:Spanish speaking Women’s Group
DESCRIPTION:“Spanish speaking Women’s Group” \nLadies are invited to participate in a variety of activities such as informative and motivational chats\, arts & crafts\, meditation and relaxation sessions\, cooking demos and more. \nThe group meets every Thursday at 10:00am \nTo register email sonia.demartinez@stonegatechc.org or call 416-231-7070 Ext 239
URL:https://www.stonegatechc.org/event/spanish-speaking-womens-group-2-2/2029-03-01/
CATEGORIES:Women's Programs
ATTACH;FMTTYPE=image/jpeg:https://www.stonegatechc.org/wp-content/uploads/2024/01/Spanish-Womens-Group-new-poster-e1757604627756.jpg
END:VEVENT
BEGIN:VEVENT
DTSTART;TZID=America/Toronto:20290308T100000
DTEND;TZID=America/Toronto:20290308T113000
DTSTAMP:20260422T220215
CREATED:20250911T153116Z
LAST-MODIFIED:20250911T153116Z
UID:10010474-1867658400-1867663800@www.stonegatechc.org
SUMMARY:Spanish speaking Women’s Group
DESCRIPTION:“Spanish speaking Women’s Group” \nLadies are invited to participate in a variety of activities such as informative and motivational chats\, arts & crafts\, meditation and relaxation sessions\, cooking demos and more. \nThe group meets every Thursday at 10:00am \nTo register email sonia.demartinez@stonegatechc.org or call 416-231-7070 Ext 239
URL:https://www.stonegatechc.org/event/spanish-speaking-womens-group-2-2/2029-03-08/
CATEGORIES:Women's Programs
ATTACH;FMTTYPE=image/jpeg:https://www.stonegatechc.org/wp-content/uploads/2024/01/Spanish-Womens-Group-new-poster-e1757604627756.jpg
END:VEVENT
BEGIN:VEVENT
DTSTART;TZID=America/Toronto:20290315T100000
DTEND;TZID=America/Toronto:20290315T113000
DTSTAMP:20260422T220215
CREATED:20250911T153116Z
LAST-MODIFIED:20250911T153116Z
UID:10010475-1868263200-1868268600@www.stonegatechc.org
SUMMARY:Spanish speaking Women’s Group
DESCRIPTION:“Spanish speaking Women’s Group” \nLadies are invited to participate in a variety of activities such as informative and motivational chats\, arts & crafts\, meditation and relaxation sessions\, cooking demos and more. \nThe group meets every Thursday at 10:00am \nTo register email sonia.demartinez@stonegatechc.org or call 416-231-7070 Ext 239
URL:https://www.stonegatechc.org/event/spanish-speaking-womens-group-2-2/2029-03-15/
CATEGORIES:Women's Programs
ATTACH;FMTTYPE=image/jpeg:https://www.stonegatechc.org/wp-content/uploads/2024/01/Spanish-Womens-Group-new-poster-e1757604627756.jpg
END:VEVENT
BEGIN:VEVENT
DTSTART;TZID=America/Toronto:20290322T100000
DTEND;TZID=America/Toronto:20290322T113000
DTSTAMP:20260422T220215
CREATED:20250911T153116Z
LAST-MODIFIED:20250911T153116Z
UID:10010476-1868868000-1868873400@www.stonegatechc.org
SUMMARY:Spanish speaking Women’s Group
DESCRIPTION:“Spanish speaking Women’s Group” \nLadies are invited to participate in a variety of activities such as informative and motivational chats\, arts & crafts\, meditation and relaxation sessions\, cooking demos and more. \nThe group meets every Thursday at 10:00am \nTo register email sonia.demartinez@stonegatechc.org or call 416-231-7070 Ext 239
URL:https://www.stonegatechc.org/event/spanish-speaking-womens-group-2-2/2029-03-22/
CATEGORIES:Women's Programs
ATTACH;FMTTYPE=image/jpeg:https://www.stonegatechc.org/wp-content/uploads/2024/01/Spanish-Womens-Group-new-poster-e1757604627756.jpg
END:VEVENT
BEGIN:VEVENT
DTSTART;TZID=America/Toronto:20290329T100000
DTEND;TZID=America/Toronto:20290329T113000
DTSTAMP:20260422T220215
CREATED:20250911T153116Z
LAST-MODIFIED:20250911T153116Z
UID:10010477-1869472800-1869478200@www.stonegatechc.org
SUMMARY:Spanish speaking Women’s Group
DESCRIPTION:“Spanish speaking Women’s Group” \nLadies are invited to participate in a variety of activities such as informative and motivational chats\, arts & crafts\, meditation and relaxation sessions\, cooking demos and more. \nThe group meets every Thursday at 10:00am \nTo register email sonia.demartinez@stonegatechc.org or call 416-231-7070 Ext 239
URL:https://www.stonegatechc.org/event/spanish-speaking-womens-group-2-2/2029-03-29/
CATEGORIES:Women's Programs
ATTACH;FMTTYPE=image/jpeg:https://www.stonegatechc.org/wp-content/uploads/2024/01/Spanish-Womens-Group-new-poster-e1757604627756.jpg
END:VEVENT
END:VCALENDAR