BEGIN:VCALENDAR
VERSION:2.0
PRODID:-//Stonegate Community Health Centre - ECPv6.15.20//NONSGML v1.0//EN
CALSCALE:GREGORIAN
METHOD:PUBLISH
X-WR-CALNAME:Stonegate Community Health Centre
X-ORIGINAL-URL:https://www.stonegatechc.org
X-WR-CALDESC:Events for Stonegate Community Health Centre
REFRESH-INTERVAL;VALUE=DURATION:PT1H
X-Robots-Tag:noindex
X-PUBLISHED-TTL:PT1H
BEGIN:VTIMEZONE
TZID:America/Toronto
BEGIN:DAYLIGHT
TZOFFSETFROM:-0500
TZOFFSETTO:-0400
TZNAME:EDT
DTSTART:20290311T070000
END:DAYLIGHT
BEGIN:STANDARD
TZOFFSETFROM:-0400
TZOFFSETTO:-0500
TZNAME:EST
DTSTART:20291104T060000
END:STANDARD
BEGIN:DAYLIGHT
TZOFFSETFROM:-0500
TZOFFSETTO:-0400
TZNAME:EDT
DTSTART:20300310T070000
END:DAYLIGHT
BEGIN:STANDARD
TZOFFSETFROM:-0400
TZOFFSETTO:-0500
TZNAME:EST
DTSTART:20301103T060000
END:STANDARD
BEGIN:DAYLIGHT
TZOFFSETFROM:-0500
TZOFFSETTO:-0400
TZNAME:EDT
DTSTART:20310309T070000
END:DAYLIGHT
BEGIN:STANDARD
TZOFFSETFROM:-0400
TZOFFSETTO:-0500
TZNAME:EST
DTSTART:20311102T060000
END:STANDARD
END:VTIMEZONE
BEGIN:VEVENT
DTSTART;TZID=America/Toronto:20300418T100000
DTEND;TZID=America/Toronto:20300418T113000
DTSTAMP:20260423T025505
CREATED:20250911T153116Z
LAST-MODIFIED:20250911T153116Z
UID:10010532-1902736800-1902742200@www.stonegatechc.org
SUMMARY:Spanish speaking Women’s Group
DESCRIPTION:“Spanish speaking Women’s Group” \nLadies are invited to participate in a variety of activities such as informative and motivational chats\, arts & crafts\, meditation and relaxation sessions\, cooking demos and more. \nThe group meets every Thursday at 10:00am \nTo register email sonia.demartinez@stonegatechc.org or call 416-231-7070 Ext 239
URL:https://www.stonegatechc.org/event/spanish-speaking-womens-group-2-2/2030-04-18/
CATEGORIES:Women's Programs
ATTACH;FMTTYPE=image/jpeg:https://www.stonegatechc.org/wp-content/uploads/2024/01/Spanish-Womens-Group-new-poster-e1757604627756.jpg
END:VEVENT
BEGIN:VEVENT
DTSTART;TZID=America/Toronto:20300425T100000
DTEND;TZID=America/Toronto:20300425T113000
DTSTAMP:20260423T025505
CREATED:20250911T153116Z
LAST-MODIFIED:20250911T153116Z
UID:10010533-1903341600-1903347000@www.stonegatechc.org
SUMMARY:Spanish speaking Women’s Group
DESCRIPTION:“Spanish speaking Women’s Group” \nLadies are invited to participate in a variety of activities such as informative and motivational chats\, arts & crafts\, meditation and relaxation sessions\, cooking demos and more. \nThe group meets every Thursday at 10:00am \nTo register email sonia.demartinez@stonegatechc.org or call 416-231-7070 Ext 239
URL:https://www.stonegatechc.org/event/spanish-speaking-womens-group-2-2/2030-04-25/
CATEGORIES:Women's Programs
ATTACH;FMTTYPE=image/jpeg:https://www.stonegatechc.org/wp-content/uploads/2024/01/Spanish-Womens-Group-new-poster-e1757604627756.jpg
END:VEVENT
BEGIN:VEVENT
DTSTART;TZID=America/Toronto:20300502T100000
DTEND;TZID=America/Toronto:20300502T113000
DTSTAMP:20260423T025505
CREATED:20250911T153116Z
LAST-MODIFIED:20250911T153116Z
UID:10010534-1903946400-1903951800@www.stonegatechc.org
SUMMARY:Spanish speaking Women’s Group
DESCRIPTION:“Spanish speaking Women’s Group” \nLadies are invited to participate in a variety of activities such as informative and motivational chats\, arts & crafts\, meditation and relaxation sessions\, cooking demos and more. \nThe group meets every Thursday at 10:00am \nTo register email sonia.demartinez@stonegatechc.org or call 416-231-7070 Ext 239
URL:https://www.stonegatechc.org/event/spanish-speaking-womens-group-2-2/2030-05-02/
CATEGORIES:Women's Programs
ATTACH;FMTTYPE=image/jpeg:https://www.stonegatechc.org/wp-content/uploads/2024/01/Spanish-Womens-Group-new-poster-e1757604627756.jpg
END:VEVENT
BEGIN:VEVENT
DTSTART;TZID=America/Toronto:20300509T100000
DTEND;TZID=America/Toronto:20300509T113000
DTSTAMP:20260423T025505
CREATED:20250911T153116Z
LAST-MODIFIED:20250911T153116Z
UID:10010535-1904551200-1904556600@www.stonegatechc.org
SUMMARY:Spanish speaking Women’s Group
DESCRIPTION:“Spanish speaking Women’s Group” \nLadies are invited to participate in a variety of activities such as informative and motivational chats\, arts & crafts\, meditation and relaxation sessions\, cooking demos and more. \nThe group meets every Thursday at 10:00am \nTo register email sonia.demartinez@stonegatechc.org or call 416-231-7070 Ext 239
URL:https://www.stonegatechc.org/event/spanish-speaking-womens-group-2-2/2030-05-09/
CATEGORIES:Women's Programs
ATTACH;FMTTYPE=image/jpeg:https://www.stonegatechc.org/wp-content/uploads/2024/01/Spanish-Womens-Group-new-poster-e1757604627756.jpg
END:VEVENT
BEGIN:VEVENT
DTSTART;TZID=America/Toronto:20300516T100000
DTEND;TZID=America/Toronto:20300516T113000
DTSTAMP:20260423T025505
CREATED:20250911T153116Z
LAST-MODIFIED:20250911T153116Z
UID:10010536-1905156000-1905161400@www.stonegatechc.org
SUMMARY:Spanish speaking Women’s Group
DESCRIPTION:“Spanish speaking Women’s Group” \nLadies are invited to participate in a variety of activities such as informative and motivational chats\, arts & crafts\, meditation and relaxation sessions\, cooking demos and more. \nThe group meets every Thursday at 10:00am \nTo register email sonia.demartinez@stonegatechc.org or call 416-231-7070 Ext 239
URL:https://www.stonegatechc.org/event/spanish-speaking-womens-group-2-2/2030-05-16/
CATEGORIES:Women's Programs
ATTACH;FMTTYPE=image/jpeg:https://www.stonegatechc.org/wp-content/uploads/2024/01/Spanish-Womens-Group-new-poster-e1757604627756.jpg
END:VEVENT
BEGIN:VEVENT
DTSTART;TZID=America/Toronto:20300523T100000
DTEND;TZID=America/Toronto:20300523T113000
DTSTAMP:20260423T025505
CREATED:20250911T153116Z
LAST-MODIFIED:20250911T153116Z
UID:10010537-1905760800-1905766200@www.stonegatechc.org
SUMMARY:Spanish speaking Women’s Group
DESCRIPTION:“Spanish speaking Women’s Group” \nLadies are invited to participate in a variety of activities such as informative and motivational chats\, arts & crafts\, meditation and relaxation sessions\, cooking demos and more. \nThe group meets every Thursday at 10:00am \nTo register email sonia.demartinez@stonegatechc.org or call 416-231-7070 Ext 239
URL:https://www.stonegatechc.org/event/spanish-speaking-womens-group-2-2/2030-05-23/
CATEGORIES:Women's Programs
ATTACH;FMTTYPE=image/jpeg:https://www.stonegatechc.org/wp-content/uploads/2024/01/Spanish-Womens-Group-new-poster-e1757604627756.jpg
END:VEVENT
BEGIN:VEVENT
DTSTART;TZID=America/Toronto:20300530T100000
DTEND;TZID=America/Toronto:20300530T113000
DTSTAMP:20260423T025505
CREATED:20250911T153116Z
LAST-MODIFIED:20250911T153116Z
UID:10010538-1906365600-1906371000@www.stonegatechc.org
SUMMARY:Spanish speaking Women’s Group
DESCRIPTION:“Spanish speaking Women’s Group” \nLadies are invited to participate in a variety of activities such as informative and motivational chats\, arts & crafts\, meditation and relaxation sessions\, cooking demos and more. \nThe group meets every Thursday at 10:00am \nTo register email sonia.demartinez@stonegatechc.org or call 416-231-7070 Ext 239
URL:https://www.stonegatechc.org/event/spanish-speaking-womens-group-2-2/2030-05-30/
CATEGORIES:Women's Programs
ATTACH;FMTTYPE=image/jpeg:https://www.stonegatechc.org/wp-content/uploads/2024/01/Spanish-Womens-Group-new-poster-e1757604627756.jpg
END:VEVENT
BEGIN:VEVENT
DTSTART;TZID=America/Toronto:20300606T100000
DTEND;TZID=America/Toronto:20300606T113000
DTSTAMP:20260423T025505
CREATED:20250911T153116Z
LAST-MODIFIED:20250911T153116Z
UID:10010539-1906970400-1906975800@www.stonegatechc.org
SUMMARY:Spanish speaking Women’s Group
DESCRIPTION:“Spanish speaking Women’s Group” \nLadies are invited to participate in a variety of activities such as informative and motivational chats\, arts & crafts\, meditation and relaxation sessions\, cooking demos and more. \nThe group meets every Thursday at 10:00am \nTo register email sonia.demartinez@stonegatechc.org or call 416-231-7070 Ext 239
URL:https://www.stonegatechc.org/event/spanish-speaking-womens-group-2-2/2030-06-06/
CATEGORIES:Women's Programs
ATTACH;FMTTYPE=image/jpeg:https://www.stonegatechc.org/wp-content/uploads/2024/01/Spanish-Womens-Group-new-poster-e1757604627756.jpg
END:VEVENT
BEGIN:VEVENT
DTSTART;TZID=America/Toronto:20300613T100000
DTEND;TZID=America/Toronto:20300613T113000
DTSTAMP:20260423T025505
CREATED:20250911T153116Z
LAST-MODIFIED:20250911T153116Z
UID:10010540-1907575200-1907580600@www.stonegatechc.org
SUMMARY:Spanish speaking Women’s Group
DESCRIPTION:“Spanish speaking Women’s Group” \nLadies are invited to participate in a variety of activities such as informative and motivational chats\, arts & crafts\, meditation and relaxation sessions\, cooking demos and more. \nThe group meets every Thursday at 10:00am \nTo register email sonia.demartinez@stonegatechc.org or call 416-231-7070 Ext 239
URL:https://www.stonegatechc.org/event/spanish-speaking-womens-group-2-2/2030-06-13/
CATEGORIES:Women's Programs
ATTACH;FMTTYPE=image/jpeg:https://www.stonegatechc.org/wp-content/uploads/2024/01/Spanish-Womens-Group-new-poster-e1757604627756.jpg
END:VEVENT
BEGIN:VEVENT
DTSTART;TZID=America/Toronto:20300620T100000
DTEND;TZID=America/Toronto:20300620T113000
DTSTAMP:20260423T025505
CREATED:20250911T153116Z
LAST-MODIFIED:20250911T153116Z
UID:10010541-1908180000-1908185400@www.stonegatechc.org
SUMMARY:Spanish speaking Women’s Group
DESCRIPTION:“Spanish speaking Women’s Group” \nLadies are invited to participate in a variety of activities such as informative and motivational chats\, arts & crafts\, meditation and relaxation sessions\, cooking demos and more. \nThe group meets every Thursday at 10:00am \nTo register email sonia.demartinez@stonegatechc.org or call 416-231-7070 Ext 239
URL:https://www.stonegatechc.org/event/spanish-speaking-womens-group-2-2/2030-06-20/
CATEGORIES:Women's Programs
ATTACH;FMTTYPE=image/jpeg:https://www.stonegatechc.org/wp-content/uploads/2024/01/Spanish-Womens-Group-new-poster-e1757604627756.jpg
END:VEVENT
BEGIN:VEVENT
DTSTART;TZID=America/Toronto:20300627T100000
DTEND;TZID=America/Toronto:20300627T113000
DTSTAMP:20260423T025505
CREATED:20250911T153116Z
LAST-MODIFIED:20250911T153116Z
UID:10010542-1908784800-1908790200@www.stonegatechc.org
SUMMARY:Spanish speaking Women’s Group
DESCRIPTION:“Spanish speaking Women’s Group” \nLadies are invited to participate in a variety of activities such as informative and motivational chats\, arts & crafts\, meditation and relaxation sessions\, cooking demos and more. \nThe group meets every Thursday at 10:00am \nTo register email sonia.demartinez@stonegatechc.org or call 416-231-7070 Ext 239
URL:https://www.stonegatechc.org/event/spanish-speaking-womens-group-2-2/2030-06-27/
CATEGORIES:Women's Programs
ATTACH;FMTTYPE=image/jpeg:https://www.stonegatechc.org/wp-content/uploads/2024/01/Spanish-Womens-Group-new-poster-e1757604627756.jpg
END:VEVENT
BEGIN:VEVENT
DTSTART;TZID=America/Toronto:20300704T100000
DTEND;TZID=America/Toronto:20300704T113000
DTSTAMP:20260423T025505
CREATED:20250911T153116Z
LAST-MODIFIED:20250911T153116Z
UID:10010543-1909389600-1909395000@www.stonegatechc.org
SUMMARY:Spanish speaking Women’s Group
DESCRIPTION:“Spanish speaking Women’s Group” \nLadies are invited to participate in a variety of activities such as informative and motivational chats\, arts & crafts\, meditation and relaxation sessions\, cooking demos and more. \nThe group meets every Thursday at 10:00am \nTo register email sonia.demartinez@stonegatechc.org or call 416-231-7070 Ext 239
URL:https://www.stonegatechc.org/event/spanish-speaking-womens-group-2-2/2030-07-04/
CATEGORIES:Women's Programs
ATTACH;FMTTYPE=image/jpeg:https://www.stonegatechc.org/wp-content/uploads/2024/01/Spanish-Womens-Group-new-poster-e1757604627756.jpg
END:VEVENT
BEGIN:VEVENT
DTSTART;TZID=America/Toronto:20300711T100000
DTEND;TZID=America/Toronto:20300711T113000
DTSTAMP:20260423T025505
CREATED:20250911T153116Z
LAST-MODIFIED:20250911T153116Z
UID:10010544-1909994400-1909999800@www.stonegatechc.org
SUMMARY:Spanish speaking Women’s Group
DESCRIPTION:“Spanish speaking Women’s Group” \nLadies are invited to participate in a variety of activities such as informative and motivational chats\, arts & crafts\, meditation and relaxation sessions\, cooking demos and more. \nThe group meets every Thursday at 10:00am \nTo register email sonia.demartinez@stonegatechc.org or call 416-231-7070 Ext 239
URL:https://www.stonegatechc.org/event/spanish-speaking-womens-group-2-2/2030-07-11/
CATEGORIES:Women's Programs
ATTACH;FMTTYPE=image/jpeg:https://www.stonegatechc.org/wp-content/uploads/2024/01/Spanish-Womens-Group-new-poster-e1757604627756.jpg
END:VEVENT
BEGIN:VEVENT
DTSTART;TZID=America/Toronto:20300718T100000
DTEND;TZID=America/Toronto:20300718T113000
DTSTAMP:20260423T025505
CREATED:20250911T153116Z
LAST-MODIFIED:20250911T153116Z
UID:10010545-1910599200-1910604600@www.stonegatechc.org
SUMMARY:Spanish speaking Women’s Group
DESCRIPTION:“Spanish speaking Women’s Group” \nLadies are invited to participate in a variety of activities such as informative and motivational chats\, arts & crafts\, meditation and relaxation sessions\, cooking demos and more. \nThe group meets every Thursday at 10:00am \nTo register email sonia.demartinez@stonegatechc.org or call 416-231-7070 Ext 239
URL:https://www.stonegatechc.org/event/spanish-speaking-womens-group-2-2/2030-07-18/
CATEGORIES:Women's Programs
ATTACH;FMTTYPE=image/jpeg:https://www.stonegatechc.org/wp-content/uploads/2024/01/Spanish-Womens-Group-new-poster-e1757604627756.jpg
END:VEVENT
BEGIN:VEVENT
DTSTART;TZID=America/Toronto:20300725T100000
DTEND;TZID=America/Toronto:20300725T113000
DTSTAMP:20260423T025505
CREATED:20250911T153116Z
LAST-MODIFIED:20250911T153116Z
UID:10010546-1911204000-1911209400@www.stonegatechc.org
SUMMARY:Spanish speaking Women’s Group
DESCRIPTION:“Spanish speaking Women’s Group” \nLadies are invited to participate in a variety of activities such as informative and motivational chats\, arts & crafts\, meditation and relaxation sessions\, cooking demos and more. \nThe group meets every Thursday at 10:00am \nTo register email sonia.demartinez@stonegatechc.org or call 416-231-7070 Ext 239
URL:https://www.stonegatechc.org/event/spanish-speaking-womens-group-2-2/2030-07-25/
CATEGORIES:Women's Programs
ATTACH;FMTTYPE=image/jpeg:https://www.stonegatechc.org/wp-content/uploads/2024/01/Spanish-Womens-Group-new-poster-e1757604627756.jpg
END:VEVENT
BEGIN:VEVENT
DTSTART;TZID=America/Toronto:20300801T100000
DTEND;TZID=America/Toronto:20300801T113000
DTSTAMP:20260423T025505
CREATED:20250911T153116Z
LAST-MODIFIED:20250911T153116Z
UID:10010547-1911808800-1911814200@www.stonegatechc.org
SUMMARY:Spanish speaking Women’s Group
DESCRIPTION:“Spanish speaking Women’s Group” \nLadies are invited to participate in a variety of activities such as informative and motivational chats\, arts & crafts\, meditation and relaxation sessions\, cooking demos and more. \nThe group meets every Thursday at 10:00am \nTo register email sonia.demartinez@stonegatechc.org or call 416-231-7070 Ext 239
URL:https://www.stonegatechc.org/event/spanish-speaking-womens-group-2-2/2030-08-01/
CATEGORIES:Women's Programs
ATTACH;FMTTYPE=image/jpeg:https://www.stonegatechc.org/wp-content/uploads/2024/01/Spanish-Womens-Group-new-poster-e1757604627756.jpg
END:VEVENT
BEGIN:VEVENT
DTSTART;TZID=America/Toronto:20300808T100000
DTEND;TZID=America/Toronto:20300808T113000
DTSTAMP:20260423T025505
CREATED:20250911T153116Z
LAST-MODIFIED:20250911T153116Z
UID:10010548-1912413600-1912419000@www.stonegatechc.org
SUMMARY:Spanish speaking Women’s Group
DESCRIPTION:“Spanish speaking Women’s Group” \nLadies are invited to participate in a variety of activities such as informative and motivational chats\, arts & crafts\, meditation and relaxation sessions\, cooking demos and more. \nThe group meets every Thursday at 10:00am \nTo register email sonia.demartinez@stonegatechc.org or call 416-231-7070 Ext 239
URL:https://www.stonegatechc.org/event/spanish-speaking-womens-group-2-2/2030-08-08/
CATEGORIES:Women's Programs
ATTACH;FMTTYPE=image/jpeg:https://www.stonegatechc.org/wp-content/uploads/2024/01/Spanish-Womens-Group-new-poster-e1757604627756.jpg
END:VEVENT
BEGIN:VEVENT
DTSTART;TZID=America/Toronto:20300815T100000
DTEND;TZID=America/Toronto:20300815T113000
DTSTAMP:20260423T025505
CREATED:20250911T153116Z
LAST-MODIFIED:20250911T153116Z
UID:10010549-1913018400-1913023800@www.stonegatechc.org
SUMMARY:Spanish speaking Women’s Group
DESCRIPTION:“Spanish speaking Women’s Group” \nLadies are invited to participate in a variety of activities such as informative and motivational chats\, arts & crafts\, meditation and relaxation sessions\, cooking demos and more. \nThe group meets every Thursday at 10:00am \nTo register email sonia.demartinez@stonegatechc.org or call 416-231-7070 Ext 239
URL:https://www.stonegatechc.org/event/spanish-speaking-womens-group-2-2/2030-08-15/
CATEGORIES:Women's Programs
ATTACH;FMTTYPE=image/jpeg:https://www.stonegatechc.org/wp-content/uploads/2024/01/Spanish-Womens-Group-new-poster-e1757604627756.jpg
END:VEVENT
BEGIN:VEVENT
DTSTART;TZID=America/Toronto:20300822T100000
DTEND;TZID=America/Toronto:20300822T113000
DTSTAMP:20260423T025505
CREATED:20250911T153116Z
LAST-MODIFIED:20250911T153116Z
UID:10010550-1913623200-1913628600@www.stonegatechc.org
SUMMARY:Spanish speaking Women’s Group
DESCRIPTION:“Spanish speaking Women’s Group” \nLadies are invited to participate in a variety of activities such as informative and motivational chats\, arts & crafts\, meditation and relaxation sessions\, cooking demos and more. \nThe group meets every Thursday at 10:00am \nTo register email sonia.demartinez@stonegatechc.org or call 416-231-7070 Ext 239
URL:https://www.stonegatechc.org/event/spanish-speaking-womens-group-2-2/2030-08-22/
CATEGORIES:Women's Programs
ATTACH;FMTTYPE=image/jpeg:https://www.stonegatechc.org/wp-content/uploads/2024/01/Spanish-Womens-Group-new-poster-e1757604627756.jpg
END:VEVENT
BEGIN:VEVENT
DTSTART;TZID=America/Toronto:20300829T100000
DTEND;TZID=America/Toronto:20300829T113000
DTSTAMP:20260423T025505
CREATED:20250911T153116Z
LAST-MODIFIED:20250911T153116Z
UID:10010551-1914228000-1914233400@www.stonegatechc.org
SUMMARY:Spanish speaking Women’s Group
DESCRIPTION:“Spanish speaking Women’s Group” \nLadies are invited to participate in a variety of activities such as informative and motivational chats\, arts & crafts\, meditation and relaxation sessions\, cooking demos and more. \nThe group meets every Thursday at 10:00am \nTo register email sonia.demartinez@stonegatechc.org or call 416-231-7070 Ext 239
URL:https://www.stonegatechc.org/event/spanish-speaking-womens-group-2-2/2030-08-29/
CATEGORIES:Women's Programs
ATTACH;FMTTYPE=image/jpeg:https://www.stonegatechc.org/wp-content/uploads/2024/01/Spanish-Womens-Group-new-poster-e1757604627756.jpg
END:VEVENT
BEGIN:VEVENT
DTSTART;TZID=America/Toronto:20300905T100000
DTEND;TZID=America/Toronto:20300905T113000
DTSTAMP:20260423T025505
CREATED:20250911T153116Z
LAST-MODIFIED:20250911T153116Z
UID:10010552-1914832800-1914838200@www.stonegatechc.org
SUMMARY:Spanish speaking Women’s Group
DESCRIPTION:“Spanish speaking Women’s Group” \nLadies are invited to participate in a variety of activities such as informative and motivational chats\, arts & crafts\, meditation and relaxation sessions\, cooking demos and more. \nThe group meets every Thursday at 10:00am \nTo register email sonia.demartinez@stonegatechc.org or call 416-231-7070 Ext 239
URL:https://www.stonegatechc.org/event/spanish-speaking-womens-group-2-2/2030-09-05/
CATEGORIES:Women's Programs
ATTACH;FMTTYPE=image/jpeg:https://www.stonegatechc.org/wp-content/uploads/2024/01/Spanish-Womens-Group-new-poster-e1757604627756.jpg
END:VEVENT
END:VCALENDAR