BEGIN:VCALENDAR
VERSION:2.0
PRODID:-//Stonegate Community Health Centre - ECPv6.15.20//NONSGML v1.0//EN
CALSCALE:GREGORIAN
METHOD:PUBLISH
X-ORIGINAL-URL:https://www.stonegatechc.org
X-WR-CALDESC:Events for Stonegate Community Health Centre
REFRESH-INTERVAL;VALUE=DURATION:PT1H
X-Robots-Tag:noindex
X-PUBLISHED-TTL:PT1H
BEGIN:VTIMEZONE
TZID:America/Toronto
BEGIN:DAYLIGHT
TZOFFSETFROM:-0500
TZOFFSETTO:-0400
TZNAME:EDT
DTSTART:20250309T070000
END:DAYLIGHT
BEGIN:STANDARD
TZOFFSETFROM:-0400
TZOFFSETTO:-0500
TZNAME:EST
DTSTART:20251102T060000
END:STANDARD
BEGIN:DAYLIGHT
TZOFFSETFROM:-0500
TZOFFSETTO:-0400
TZNAME:EDT
DTSTART:20260308T070000
END:DAYLIGHT
BEGIN:STANDARD
TZOFFSETFROM:-0400
TZOFFSETTO:-0500
TZNAME:EST
DTSTART:20261101T060000
END:STANDARD
BEGIN:DAYLIGHT
TZOFFSETFROM:-0500
TZOFFSETTO:-0400
TZNAME:EDT
DTSTART:20270314T070000
END:DAYLIGHT
BEGIN:STANDARD
TZOFFSETFROM:-0400
TZOFFSETTO:-0500
TZNAME:EST
DTSTART:20271107T060000
END:STANDARD
BEGIN:DAYLIGHT
TZOFFSETFROM:-0500
TZOFFSETTO:-0400
TZNAME:EDT
DTSTART:20280312T070000
END:DAYLIGHT
BEGIN:STANDARD
TZOFFSETFROM:-0400
TZOFFSETTO:-0500
TZNAME:EST
DTSTART:20281105T060000
END:STANDARD
END:VTIMEZONE
BEGIN:VEVENT
DTSTART;TZID=America/Toronto:20261113T123000
DTEND;TZID=America/Toronto:20261113T143000
DTSTAMP:20260422T161013
CREATED:20260422T154501Z
LAST-MODIFIED:20260422T154528Z
UID:10011302-1794573000-1794580200@www.stonegatechc.org
SUMMARY:Friday Women's Groups
DESCRIPTION:Friday Women’s Group Poster
URL:https://www.stonegatechc.org/event/frida-womens-groups/2026-11-13/
LOCATION:Stonegate Community Health Centre\, 10 Neighbourhood Lane\, Unit 201\, Stonegate CHC\, ETOBICOKE\, Ontario\, M8Y 0C5\, Canada
CATEGORIES:Women's Programs
END:VEVENT
BEGIN:VEVENT
DTSTART;TZID=America/Toronto:20261119T100000
DTEND;TZID=America/Toronto:20261119T113000
DTSTAMP:20260422T161013
CREATED:20250911T153116Z
LAST-MODIFIED:20250911T153116Z
UID:10010354-1795082400-1795087800@www.stonegatechc.org
SUMMARY:Spanish speaking Women’s Group
DESCRIPTION:“Spanish speaking Women’s Group” \nLadies are invited to participate in a variety of activities such as informative and motivational chats\, arts & crafts\, meditation and relaxation sessions\, cooking demos and more. \nThe group meets every Thursday at 10:00am \nTo register email sonia.demartinez@stonegatechc.org or call 416-231-7070 Ext 239
URL:https://www.stonegatechc.org/event/spanish-speaking-womens-group-2-2/2026-11-19/
CATEGORIES:Women's Programs
ATTACH;FMTTYPE=image/jpeg:https://www.stonegatechc.org/wp-content/uploads/2024/01/Spanish-Womens-Group-new-poster-e1757604627756.jpg
END:VEVENT
BEGIN:VEVENT
DTSTART;TZID=America/Toronto:20261126T100000
DTEND;TZID=America/Toronto:20261126T113000
DTSTAMP:20260422T161013
CREATED:20250911T153116Z
LAST-MODIFIED:20250911T153116Z
UID:10010355-1795687200-1795692600@www.stonegatechc.org
SUMMARY:Spanish speaking Women’s Group
DESCRIPTION:“Spanish speaking Women’s Group” \nLadies are invited to participate in a variety of activities such as informative and motivational chats\, arts & crafts\, meditation and relaxation sessions\, cooking demos and more. \nThe group meets every Thursday at 10:00am \nTo register email sonia.demartinez@stonegatechc.org or call 416-231-7070 Ext 239
URL:https://www.stonegatechc.org/event/spanish-speaking-womens-group-2-2/2026-11-26/
CATEGORIES:Women's Programs
ATTACH;FMTTYPE=image/jpeg:https://www.stonegatechc.org/wp-content/uploads/2024/01/Spanish-Womens-Group-new-poster-e1757604627756.jpg
END:VEVENT
BEGIN:VEVENT
DTSTART;TZID=America/Toronto:20261203T100000
DTEND;TZID=America/Toronto:20261203T113000
DTSTAMP:20260422T161013
CREATED:20250911T153116Z
LAST-MODIFIED:20250911T153116Z
UID:10010356-1796292000-1796297400@www.stonegatechc.org
SUMMARY:Spanish speaking Women’s Group
DESCRIPTION:“Spanish speaking Women’s Group” \nLadies are invited to participate in a variety of activities such as informative and motivational chats\, arts & crafts\, meditation and relaxation sessions\, cooking demos and more. \nThe group meets every Thursday at 10:00am \nTo register email sonia.demartinez@stonegatechc.org or call 416-231-7070 Ext 239
URL:https://www.stonegatechc.org/event/spanish-speaking-womens-group-2-2/2026-12-03/
CATEGORIES:Women's Programs
ATTACH;FMTTYPE=image/jpeg:https://www.stonegatechc.org/wp-content/uploads/2024/01/Spanish-Womens-Group-new-poster-e1757604627756.jpg
END:VEVENT
BEGIN:VEVENT
DTSTART;TZID=America/Toronto:20261210T100000
DTEND;TZID=America/Toronto:20261210T113000
DTSTAMP:20260422T161013
CREATED:20250911T153116Z
LAST-MODIFIED:20250911T153116Z
UID:10010357-1796896800-1796902200@www.stonegatechc.org
SUMMARY:Spanish speaking Women’s Group
DESCRIPTION:“Spanish speaking Women’s Group” \nLadies are invited to participate in a variety of activities such as informative and motivational chats\, arts & crafts\, meditation and relaxation sessions\, cooking demos and more. \nThe group meets every Thursday at 10:00am \nTo register email sonia.demartinez@stonegatechc.org or call 416-231-7070 Ext 239
URL:https://www.stonegatechc.org/event/spanish-speaking-womens-group-2-2/2026-12-10/
CATEGORIES:Women's Programs
ATTACH;FMTTYPE=image/jpeg:https://www.stonegatechc.org/wp-content/uploads/2024/01/Spanish-Womens-Group-new-poster-e1757604627756.jpg
END:VEVENT
BEGIN:VEVENT
DTSTART;TZID=America/Toronto:20261211T123000
DTEND;TZID=America/Toronto:20261211T143000
DTSTAMP:20260422T161013
CREATED:20260422T154501Z
LAST-MODIFIED:20260422T154528Z
UID:10011303-1796992200-1796999400@www.stonegatechc.org
SUMMARY:Friday Women's Groups
DESCRIPTION:Friday Women’s Group Poster
URL:https://www.stonegatechc.org/event/frida-womens-groups/2026-12-11/
LOCATION:Stonegate Community Health Centre\, 10 Neighbourhood Lane\, Unit 201\, Stonegate CHC\, ETOBICOKE\, Ontario\, M8Y 0C5\, Canada
CATEGORIES:Women's Programs
END:VEVENT
BEGIN:VEVENT
DTSTART;TZID=America/Toronto:20261217T100000
DTEND;TZID=America/Toronto:20261217T113000
DTSTAMP:20260422T161013
CREATED:20250911T153116Z
LAST-MODIFIED:20250911T153116Z
UID:10010358-1797501600-1797507000@www.stonegatechc.org
SUMMARY:Spanish speaking Women’s Group
DESCRIPTION:“Spanish speaking Women’s Group” \nLadies are invited to participate in a variety of activities such as informative and motivational chats\, arts & crafts\, meditation and relaxation sessions\, cooking demos and more. \nThe group meets every Thursday at 10:00am \nTo register email sonia.demartinez@stonegatechc.org or call 416-231-7070 Ext 239
URL:https://www.stonegatechc.org/event/spanish-speaking-womens-group-2-2/2026-12-17/
CATEGORIES:Women's Programs
ATTACH;FMTTYPE=image/jpeg:https://www.stonegatechc.org/wp-content/uploads/2024/01/Spanish-Womens-Group-new-poster-e1757604627756.jpg
END:VEVENT
BEGIN:VEVENT
DTSTART;TZID=America/Toronto:20261224T100000
DTEND;TZID=America/Toronto:20261224T113000
DTSTAMP:20260422T161013
CREATED:20250911T153116Z
LAST-MODIFIED:20250911T153116Z
UID:10010359-1798106400-1798111800@www.stonegatechc.org
SUMMARY:Spanish speaking Women’s Group
DESCRIPTION:“Spanish speaking Women’s Group” \nLadies are invited to participate in a variety of activities such as informative and motivational chats\, arts & crafts\, meditation and relaxation sessions\, cooking demos and more. \nThe group meets every Thursday at 10:00am \nTo register email sonia.demartinez@stonegatechc.org or call 416-231-7070 Ext 239
URL:https://www.stonegatechc.org/event/spanish-speaking-womens-group-2-2/2026-12-24/
CATEGORIES:Women's Programs
ATTACH;FMTTYPE=image/jpeg:https://www.stonegatechc.org/wp-content/uploads/2024/01/Spanish-Womens-Group-new-poster-e1757604627756.jpg
END:VEVENT
BEGIN:VEVENT
DTSTART;TZID=America/Toronto:20261231T100000
DTEND;TZID=America/Toronto:20261231T113000
DTSTAMP:20260422T161013
CREATED:20250911T153116Z
LAST-MODIFIED:20250911T153116Z
UID:10010360-1798711200-1798716600@www.stonegatechc.org
SUMMARY:Spanish speaking Women’s Group
DESCRIPTION:“Spanish speaking Women’s Group” \nLadies are invited to participate in a variety of activities such as informative and motivational chats\, arts & crafts\, meditation and relaxation sessions\, cooking demos and more. \nThe group meets every Thursday at 10:00am \nTo register email sonia.demartinez@stonegatechc.org or call 416-231-7070 Ext 239
URL:https://www.stonegatechc.org/event/spanish-speaking-womens-group-2-2/2026-12-31/
CATEGORIES:Women's Programs
ATTACH;FMTTYPE=image/jpeg:https://www.stonegatechc.org/wp-content/uploads/2024/01/Spanish-Womens-Group-new-poster-e1757604627756.jpg
END:VEVENT
BEGIN:VEVENT
DTSTART;TZID=America/Toronto:20270107T100000
DTEND;TZID=America/Toronto:20270107T113000
DTSTAMP:20260422T161013
CREATED:20250911T153116Z
LAST-MODIFIED:20250911T153116Z
UID:10010361-1799316000-1799321400@www.stonegatechc.org
SUMMARY:Spanish speaking Women’s Group
DESCRIPTION:“Spanish speaking Women’s Group” \nLadies are invited to participate in a variety of activities such as informative and motivational chats\, arts & crafts\, meditation and relaxation sessions\, cooking demos and more. \nThe group meets every Thursday at 10:00am \nTo register email sonia.demartinez@stonegatechc.org or call 416-231-7070 Ext 239
URL:https://www.stonegatechc.org/event/spanish-speaking-womens-group-2-2/2027-01-07/
CATEGORIES:Women's Programs
ATTACH;FMTTYPE=image/jpeg:https://www.stonegatechc.org/wp-content/uploads/2024/01/Spanish-Womens-Group-new-poster-e1757604627756.jpg
END:VEVENT
BEGIN:VEVENT
DTSTART;TZID=America/Toronto:20270114T100000
DTEND;TZID=America/Toronto:20270114T113000
DTSTAMP:20260422T161013
CREATED:20250911T153116Z
LAST-MODIFIED:20250911T153116Z
UID:10010362-1799920800-1799926200@www.stonegatechc.org
SUMMARY:Spanish speaking Women’s Group
DESCRIPTION:“Spanish speaking Women’s Group” \nLadies are invited to participate in a variety of activities such as informative and motivational chats\, arts & crafts\, meditation and relaxation sessions\, cooking demos and more. \nThe group meets every Thursday at 10:00am \nTo register email sonia.demartinez@stonegatechc.org or call 416-231-7070 Ext 239
URL:https://www.stonegatechc.org/event/spanish-speaking-womens-group-2-2/2027-01-14/
CATEGORIES:Women's Programs
ATTACH;FMTTYPE=image/jpeg:https://www.stonegatechc.org/wp-content/uploads/2024/01/Spanish-Womens-Group-new-poster-e1757604627756.jpg
END:VEVENT
BEGIN:VEVENT
DTSTART;TZID=America/Toronto:20270121T100000
DTEND;TZID=America/Toronto:20270121T113000
DTSTAMP:20260422T161013
CREATED:20250911T153116Z
LAST-MODIFIED:20250911T153116Z
UID:10010363-1800525600-1800531000@www.stonegatechc.org
SUMMARY:Spanish speaking Women’s Group
DESCRIPTION:“Spanish speaking Women’s Group” \nLadies are invited to participate in a variety of activities such as informative and motivational chats\, arts & crafts\, meditation and relaxation sessions\, cooking demos and more. \nThe group meets every Thursday at 10:00am \nTo register email sonia.demartinez@stonegatechc.org or call 416-231-7070 Ext 239
URL:https://www.stonegatechc.org/event/spanish-speaking-womens-group-2-2/2027-01-21/
CATEGORIES:Women's Programs
ATTACH;FMTTYPE=image/jpeg:https://www.stonegatechc.org/wp-content/uploads/2024/01/Spanish-Womens-Group-new-poster-e1757604627756.jpg
END:VEVENT
BEGIN:VEVENT
DTSTART;TZID=America/Toronto:20270128T100000
DTEND;TZID=America/Toronto:20270128T113000
DTSTAMP:20260422T161013
CREATED:20250911T153116Z
LAST-MODIFIED:20250911T153116Z
UID:10010364-1801130400-1801135800@www.stonegatechc.org
SUMMARY:Spanish speaking Women’s Group
DESCRIPTION:“Spanish speaking Women’s Group” \nLadies are invited to participate in a variety of activities such as informative and motivational chats\, arts & crafts\, meditation and relaxation sessions\, cooking demos and more. \nThe group meets every Thursday at 10:00am \nTo register email sonia.demartinez@stonegatechc.org or call 416-231-7070 Ext 239
URL:https://www.stonegatechc.org/event/spanish-speaking-womens-group-2-2/2027-01-28/
CATEGORIES:Women's Programs
ATTACH;FMTTYPE=image/jpeg:https://www.stonegatechc.org/wp-content/uploads/2024/01/Spanish-Womens-Group-new-poster-e1757604627756.jpg
END:VEVENT
BEGIN:VEVENT
DTSTART;TZID=America/Toronto:20270204T100000
DTEND;TZID=America/Toronto:20270204T113000
DTSTAMP:20260422T161013
CREATED:20250911T153116Z
LAST-MODIFIED:20250911T153116Z
UID:10010365-1801735200-1801740600@www.stonegatechc.org
SUMMARY:Spanish speaking Women’s Group
DESCRIPTION:“Spanish speaking Women’s Group” \nLadies are invited to participate in a variety of activities such as informative and motivational chats\, arts & crafts\, meditation and relaxation sessions\, cooking demos and more. \nThe group meets every Thursday at 10:00am \nTo register email sonia.demartinez@stonegatechc.org or call 416-231-7070 Ext 239
URL:https://www.stonegatechc.org/event/spanish-speaking-womens-group-2-2/2027-02-04/
CATEGORIES:Women's Programs
ATTACH;FMTTYPE=image/jpeg:https://www.stonegatechc.org/wp-content/uploads/2024/01/Spanish-Womens-Group-new-poster-e1757604627756.jpg
END:VEVENT
BEGIN:VEVENT
DTSTART;TZID=America/Toronto:20270211T100000
DTEND;TZID=America/Toronto:20270211T113000
DTSTAMP:20260422T161013
CREATED:20250911T153116Z
LAST-MODIFIED:20250911T153116Z
UID:10010366-1802340000-1802345400@www.stonegatechc.org
SUMMARY:Spanish speaking Women’s Group
DESCRIPTION:“Spanish speaking Women’s Group” \nLadies are invited to participate in a variety of activities such as informative and motivational chats\, arts & crafts\, meditation and relaxation sessions\, cooking demos and more. \nThe group meets every Thursday at 10:00am \nTo register email sonia.demartinez@stonegatechc.org or call 416-231-7070 Ext 239
URL:https://www.stonegatechc.org/event/spanish-speaking-womens-group-2-2/2027-02-11/
CATEGORIES:Women's Programs
ATTACH;FMTTYPE=image/jpeg:https://www.stonegatechc.org/wp-content/uploads/2024/01/Spanish-Womens-Group-new-poster-e1757604627756.jpg
END:VEVENT
BEGIN:VEVENT
DTSTART;TZID=America/Toronto:20270218T100000
DTEND;TZID=America/Toronto:20270218T113000
DTSTAMP:20260422T161014
CREATED:20250911T153116Z
LAST-MODIFIED:20250911T153116Z
UID:10010367-1802944800-1802950200@www.stonegatechc.org
SUMMARY:Spanish speaking Women’s Group
DESCRIPTION:“Spanish speaking Women’s Group” \nLadies are invited to participate in a variety of activities such as informative and motivational chats\, arts & crafts\, meditation and relaxation sessions\, cooking demos and more. \nThe group meets every Thursday at 10:00am \nTo register email sonia.demartinez@stonegatechc.org or call 416-231-7070 Ext 239
URL:https://www.stonegatechc.org/event/spanish-speaking-womens-group-2-2/2027-02-18/
CATEGORIES:Women's Programs
ATTACH;FMTTYPE=image/jpeg:https://www.stonegatechc.org/wp-content/uploads/2024/01/Spanish-Womens-Group-new-poster-e1757604627756.jpg
END:VEVENT
BEGIN:VEVENT
DTSTART;TZID=America/Toronto:20270225T100000
DTEND;TZID=America/Toronto:20270225T113000
DTSTAMP:20260422T161014
CREATED:20250911T153116Z
LAST-MODIFIED:20250911T153116Z
UID:10010368-1803549600-1803555000@www.stonegatechc.org
SUMMARY:Spanish speaking Women’s Group
DESCRIPTION:“Spanish speaking Women’s Group” \nLadies are invited to participate in a variety of activities such as informative and motivational chats\, arts & crafts\, meditation and relaxation sessions\, cooking demos and more. \nThe group meets every Thursday at 10:00am \nTo register email sonia.demartinez@stonegatechc.org or call 416-231-7070 Ext 239
URL:https://www.stonegatechc.org/event/spanish-speaking-womens-group-2-2/2027-02-25/
CATEGORIES:Women's Programs
ATTACH;FMTTYPE=image/jpeg:https://www.stonegatechc.org/wp-content/uploads/2024/01/Spanish-Womens-Group-new-poster-e1757604627756.jpg
END:VEVENT
BEGIN:VEVENT
DTSTART;TZID=America/Toronto:20270304T100000
DTEND;TZID=America/Toronto:20270304T113000
DTSTAMP:20260422T161014
CREATED:20250911T153116Z
LAST-MODIFIED:20250911T153116Z
UID:10010369-1804154400-1804159800@www.stonegatechc.org
SUMMARY:Spanish speaking Women’s Group
DESCRIPTION:“Spanish speaking Women’s Group” \nLadies are invited to participate in a variety of activities such as informative and motivational chats\, arts & crafts\, meditation and relaxation sessions\, cooking demos and more. \nThe group meets every Thursday at 10:00am \nTo register email sonia.demartinez@stonegatechc.org or call 416-231-7070 Ext 239
URL:https://www.stonegatechc.org/event/spanish-speaking-womens-group-2-2/2027-03-04/
CATEGORIES:Women's Programs
ATTACH;FMTTYPE=image/jpeg:https://www.stonegatechc.org/wp-content/uploads/2024/01/Spanish-Womens-Group-new-poster-e1757604627756.jpg
END:VEVENT
BEGIN:VEVENT
DTSTART;TZID=America/Toronto:20270311T100000
DTEND;TZID=America/Toronto:20270311T113000
DTSTAMP:20260422T161014
CREATED:20250911T153116Z
LAST-MODIFIED:20250911T153116Z
UID:10010370-1804759200-1804764600@www.stonegatechc.org
SUMMARY:Spanish speaking Women’s Group
DESCRIPTION:“Spanish speaking Women’s Group” \nLadies are invited to participate in a variety of activities such as informative and motivational chats\, arts & crafts\, meditation and relaxation sessions\, cooking demos and more. \nThe group meets every Thursday at 10:00am \nTo register email sonia.demartinez@stonegatechc.org or call 416-231-7070 Ext 239
URL:https://www.stonegatechc.org/event/spanish-speaking-womens-group-2-2/2027-03-11/
CATEGORIES:Women's Programs
ATTACH;FMTTYPE=image/jpeg:https://www.stonegatechc.org/wp-content/uploads/2024/01/Spanish-Womens-Group-new-poster-e1757604627756.jpg
END:VEVENT
BEGIN:VEVENT
DTSTART;TZID=America/Toronto:20270318T100000
DTEND;TZID=America/Toronto:20270318T113000
DTSTAMP:20260422T161014
CREATED:20250911T153116Z
LAST-MODIFIED:20250911T153116Z
UID:10010371-1805364000-1805369400@www.stonegatechc.org
SUMMARY:Spanish speaking Women’s Group
DESCRIPTION:“Spanish speaking Women’s Group” \nLadies are invited to participate in a variety of activities such as informative and motivational chats\, arts & crafts\, meditation and relaxation sessions\, cooking demos and more. \nThe group meets every Thursday at 10:00am \nTo register email sonia.demartinez@stonegatechc.org or call 416-231-7070 Ext 239
URL:https://www.stonegatechc.org/event/spanish-speaking-womens-group-2-2/2027-03-18/
CATEGORIES:Women's Programs
ATTACH;FMTTYPE=image/jpeg:https://www.stonegatechc.org/wp-content/uploads/2024/01/Spanish-Womens-Group-new-poster-e1757604627756.jpg
END:VEVENT
BEGIN:VEVENT
DTSTART;TZID=America/Toronto:20270325T100000
DTEND;TZID=America/Toronto:20270325T113000
DTSTAMP:20260422T161014
CREATED:20250911T153116Z
LAST-MODIFIED:20250911T153116Z
UID:10010372-1805968800-1805974200@www.stonegatechc.org
SUMMARY:Spanish speaking Women’s Group
DESCRIPTION:“Spanish speaking Women’s Group” \nLadies are invited to participate in a variety of activities such as informative and motivational chats\, arts & crafts\, meditation and relaxation sessions\, cooking demos and more. \nThe group meets every Thursday at 10:00am \nTo register email sonia.demartinez@stonegatechc.org or call 416-231-7070 Ext 239
URL:https://www.stonegatechc.org/event/spanish-speaking-womens-group-2-2/2027-03-25/
CATEGORIES:Women's Programs
ATTACH;FMTTYPE=image/jpeg:https://www.stonegatechc.org/wp-content/uploads/2024/01/Spanish-Womens-Group-new-poster-e1757604627756.jpg
END:VEVENT
BEGIN:VEVENT
DTSTART;TZID=America/Toronto:20270401T100000
DTEND;TZID=America/Toronto:20270401T113000
DTSTAMP:20260422T161014
CREATED:20250911T153116Z
LAST-MODIFIED:20250911T153116Z
UID:10010373-1806573600-1806579000@www.stonegatechc.org
SUMMARY:Spanish speaking Women’s Group
DESCRIPTION:“Spanish speaking Women’s Group” \nLadies are invited to participate in a variety of activities such as informative and motivational chats\, arts & crafts\, meditation and relaxation sessions\, cooking demos and more. \nThe group meets every Thursday at 10:00am \nTo register email sonia.demartinez@stonegatechc.org or call 416-231-7070 Ext 239
URL:https://www.stonegatechc.org/event/spanish-speaking-womens-group-2-2/2027-04-01/
CATEGORIES:Women's Programs
ATTACH;FMTTYPE=image/jpeg:https://www.stonegatechc.org/wp-content/uploads/2024/01/Spanish-Womens-Group-new-poster-e1757604627756.jpg
END:VEVENT
BEGIN:VEVENT
DTSTART;TZID=America/Toronto:20270408T100000
DTEND;TZID=America/Toronto:20270408T113000
DTSTAMP:20260422T161014
CREATED:20250911T153116Z
LAST-MODIFIED:20250911T153116Z
UID:10010374-1807178400-1807183800@www.stonegatechc.org
SUMMARY:Spanish speaking Women’s Group
DESCRIPTION:“Spanish speaking Women’s Group” \nLadies are invited to participate in a variety of activities such as informative and motivational chats\, arts & crafts\, meditation and relaxation sessions\, cooking demos and more. \nThe group meets every Thursday at 10:00am \nTo register email sonia.demartinez@stonegatechc.org or call 416-231-7070 Ext 239
URL:https://www.stonegatechc.org/event/spanish-speaking-womens-group-2-2/2027-04-08/
CATEGORIES:Women's Programs
ATTACH;FMTTYPE=image/jpeg:https://www.stonegatechc.org/wp-content/uploads/2024/01/Spanish-Womens-Group-new-poster-e1757604627756.jpg
END:VEVENT
BEGIN:VEVENT
DTSTART;TZID=America/Toronto:20270415T100000
DTEND;TZID=America/Toronto:20270415T113000
DTSTAMP:20260422T161014
CREATED:20250911T153116Z
LAST-MODIFIED:20250911T153116Z
UID:10010375-1807783200-1807788600@www.stonegatechc.org
SUMMARY:Spanish speaking Women’s Group
DESCRIPTION:“Spanish speaking Women’s Group” \nLadies are invited to participate in a variety of activities such as informative and motivational chats\, arts & crafts\, meditation and relaxation sessions\, cooking demos and more. \nThe group meets every Thursday at 10:00am \nTo register email sonia.demartinez@stonegatechc.org or call 416-231-7070 Ext 239
URL:https://www.stonegatechc.org/event/spanish-speaking-womens-group-2-2/2027-04-15/
CATEGORIES:Women's Programs
ATTACH;FMTTYPE=image/jpeg:https://www.stonegatechc.org/wp-content/uploads/2024/01/Spanish-Womens-Group-new-poster-e1757604627756.jpg
END:VEVENT
BEGIN:VEVENT
DTSTART;TZID=America/Toronto:20270422T100000
DTEND;TZID=America/Toronto:20270422T113000
DTSTAMP:20260422T161014
CREATED:20250911T153116Z
LAST-MODIFIED:20250911T153116Z
UID:10010376-1808388000-1808393400@www.stonegatechc.org
SUMMARY:Spanish speaking Women’s Group
DESCRIPTION:“Spanish speaking Women’s Group” \nLadies are invited to participate in a variety of activities such as informative and motivational chats\, arts & crafts\, meditation and relaxation sessions\, cooking demos and more. \nThe group meets every Thursday at 10:00am \nTo register email sonia.demartinez@stonegatechc.org or call 416-231-7070 Ext 239
URL:https://www.stonegatechc.org/event/spanish-speaking-womens-group-2-2/2027-04-22/
CATEGORIES:Women's Programs
ATTACH;FMTTYPE=image/jpeg:https://www.stonegatechc.org/wp-content/uploads/2024/01/Spanish-Womens-Group-new-poster-e1757604627756.jpg
END:VEVENT
BEGIN:VEVENT
DTSTART;TZID=America/Toronto:20270429T100000
DTEND;TZID=America/Toronto:20270429T113000
DTSTAMP:20260422T161014
CREATED:20250911T153116Z
LAST-MODIFIED:20250911T153116Z
UID:10010377-1808992800-1808998200@www.stonegatechc.org
SUMMARY:Spanish speaking Women’s Group
DESCRIPTION:“Spanish speaking Women’s Group” \nLadies are invited to participate in a variety of activities such as informative and motivational chats\, arts & crafts\, meditation and relaxation sessions\, cooking demos and more. \nThe group meets every Thursday at 10:00am \nTo register email sonia.demartinez@stonegatechc.org or call 416-231-7070 Ext 239
URL:https://www.stonegatechc.org/event/spanish-speaking-womens-group-2-2/2027-04-29/
CATEGORIES:Women's Programs
ATTACH;FMTTYPE=image/jpeg:https://www.stonegatechc.org/wp-content/uploads/2024/01/Spanish-Womens-Group-new-poster-e1757604627756.jpg
END:VEVENT
BEGIN:VEVENT
DTSTART;TZID=America/Toronto:20270506T100000
DTEND;TZID=America/Toronto:20270506T113000
DTSTAMP:20260422T161014
CREATED:20250911T153116Z
LAST-MODIFIED:20250911T153116Z
UID:10010378-1809597600-1809603000@www.stonegatechc.org
SUMMARY:Spanish speaking Women’s Group
DESCRIPTION:“Spanish speaking Women’s Group” \nLadies are invited to participate in a variety of activities such as informative and motivational chats\, arts & crafts\, meditation and relaxation sessions\, cooking demos and more. \nThe group meets every Thursday at 10:00am \nTo register email sonia.demartinez@stonegatechc.org or call 416-231-7070 Ext 239
URL:https://www.stonegatechc.org/event/spanish-speaking-womens-group-2-2/2027-05-06/
CATEGORIES:Women's Programs
ATTACH;FMTTYPE=image/jpeg:https://www.stonegatechc.org/wp-content/uploads/2024/01/Spanish-Womens-Group-new-poster-e1757604627756.jpg
END:VEVENT
BEGIN:VEVENT
DTSTART;TZID=America/Toronto:20270513T100000
DTEND;TZID=America/Toronto:20270513T113000
DTSTAMP:20260422T161014
CREATED:20250911T153116Z
LAST-MODIFIED:20250911T153116Z
UID:10010379-1810202400-1810207800@www.stonegatechc.org
SUMMARY:Spanish speaking Women’s Group
DESCRIPTION:“Spanish speaking Women’s Group” \nLadies are invited to participate in a variety of activities such as informative and motivational chats\, arts & crafts\, meditation and relaxation sessions\, cooking demos and more. \nThe group meets every Thursday at 10:00am \nTo register email sonia.demartinez@stonegatechc.org or call 416-231-7070 Ext 239
URL:https://www.stonegatechc.org/event/spanish-speaking-womens-group-2-2/2027-05-13/
CATEGORIES:Women's Programs
ATTACH;FMTTYPE=image/jpeg:https://www.stonegatechc.org/wp-content/uploads/2024/01/Spanish-Womens-Group-new-poster-e1757604627756.jpg
END:VEVENT
BEGIN:VEVENT
DTSTART;TZID=America/Toronto:20270520T100000
DTEND;TZID=America/Toronto:20270520T113000
DTSTAMP:20260422T161014
CREATED:20250911T153116Z
LAST-MODIFIED:20250911T153116Z
UID:10010380-1810807200-1810812600@www.stonegatechc.org
SUMMARY:Spanish speaking Women’s Group
DESCRIPTION:“Spanish speaking Women’s Group” \nLadies are invited to participate in a variety of activities such as informative and motivational chats\, arts & crafts\, meditation and relaxation sessions\, cooking demos and more. \nThe group meets every Thursday at 10:00am \nTo register email sonia.demartinez@stonegatechc.org or call 416-231-7070 Ext 239
URL:https://www.stonegatechc.org/event/spanish-speaking-womens-group-2-2/2027-05-20/
CATEGORIES:Women's Programs
ATTACH;FMTTYPE=image/jpeg:https://www.stonegatechc.org/wp-content/uploads/2024/01/Spanish-Womens-Group-new-poster-e1757604627756.jpg
END:VEVENT
BEGIN:VEVENT
DTSTART;TZID=America/Toronto:20270527T100000
DTEND;TZID=America/Toronto:20270527T113000
DTSTAMP:20260422T161014
CREATED:20250911T153116Z
LAST-MODIFIED:20250911T153116Z
UID:10010381-1811412000-1811417400@www.stonegatechc.org
SUMMARY:Spanish speaking Women’s Group
DESCRIPTION:“Spanish speaking Women’s Group” \nLadies are invited to participate in a variety of activities such as informative and motivational chats\, arts & crafts\, meditation and relaxation sessions\, cooking demos and more. \nThe group meets every Thursday at 10:00am \nTo register email sonia.demartinez@stonegatechc.org or call 416-231-7070 Ext 239
URL:https://www.stonegatechc.org/event/spanish-speaking-womens-group-2-2/2027-05-27/
CATEGORIES:Women's Programs
ATTACH;FMTTYPE=image/jpeg:https://www.stonegatechc.org/wp-content/uploads/2024/01/Spanish-Womens-Group-new-poster-e1757604627756.jpg
END:VEVENT
END:VCALENDAR