BEGIN:VCALENDAR
VERSION:2.0
PRODID:-//Stonegate Community Health Centre - ECPv6.15.20//NONSGML v1.0//EN
CALSCALE:GREGORIAN
METHOD:PUBLISH
X-WR-CALNAME:Stonegate Community Health Centre
X-ORIGINAL-URL:https://www.stonegatechc.org
X-WR-CALDESC:Events for Stonegate Community Health Centre
REFRESH-INTERVAL;VALUE=DURATION:PT1H
X-Robots-Tag:noindex
X-PUBLISHED-TTL:PT1H
BEGIN:VTIMEZONE
TZID:America/Toronto
BEGIN:DAYLIGHT
TZOFFSETFROM:-0500
TZOFFSETTO:-0400
TZNAME:EDT
DTSTART:20260308T070000
END:DAYLIGHT
BEGIN:STANDARD
TZOFFSETFROM:-0400
TZOFFSETTO:-0500
TZNAME:EST
DTSTART:20261101T060000
END:STANDARD
BEGIN:DAYLIGHT
TZOFFSETFROM:-0500
TZOFFSETTO:-0400
TZNAME:EDT
DTSTART:20270314T070000
END:DAYLIGHT
BEGIN:STANDARD
TZOFFSETFROM:-0400
TZOFFSETTO:-0500
TZNAME:EST
DTSTART:20271107T060000
END:STANDARD
BEGIN:DAYLIGHT
TZOFFSETFROM:-0500
TZOFFSETTO:-0400
TZNAME:EDT
DTSTART:20280312T070000
END:DAYLIGHT
BEGIN:STANDARD
TZOFFSETFROM:-0400
TZOFFSETTO:-0500
TZNAME:EST
DTSTART:20281105T060000
END:STANDARD
END:VTIMEZONE
BEGIN:VEVENT
DTSTART;TZID=America/Toronto:20270422T100000
DTEND;TZID=America/Toronto:20270422T113000
DTSTAMP:20260422T175007
CREATED:20250911T153116Z
LAST-MODIFIED:20250911T153116Z
UID:10010376-1808388000-1808393400@www.stonegatechc.org
SUMMARY:Spanish speaking Women’s Group
DESCRIPTION:“Spanish speaking Women’s Group” \nLadies are invited to participate in a variety of activities such as informative and motivational chats\, arts & crafts\, meditation and relaxation sessions\, cooking demos and more. \nThe group meets every Thursday at 10:00am \nTo register email sonia.demartinez@stonegatechc.org or call 416-231-7070 Ext 239
URL:https://www.stonegatechc.org/event/spanish-speaking-womens-group-2-2/2027-04-22/
CATEGORIES:Women's Programs
ATTACH;FMTTYPE=image/jpeg:https://www.stonegatechc.org/wp-content/uploads/2024/01/Spanish-Womens-Group-new-poster-e1757604627756.jpg
END:VEVENT
BEGIN:VEVENT
DTSTART;TZID=America/Toronto:20270429T100000
DTEND;TZID=America/Toronto:20270429T113000
DTSTAMP:20260422T175007
CREATED:20250911T153116Z
LAST-MODIFIED:20250911T153116Z
UID:10010377-1808992800-1808998200@www.stonegatechc.org
SUMMARY:Spanish speaking Women’s Group
DESCRIPTION:“Spanish speaking Women’s Group” \nLadies are invited to participate in a variety of activities such as informative and motivational chats\, arts & crafts\, meditation and relaxation sessions\, cooking demos and more. \nThe group meets every Thursday at 10:00am \nTo register email sonia.demartinez@stonegatechc.org or call 416-231-7070 Ext 239
URL:https://www.stonegatechc.org/event/spanish-speaking-womens-group-2-2/2027-04-29/
CATEGORIES:Women's Programs
ATTACH;FMTTYPE=image/jpeg:https://www.stonegatechc.org/wp-content/uploads/2024/01/Spanish-Womens-Group-new-poster-e1757604627756.jpg
END:VEVENT
BEGIN:VEVENT
DTSTART;TZID=America/Toronto:20270506T100000
DTEND;TZID=America/Toronto:20270506T113000
DTSTAMP:20260422T175007
CREATED:20250911T153116Z
LAST-MODIFIED:20250911T153116Z
UID:10010378-1809597600-1809603000@www.stonegatechc.org
SUMMARY:Spanish speaking Women’s Group
DESCRIPTION:“Spanish speaking Women’s Group” \nLadies are invited to participate in a variety of activities such as informative and motivational chats\, arts & crafts\, meditation and relaxation sessions\, cooking demos and more. \nThe group meets every Thursday at 10:00am \nTo register email sonia.demartinez@stonegatechc.org or call 416-231-7070 Ext 239
URL:https://www.stonegatechc.org/event/spanish-speaking-womens-group-2-2/2027-05-06/
CATEGORIES:Women's Programs
ATTACH;FMTTYPE=image/jpeg:https://www.stonegatechc.org/wp-content/uploads/2024/01/Spanish-Womens-Group-new-poster-e1757604627756.jpg
END:VEVENT
BEGIN:VEVENT
DTSTART;TZID=America/Toronto:20270513T100000
DTEND;TZID=America/Toronto:20270513T113000
DTSTAMP:20260422T175007
CREATED:20250911T153116Z
LAST-MODIFIED:20250911T153116Z
UID:10010379-1810202400-1810207800@www.stonegatechc.org
SUMMARY:Spanish speaking Women’s Group
DESCRIPTION:“Spanish speaking Women’s Group” \nLadies are invited to participate in a variety of activities such as informative and motivational chats\, arts & crafts\, meditation and relaxation sessions\, cooking demos and more. \nThe group meets every Thursday at 10:00am \nTo register email sonia.demartinez@stonegatechc.org or call 416-231-7070 Ext 239
URL:https://www.stonegatechc.org/event/spanish-speaking-womens-group-2-2/2027-05-13/
CATEGORIES:Women's Programs
ATTACH;FMTTYPE=image/jpeg:https://www.stonegatechc.org/wp-content/uploads/2024/01/Spanish-Womens-Group-new-poster-e1757604627756.jpg
END:VEVENT
BEGIN:VEVENT
DTSTART;TZID=America/Toronto:20270520T100000
DTEND;TZID=America/Toronto:20270520T113000
DTSTAMP:20260422T175007
CREATED:20250911T153116Z
LAST-MODIFIED:20250911T153116Z
UID:10010380-1810807200-1810812600@www.stonegatechc.org
SUMMARY:Spanish speaking Women’s Group
DESCRIPTION:“Spanish speaking Women’s Group” \nLadies are invited to participate in a variety of activities such as informative and motivational chats\, arts & crafts\, meditation and relaxation sessions\, cooking demos and more. \nThe group meets every Thursday at 10:00am \nTo register email sonia.demartinez@stonegatechc.org or call 416-231-7070 Ext 239
URL:https://www.stonegatechc.org/event/spanish-speaking-womens-group-2-2/2027-05-20/
CATEGORIES:Women's Programs
ATTACH;FMTTYPE=image/jpeg:https://www.stonegatechc.org/wp-content/uploads/2024/01/Spanish-Womens-Group-new-poster-e1757604627756.jpg
END:VEVENT
BEGIN:VEVENT
DTSTART;TZID=America/Toronto:20270527T100000
DTEND;TZID=America/Toronto:20270527T113000
DTSTAMP:20260422T175007
CREATED:20250911T153116Z
LAST-MODIFIED:20250911T153116Z
UID:10010381-1811412000-1811417400@www.stonegatechc.org
SUMMARY:Spanish speaking Women’s Group
DESCRIPTION:“Spanish speaking Women’s Group” \nLadies are invited to participate in a variety of activities such as informative and motivational chats\, arts & crafts\, meditation and relaxation sessions\, cooking demos and more. \nThe group meets every Thursday at 10:00am \nTo register email sonia.demartinez@stonegatechc.org or call 416-231-7070 Ext 239
URL:https://www.stonegatechc.org/event/spanish-speaking-womens-group-2-2/2027-05-27/
CATEGORIES:Women's Programs
ATTACH;FMTTYPE=image/jpeg:https://www.stonegatechc.org/wp-content/uploads/2024/01/Spanish-Womens-Group-new-poster-e1757604627756.jpg
END:VEVENT
BEGIN:VEVENT
DTSTART;TZID=America/Toronto:20270603T100000
DTEND;TZID=America/Toronto:20270603T113000
DTSTAMP:20260422T175007
CREATED:20250911T153116Z
LAST-MODIFIED:20250911T153116Z
UID:10010382-1812016800-1812022200@www.stonegatechc.org
SUMMARY:Spanish speaking Women’s Group
DESCRIPTION:“Spanish speaking Women’s Group” \nLadies are invited to participate in a variety of activities such as informative and motivational chats\, arts & crafts\, meditation and relaxation sessions\, cooking demos and more. \nThe group meets every Thursday at 10:00am \nTo register email sonia.demartinez@stonegatechc.org or call 416-231-7070 Ext 239
URL:https://www.stonegatechc.org/event/spanish-speaking-womens-group-2-2/2027-06-03/
CATEGORIES:Women's Programs
ATTACH;FMTTYPE=image/jpeg:https://www.stonegatechc.org/wp-content/uploads/2024/01/Spanish-Womens-Group-new-poster-e1757604627756.jpg
END:VEVENT
BEGIN:VEVENT
DTSTART;TZID=America/Toronto:20270610T100000
DTEND;TZID=America/Toronto:20270610T113000
DTSTAMP:20260422T175007
CREATED:20250911T153116Z
LAST-MODIFIED:20250911T153116Z
UID:10010383-1812621600-1812627000@www.stonegatechc.org
SUMMARY:Spanish speaking Women’s Group
DESCRIPTION:“Spanish speaking Women’s Group” \nLadies are invited to participate in a variety of activities such as informative and motivational chats\, arts & crafts\, meditation and relaxation sessions\, cooking demos and more. \nThe group meets every Thursday at 10:00am \nTo register email sonia.demartinez@stonegatechc.org or call 416-231-7070 Ext 239
URL:https://www.stonegatechc.org/event/spanish-speaking-womens-group-2-2/2027-06-10/
CATEGORIES:Women's Programs
ATTACH;FMTTYPE=image/jpeg:https://www.stonegatechc.org/wp-content/uploads/2024/01/Spanish-Womens-Group-new-poster-e1757604627756.jpg
END:VEVENT
BEGIN:VEVENT
DTSTART;TZID=America/Toronto:20270617T100000
DTEND;TZID=America/Toronto:20270617T113000
DTSTAMP:20260422T175007
CREATED:20250911T153116Z
LAST-MODIFIED:20250911T153116Z
UID:10010384-1813226400-1813231800@www.stonegatechc.org
SUMMARY:Spanish speaking Women’s Group
DESCRIPTION:“Spanish speaking Women’s Group” \nLadies are invited to participate in a variety of activities such as informative and motivational chats\, arts & crafts\, meditation and relaxation sessions\, cooking demos and more. \nThe group meets every Thursday at 10:00am \nTo register email sonia.demartinez@stonegatechc.org or call 416-231-7070 Ext 239
URL:https://www.stonegatechc.org/event/spanish-speaking-womens-group-2-2/2027-06-17/
CATEGORIES:Women's Programs
ATTACH;FMTTYPE=image/jpeg:https://www.stonegatechc.org/wp-content/uploads/2024/01/Spanish-Womens-Group-new-poster-e1757604627756.jpg
END:VEVENT
BEGIN:VEVENT
DTSTART;TZID=America/Toronto:20270624T100000
DTEND;TZID=America/Toronto:20270624T113000
DTSTAMP:20260422T175007
CREATED:20250911T153116Z
LAST-MODIFIED:20250911T153116Z
UID:10010385-1813831200-1813836600@www.stonegatechc.org
SUMMARY:Spanish speaking Women’s Group
DESCRIPTION:“Spanish speaking Women’s Group” \nLadies are invited to participate in a variety of activities such as informative and motivational chats\, arts & crafts\, meditation and relaxation sessions\, cooking demos and more. \nThe group meets every Thursday at 10:00am \nTo register email sonia.demartinez@stonegatechc.org or call 416-231-7070 Ext 239
URL:https://www.stonegatechc.org/event/spanish-speaking-womens-group-2-2/2027-06-24/
CATEGORIES:Women's Programs
ATTACH;FMTTYPE=image/jpeg:https://www.stonegatechc.org/wp-content/uploads/2024/01/Spanish-Womens-Group-new-poster-e1757604627756.jpg
END:VEVENT
BEGIN:VEVENT
DTSTART;TZID=America/Toronto:20270701T100000
DTEND;TZID=America/Toronto:20270701T113000
DTSTAMP:20260422T175007
CREATED:20250911T153116Z
LAST-MODIFIED:20250911T153116Z
UID:10010386-1814436000-1814441400@www.stonegatechc.org
SUMMARY:Spanish speaking Women’s Group
DESCRIPTION:“Spanish speaking Women’s Group” \nLadies are invited to participate in a variety of activities such as informative and motivational chats\, arts & crafts\, meditation and relaxation sessions\, cooking demos and more. \nThe group meets every Thursday at 10:00am \nTo register email sonia.demartinez@stonegatechc.org or call 416-231-7070 Ext 239
URL:https://www.stonegatechc.org/event/spanish-speaking-womens-group-2-2/2027-07-01/
CATEGORIES:Women's Programs
ATTACH;FMTTYPE=image/jpeg:https://www.stonegatechc.org/wp-content/uploads/2024/01/Spanish-Womens-Group-new-poster-e1757604627756.jpg
END:VEVENT
BEGIN:VEVENT
DTSTART;TZID=America/Toronto:20270708T100000
DTEND;TZID=America/Toronto:20270708T113000
DTSTAMP:20260422T175007
CREATED:20250911T153116Z
LAST-MODIFIED:20250911T153116Z
UID:10010387-1815040800-1815046200@www.stonegatechc.org
SUMMARY:Spanish speaking Women’s Group
DESCRIPTION:“Spanish speaking Women’s Group” \nLadies are invited to participate in a variety of activities such as informative and motivational chats\, arts & crafts\, meditation and relaxation sessions\, cooking demos and more. \nThe group meets every Thursday at 10:00am \nTo register email sonia.demartinez@stonegatechc.org or call 416-231-7070 Ext 239
URL:https://www.stonegatechc.org/event/spanish-speaking-womens-group-2-2/2027-07-08/
CATEGORIES:Women's Programs
ATTACH;FMTTYPE=image/jpeg:https://www.stonegatechc.org/wp-content/uploads/2024/01/Spanish-Womens-Group-new-poster-e1757604627756.jpg
END:VEVENT
BEGIN:VEVENT
DTSTART;TZID=America/Toronto:20270715T100000
DTEND;TZID=America/Toronto:20270715T113000
DTSTAMP:20260422T175007
CREATED:20250911T153116Z
LAST-MODIFIED:20250911T153116Z
UID:10010388-1815645600-1815651000@www.stonegatechc.org
SUMMARY:Spanish speaking Women’s Group
DESCRIPTION:“Spanish speaking Women’s Group” \nLadies are invited to participate in a variety of activities such as informative and motivational chats\, arts & crafts\, meditation and relaxation sessions\, cooking demos and more. \nThe group meets every Thursday at 10:00am \nTo register email sonia.demartinez@stonegatechc.org or call 416-231-7070 Ext 239
URL:https://www.stonegatechc.org/event/spanish-speaking-womens-group-2-2/2027-07-15/
CATEGORIES:Women's Programs
ATTACH;FMTTYPE=image/jpeg:https://www.stonegatechc.org/wp-content/uploads/2024/01/Spanish-Womens-Group-new-poster-e1757604627756.jpg
END:VEVENT
BEGIN:VEVENT
DTSTART;TZID=America/Toronto:20270722T100000
DTEND;TZID=America/Toronto:20270722T113000
DTSTAMP:20260422T175007
CREATED:20250911T153116Z
LAST-MODIFIED:20250911T153116Z
UID:10010389-1816250400-1816255800@www.stonegatechc.org
SUMMARY:Spanish speaking Women’s Group
DESCRIPTION:“Spanish speaking Women’s Group” \nLadies are invited to participate in a variety of activities such as informative and motivational chats\, arts & crafts\, meditation and relaxation sessions\, cooking demos and more. \nThe group meets every Thursday at 10:00am \nTo register email sonia.demartinez@stonegatechc.org or call 416-231-7070 Ext 239
URL:https://www.stonegatechc.org/event/spanish-speaking-womens-group-2-2/2027-07-22/
CATEGORIES:Women's Programs
ATTACH;FMTTYPE=image/jpeg:https://www.stonegatechc.org/wp-content/uploads/2024/01/Spanish-Womens-Group-new-poster-e1757604627756.jpg
END:VEVENT
BEGIN:VEVENT
DTSTART;TZID=America/Toronto:20270729T100000
DTEND;TZID=America/Toronto:20270729T113000
DTSTAMP:20260422T175007
CREATED:20250911T153116Z
LAST-MODIFIED:20250911T153116Z
UID:10010390-1816855200-1816860600@www.stonegatechc.org
SUMMARY:Spanish speaking Women’s Group
DESCRIPTION:“Spanish speaking Women’s Group” \nLadies are invited to participate in a variety of activities such as informative and motivational chats\, arts & crafts\, meditation and relaxation sessions\, cooking demos and more. \nThe group meets every Thursday at 10:00am \nTo register email sonia.demartinez@stonegatechc.org or call 416-231-7070 Ext 239
URL:https://www.stonegatechc.org/event/spanish-speaking-womens-group-2-2/2027-07-29/
CATEGORIES:Women's Programs
ATTACH;FMTTYPE=image/jpeg:https://www.stonegatechc.org/wp-content/uploads/2024/01/Spanish-Womens-Group-new-poster-e1757604627756.jpg
END:VEVENT
BEGIN:VEVENT
DTSTART;TZID=America/Toronto:20270805T100000
DTEND;TZID=America/Toronto:20270805T113000
DTSTAMP:20260422T175007
CREATED:20250911T153116Z
LAST-MODIFIED:20250911T153116Z
UID:10010391-1817460000-1817465400@www.stonegatechc.org
SUMMARY:Spanish speaking Women’s Group
DESCRIPTION:“Spanish speaking Women’s Group” \nLadies are invited to participate in a variety of activities such as informative and motivational chats\, arts & crafts\, meditation and relaxation sessions\, cooking demos and more. \nThe group meets every Thursday at 10:00am \nTo register email sonia.demartinez@stonegatechc.org or call 416-231-7070 Ext 239
URL:https://www.stonegatechc.org/event/spanish-speaking-womens-group-2-2/2027-08-05/
CATEGORIES:Women's Programs
ATTACH;FMTTYPE=image/jpeg:https://www.stonegatechc.org/wp-content/uploads/2024/01/Spanish-Womens-Group-new-poster-e1757604627756.jpg
END:VEVENT
BEGIN:VEVENT
DTSTART;TZID=America/Toronto:20270812T100000
DTEND;TZID=America/Toronto:20270812T113000
DTSTAMP:20260422T175007
CREATED:20250911T153116Z
LAST-MODIFIED:20250911T153116Z
UID:10010392-1818064800-1818070200@www.stonegatechc.org
SUMMARY:Spanish speaking Women’s Group
DESCRIPTION:“Spanish speaking Women’s Group” \nLadies are invited to participate in a variety of activities such as informative and motivational chats\, arts & crafts\, meditation and relaxation sessions\, cooking demos and more. \nThe group meets every Thursday at 10:00am \nTo register email sonia.demartinez@stonegatechc.org or call 416-231-7070 Ext 239
URL:https://www.stonegatechc.org/event/spanish-speaking-womens-group-2-2/2027-08-12/
CATEGORIES:Women's Programs
ATTACH;FMTTYPE=image/jpeg:https://www.stonegatechc.org/wp-content/uploads/2024/01/Spanish-Womens-Group-new-poster-e1757604627756.jpg
END:VEVENT
BEGIN:VEVENT
DTSTART;TZID=America/Toronto:20270819T100000
DTEND;TZID=America/Toronto:20270819T113000
DTSTAMP:20260422T175007
CREATED:20250911T153116Z
LAST-MODIFIED:20250911T153116Z
UID:10010393-1818669600-1818675000@www.stonegatechc.org
SUMMARY:Spanish speaking Women’s Group
DESCRIPTION:“Spanish speaking Women’s Group” \nLadies are invited to participate in a variety of activities such as informative and motivational chats\, arts & crafts\, meditation and relaxation sessions\, cooking demos and more. \nThe group meets every Thursday at 10:00am \nTo register email sonia.demartinez@stonegatechc.org or call 416-231-7070 Ext 239
URL:https://www.stonegatechc.org/event/spanish-speaking-womens-group-2-2/2027-08-19/
CATEGORIES:Women's Programs
ATTACH;FMTTYPE=image/jpeg:https://www.stonegatechc.org/wp-content/uploads/2024/01/Spanish-Womens-Group-new-poster-e1757604627756.jpg
END:VEVENT
BEGIN:VEVENT
DTSTART;TZID=America/Toronto:20270826T100000
DTEND;TZID=America/Toronto:20270826T113000
DTSTAMP:20260422T175007
CREATED:20250911T153116Z
LAST-MODIFIED:20250911T153116Z
UID:10010394-1819274400-1819279800@www.stonegatechc.org
SUMMARY:Spanish speaking Women’s Group
DESCRIPTION:“Spanish speaking Women’s Group” \nLadies are invited to participate in a variety of activities such as informative and motivational chats\, arts & crafts\, meditation and relaxation sessions\, cooking demos and more. \nThe group meets every Thursday at 10:00am \nTo register email sonia.demartinez@stonegatechc.org or call 416-231-7070 Ext 239
URL:https://www.stonegatechc.org/event/spanish-speaking-womens-group-2-2/2027-08-26/
CATEGORIES:Women's Programs
ATTACH;FMTTYPE=image/jpeg:https://www.stonegatechc.org/wp-content/uploads/2024/01/Spanish-Womens-Group-new-poster-e1757604627756.jpg
END:VEVENT
BEGIN:VEVENT
DTSTART;TZID=America/Toronto:20270902T100000
DTEND;TZID=America/Toronto:20270902T113000
DTSTAMP:20260422T175007
CREATED:20250911T153116Z
LAST-MODIFIED:20250911T153116Z
UID:10010395-1819879200-1819884600@www.stonegatechc.org
SUMMARY:Spanish speaking Women’s Group
DESCRIPTION:“Spanish speaking Women’s Group” \nLadies are invited to participate in a variety of activities such as informative and motivational chats\, arts & crafts\, meditation and relaxation sessions\, cooking demos and more. \nThe group meets every Thursday at 10:00am \nTo register email sonia.demartinez@stonegatechc.org or call 416-231-7070 Ext 239
URL:https://www.stonegatechc.org/event/spanish-speaking-womens-group-2-2/2027-09-02/
CATEGORIES:Women's Programs
ATTACH;FMTTYPE=image/jpeg:https://www.stonegatechc.org/wp-content/uploads/2024/01/Spanish-Womens-Group-new-poster-e1757604627756.jpg
END:VEVENT
BEGIN:VEVENT
DTSTART;TZID=America/Toronto:20270909T100000
DTEND;TZID=America/Toronto:20270909T113000
DTSTAMP:20260422T175007
CREATED:20250911T153116Z
LAST-MODIFIED:20250911T153116Z
UID:10010396-1820484000-1820489400@www.stonegatechc.org
SUMMARY:Spanish speaking Women’s Group
DESCRIPTION:“Spanish speaking Women’s Group” \nLadies are invited to participate in a variety of activities such as informative and motivational chats\, arts & crafts\, meditation and relaxation sessions\, cooking demos and more. \nThe group meets every Thursday at 10:00am \nTo register email sonia.demartinez@stonegatechc.org or call 416-231-7070 Ext 239
URL:https://www.stonegatechc.org/event/spanish-speaking-womens-group-2-2/2027-09-09/
CATEGORIES:Women's Programs
ATTACH;FMTTYPE=image/jpeg:https://www.stonegatechc.org/wp-content/uploads/2024/01/Spanish-Womens-Group-new-poster-e1757604627756.jpg
END:VEVENT
BEGIN:VEVENT
DTSTART;TZID=America/Toronto:20270916T100000
DTEND;TZID=America/Toronto:20270916T113000
DTSTAMP:20260422T175007
CREATED:20250911T153116Z
LAST-MODIFIED:20250911T153116Z
UID:10010397-1821088800-1821094200@www.stonegatechc.org
SUMMARY:Spanish speaking Women’s Group
DESCRIPTION:“Spanish speaking Women’s Group” \nLadies are invited to participate in a variety of activities such as informative and motivational chats\, arts & crafts\, meditation and relaxation sessions\, cooking demos and more. \nThe group meets every Thursday at 10:00am \nTo register email sonia.demartinez@stonegatechc.org or call 416-231-7070 Ext 239
URL:https://www.stonegatechc.org/event/spanish-speaking-womens-group-2-2/2027-09-16/
CATEGORIES:Women's Programs
ATTACH;FMTTYPE=image/jpeg:https://www.stonegatechc.org/wp-content/uploads/2024/01/Spanish-Womens-Group-new-poster-e1757604627756.jpg
END:VEVENT
BEGIN:VEVENT
DTSTART;TZID=America/Toronto:20270923T100000
DTEND;TZID=America/Toronto:20270923T113000
DTSTAMP:20260422T175007
CREATED:20250911T153116Z
LAST-MODIFIED:20250911T153116Z
UID:10010398-1821693600-1821699000@www.stonegatechc.org
SUMMARY:Spanish speaking Women’s Group
DESCRIPTION:“Spanish speaking Women’s Group” \nLadies are invited to participate in a variety of activities such as informative and motivational chats\, arts & crafts\, meditation and relaxation sessions\, cooking demos and more. \nThe group meets every Thursday at 10:00am \nTo register email sonia.demartinez@stonegatechc.org or call 416-231-7070 Ext 239
URL:https://www.stonegatechc.org/event/spanish-speaking-womens-group-2-2/2027-09-23/
CATEGORIES:Women's Programs
ATTACH;FMTTYPE=image/jpeg:https://www.stonegatechc.org/wp-content/uploads/2024/01/Spanish-Womens-Group-new-poster-e1757604627756.jpg
END:VEVENT
BEGIN:VEVENT
DTSTART;TZID=America/Toronto:20270930T100000
DTEND;TZID=America/Toronto:20270930T113000
DTSTAMP:20260422T175007
CREATED:20250911T153116Z
LAST-MODIFIED:20250911T153116Z
UID:10010399-1822298400-1822303800@www.stonegatechc.org
SUMMARY:Spanish speaking Women’s Group
DESCRIPTION:“Spanish speaking Women’s Group” \nLadies are invited to participate in a variety of activities such as informative and motivational chats\, arts & crafts\, meditation and relaxation sessions\, cooking demos and more. \nThe group meets every Thursday at 10:00am \nTo register email sonia.demartinez@stonegatechc.org or call 416-231-7070 Ext 239
URL:https://www.stonegatechc.org/event/spanish-speaking-womens-group-2-2/2027-09-30/
CATEGORIES:Women's Programs
ATTACH;FMTTYPE=image/jpeg:https://www.stonegatechc.org/wp-content/uploads/2024/01/Spanish-Womens-Group-new-poster-e1757604627756.jpg
END:VEVENT
BEGIN:VEVENT
DTSTART;TZID=America/Toronto:20271007T100000
DTEND;TZID=America/Toronto:20271007T113000
DTSTAMP:20260422T175007
CREATED:20250911T153116Z
LAST-MODIFIED:20250911T153116Z
UID:10010400-1822903200-1822908600@www.stonegatechc.org
SUMMARY:Spanish speaking Women’s Group
DESCRIPTION:“Spanish speaking Women’s Group” \nLadies are invited to participate in a variety of activities such as informative and motivational chats\, arts & crafts\, meditation and relaxation sessions\, cooking demos and more. \nThe group meets every Thursday at 10:00am \nTo register email sonia.demartinez@stonegatechc.org or call 416-231-7070 Ext 239
URL:https://www.stonegatechc.org/event/spanish-speaking-womens-group-2-2/2027-10-07/
CATEGORIES:Women's Programs
ATTACH;FMTTYPE=image/jpeg:https://www.stonegatechc.org/wp-content/uploads/2024/01/Spanish-Womens-Group-new-poster-e1757604627756.jpg
END:VEVENT
BEGIN:VEVENT
DTSTART;TZID=America/Toronto:20271014T100000
DTEND;TZID=America/Toronto:20271014T113000
DTSTAMP:20260422T175007
CREATED:20250911T153116Z
LAST-MODIFIED:20250911T153116Z
UID:10010401-1823508000-1823513400@www.stonegatechc.org
SUMMARY:Spanish speaking Women’s Group
DESCRIPTION:“Spanish speaking Women’s Group” \nLadies are invited to participate in a variety of activities such as informative and motivational chats\, arts & crafts\, meditation and relaxation sessions\, cooking demos and more. \nThe group meets every Thursday at 10:00am \nTo register email sonia.demartinez@stonegatechc.org or call 416-231-7070 Ext 239
URL:https://www.stonegatechc.org/event/spanish-speaking-womens-group-2-2/2027-10-14/
CATEGORIES:Women's Programs
ATTACH;FMTTYPE=image/jpeg:https://www.stonegatechc.org/wp-content/uploads/2024/01/Spanish-Womens-Group-new-poster-e1757604627756.jpg
END:VEVENT
BEGIN:VEVENT
DTSTART;TZID=America/Toronto:20271021T100000
DTEND;TZID=America/Toronto:20271021T113000
DTSTAMP:20260422T175007
CREATED:20250911T153116Z
LAST-MODIFIED:20250911T153116Z
UID:10010402-1824112800-1824118200@www.stonegatechc.org
SUMMARY:Spanish speaking Women’s Group
DESCRIPTION:“Spanish speaking Women’s Group” \nLadies are invited to participate in a variety of activities such as informative and motivational chats\, arts & crafts\, meditation and relaxation sessions\, cooking demos and more. \nThe group meets every Thursday at 10:00am \nTo register email sonia.demartinez@stonegatechc.org or call 416-231-7070 Ext 239
URL:https://www.stonegatechc.org/event/spanish-speaking-womens-group-2-2/2027-10-21/
CATEGORIES:Women's Programs
ATTACH;FMTTYPE=image/jpeg:https://www.stonegatechc.org/wp-content/uploads/2024/01/Spanish-Womens-Group-new-poster-e1757604627756.jpg
END:VEVENT
BEGIN:VEVENT
DTSTART;TZID=America/Toronto:20271028T100000
DTEND;TZID=America/Toronto:20271028T113000
DTSTAMP:20260422T175007
CREATED:20250911T153116Z
LAST-MODIFIED:20250911T153116Z
UID:10010403-1824717600-1824723000@www.stonegatechc.org
SUMMARY:Spanish speaking Women’s Group
DESCRIPTION:“Spanish speaking Women’s Group” \nLadies are invited to participate in a variety of activities such as informative and motivational chats\, arts & crafts\, meditation and relaxation sessions\, cooking demos and more. \nThe group meets every Thursday at 10:00am \nTo register email sonia.demartinez@stonegatechc.org or call 416-231-7070 Ext 239
URL:https://www.stonegatechc.org/event/spanish-speaking-womens-group-2-2/2027-10-28/
CATEGORIES:Women's Programs
ATTACH;FMTTYPE=image/jpeg:https://www.stonegatechc.org/wp-content/uploads/2024/01/Spanish-Womens-Group-new-poster-e1757604627756.jpg
END:VEVENT
BEGIN:VEVENT
DTSTART;TZID=America/Toronto:20271104T100000
DTEND;TZID=America/Toronto:20271104T113000
DTSTAMP:20260422T175007
CREATED:20250911T153116Z
LAST-MODIFIED:20250911T153116Z
UID:10010404-1825322400-1825327800@www.stonegatechc.org
SUMMARY:Spanish speaking Women’s Group
DESCRIPTION:“Spanish speaking Women’s Group” \nLadies are invited to participate in a variety of activities such as informative and motivational chats\, arts & crafts\, meditation and relaxation sessions\, cooking demos and more. \nThe group meets every Thursday at 10:00am \nTo register email sonia.demartinez@stonegatechc.org or call 416-231-7070 Ext 239
URL:https://www.stonegatechc.org/event/spanish-speaking-womens-group-2-2/2027-11-04/
CATEGORIES:Women's Programs
ATTACH;FMTTYPE=image/jpeg:https://www.stonegatechc.org/wp-content/uploads/2024/01/Spanish-Womens-Group-new-poster-e1757604627756.jpg
END:VEVENT
BEGIN:VEVENT
DTSTART;TZID=America/Toronto:20271111T100000
DTEND;TZID=America/Toronto:20271111T113000
DTSTAMP:20260422T175007
CREATED:20250911T153116Z
LAST-MODIFIED:20250911T153116Z
UID:10010405-1825927200-1825932600@www.stonegatechc.org
SUMMARY:Spanish speaking Women’s Group
DESCRIPTION:“Spanish speaking Women’s Group” \nLadies are invited to participate in a variety of activities such as informative and motivational chats\, arts & crafts\, meditation and relaxation sessions\, cooking demos and more. \nThe group meets every Thursday at 10:00am \nTo register email sonia.demartinez@stonegatechc.org or call 416-231-7070 Ext 239
URL:https://www.stonegatechc.org/event/spanish-speaking-womens-group-2-2/2027-11-11/
CATEGORIES:Women's Programs
ATTACH;FMTTYPE=image/jpeg:https://www.stonegatechc.org/wp-content/uploads/2024/01/Spanish-Womens-Group-new-poster-e1757604627756.jpg
END:VEVENT
END:VCALENDAR