BEGIN:VCALENDAR
VERSION:2.0
PRODID:-//Stonegate Community Health Centre - ECPv6.15.20//NONSGML v1.0//EN
CALSCALE:GREGORIAN
METHOD:PUBLISH
X-WR-CALNAME:Stonegate Community Health Centre
X-ORIGINAL-URL:https://www.stonegatechc.org
X-WR-CALDESC:Events for Stonegate Community Health Centre
REFRESH-INTERVAL;VALUE=DURATION:PT1H
X-Robots-Tag:noindex
X-PUBLISHED-TTL:PT1H
BEGIN:VTIMEZONE
TZID:America/Toronto
BEGIN:DAYLIGHT
TZOFFSETFROM:-0500
TZOFFSETTO:-0400
TZNAME:EDT
DTSTART:20260308T070000
END:DAYLIGHT
BEGIN:STANDARD
TZOFFSETFROM:-0400
TZOFFSETTO:-0500
TZNAME:EST
DTSTART:20261101T060000
END:STANDARD
BEGIN:DAYLIGHT
TZOFFSETFROM:-0500
TZOFFSETTO:-0400
TZNAME:EDT
DTSTART:20270314T070000
END:DAYLIGHT
BEGIN:STANDARD
TZOFFSETFROM:-0400
TZOFFSETTO:-0500
TZNAME:EST
DTSTART:20271107T060000
END:STANDARD
BEGIN:DAYLIGHT
TZOFFSETFROM:-0500
TZOFFSETTO:-0400
TZNAME:EDT
DTSTART:20280312T070000
END:DAYLIGHT
BEGIN:STANDARD
TZOFFSETFROM:-0400
TZOFFSETTO:-0500
TZNAME:EST
DTSTART:20281105T060000
END:STANDARD
BEGIN:DAYLIGHT
TZOFFSETFROM:-0500
TZOFFSETTO:-0400
TZNAME:EDT
DTSTART:20290311T070000
END:DAYLIGHT
BEGIN:STANDARD
TZOFFSETFROM:-0400
TZOFFSETTO:-0500
TZNAME:EST
DTSTART:20291104T060000
END:STANDARD
END:VTIMEZONE
BEGIN:VEVENT
DTSTART;TZID=America/Toronto:20271007T100000
DTEND;TZID=America/Toronto:20271007T113000
DTSTAMP:20260422T190932
CREATED:20250911T153116Z
LAST-MODIFIED:20250911T153116Z
UID:10010400-1822903200-1822908600@www.stonegatechc.org
SUMMARY:Spanish speaking Women’s Group
DESCRIPTION:“Spanish speaking Women’s Group” \nLadies are invited to participate in a variety of activities such as informative and motivational chats\, arts & crafts\, meditation and relaxation sessions\, cooking demos and more. \nThe group meets every Thursday at 10:00am \nTo register email sonia.demartinez@stonegatechc.org or call 416-231-7070 Ext 239
URL:https://www.stonegatechc.org/event/spanish-speaking-womens-group-2-2/2027-10-07/
CATEGORIES:Women's Programs
ATTACH;FMTTYPE=image/jpeg:https://www.stonegatechc.org/wp-content/uploads/2024/01/Spanish-Womens-Group-new-poster-e1757604627756.jpg
END:VEVENT
BEGIN:VEVENT
DTSTART;TZID=America/Toronto:20271014T100000
DTEND;TZID=America/Toronto:20271014T113000
DTSTAMP:20260422T190932
CREATED:20250911T153116Z
LAST-MODIFIED:20250911T153116Z
UID:10010401-1823508000-1823513400@www.stonegatechc.org
SUMMARY:Spanish speaking Women’s Group
DESCRIPTION:“Spanish speaking Women’s Group” \nLadies are invited to participate in a variety of activities such as informative and motivational chats\, arts & crafts\, meditation and relaxation sessions\, cooking demos and more. \nThe group meets every Thursday at 10:00am \nTo register email sonia.demartinez@stonegatechc.org or call 416-231-7070 Ext 239
URL:https://www.stonegatechc.org/event/spanish-speaking-womens-group-2-2/2027-10-14/
CATEGORIES:Women's Programs
ATTACH;FMTTYPE=image/jpeg:https://www.stonegatechc.org/wp-content/uploads/2024/01/Spanish-Womens-Group-new-poster-e1757604627756.jpg
END:VEVENT
BEGIN:VEVENT
DTSTART;TZID=America/Toronto:20271021T100000
DTEND;TZID=America/Toronto:20271021T113000
DTSTAMP:20260422T190932
CREATED:20250911T153116Z
LAST-MODIFIED:20250911T153116Z
UID:10010402-1824112800-1824118200@www.stonegatechc.org
SUMMARY:Spanish speaking Women’s Group
DESCRIPTION:“Spanish speaking Women’s Group” \nLadies are invited to participate in a variety of activities such as informative and motivational chats\, arts & crafts\, meditation and relaxation sessions\, cooking demos and more. \nThe group meets every Thursday at 10:00am \nTo register email sonia.demartinez@stonegatechc.org or call 416-231-7070 Ext 239
URL:https://www.stonegatechc.org/event/spanish-speaking-womens-group-2-2/2027-10-21/
CATEGORIES:Women's Programs
ATTACH;FMTTYPE=image/jpeg:https://www.stonegatechc.org/wp-content/uploads/2024/01/Spanish-Womens-Group-new-poster-e1757604627756.jpg
END:VEVENT
BEGIN:VEVENT
DTSTART;TZID=America/Toronto:20271028T100000
DTEND;TZID=America/Toronto:20271028T113000
DTSTAMP:20260422T190932
CREATED:20250911T153116Z
LAST-MODIFIED:20250911T153116Z
UID:10010403-1824717600-1824723000@www.stonegatechc.org
SUMMARY:Spanish speaking Women’s Group
DESCRIPTION:“Spanish speaking Women’s Group” \nLadies are invited to participate in a variety of activities such as informative and motivational chats\, arts & crafts\, meditation and relaxation sessions\, cooking demos and more. \nThe group meets every Thursday at 10:00am \nTo register email sonia.demartinez@stonegatechc.org or call 416-231-7070 Ext 239
URL:https://www.stonegatechc.org/event/spanish-speaking-womens-group-2-2/2027-10-28/
CATEGORIES:Women's Programs
ATTACH;FMTTYPE=image/jpeg:https://www.stonegatechc.org/wp-content/uploads/2024/01/Spanish-Womens-Group-new-poster-e1757604627756.jpg
END:VEVENT
BEGIN:VEVENT
DTSTART;TZID=America/Toronto:20271104T100000
DTEND;TZID=America/Toronto:20271104T113000
DTSTAMP:20260422T190932
CREATED:20250911T153116Z
LAST-MODIFIED:20250911T153116Z
UID:10010404-1825322400-1825327800@www.stonegatechc.org
SUMMARY:Spanish speaking Women’s Group
DESCRIPTION:“Spanish speaking Women’s Group” \nLadies are invited to participate in a variety of activities such as informative and motivational chats\, arts & crafts\, meditation and relaxation sessions\, cooking demos and more. \nThe group meets every Thursday at 10:00am \nTo register email sonia.demartinez@stonegatechc.org or call 416-231-7070 Ext 239
URL:https://www.stonegatechc.org/event/spanish-speaking-womens-group-2-2/2027-11-04/
CATEGORIES:Women's Programs
ATTACH;FMTTYPE=image/jpeg:https://www.stonegatechc.org/wp-content/uploads/2024/01/Spanish-Womens-Group-new-poster-e1757604627756.jpg
END:VEVENT
BEGIN:VEVENT
DTSTART;TZID=America/Toronto:20271111T100000
DTEND;TZID=America/Toronto:20271111T113000
DTSTAMP:20260422T190932
CREATED:20250911T153116Z
LAST-MODIFIED:20250911T153116Z
UID:10010405-1825927200-1825932600@www.stonegatechc.org
SUMMARY:Spanish speaking Women’s Group
DESCRIPTION:“Spanish speaking Women’s Group” \nLadies are invited to participate in a variety of activities such as informative and motivational chats\, arts & crafts\, meditation and relaxation sessions\, cooking demos and more. \nThe group meets every Thursday at 10:00am \nTo register email sonia.demartinez@stonegatechc.org or call 416-231-7070 Ext 239
URL:https://www.stonegatechc.org/event/spanish-speaking-womens-group-2-2/2027-11-11/
CATEGORIES:Women's Programs
ATTACH;FMTTYPE=image/jpeg:https://www.stonegatechc.org/wp-content/uploads/2024/01/Spanish-Womens-Group-new-poster-e1757604627756.jpg
END:VEVENT
BEGIN:VEVENT
DTSTART;TZID=America/Toronto:20271118T100000
DTEND;TZID=America/Toronto:20271118T113000
DTSTAMP:20260422T190932
CREATED:20250911T153116Z
LAST-MODIFIED:20250911T153116Z
UID:10010406-1826532000-1826537400@www.stonegatechc.org
SUMMARY:Spanish speaking Women’s Group
DESCRIPTION:“Spanish speaking Women’s Group” \nLadies are invited to participate in a variety of activities such as informative and motivational chats\, arts & crafts\, meditation and relaxation sessions\, cooking demos and more. \nThe group meets every Thursday at 10:00am \nTo register email sonia.demartinez@stonegatechc.org or call 416-231-7070 Ext 239
URL:https://www.stonegatechc.org/event/spanish-speaking-womens-group-2-2/2027-11-18/
CATEGORIES:Women's Programs
ATTACH;FMTTYPE=image/jpeg:https://www.stonegatechc.org/wp-content/uploads/2024/01/Spanish-Womens-Group-new-poster-e1757604627756.jpg
END:VEVENT
BEGIN:VEVENT
DTSTART;TZID=America/Toronto:20271125T100000
DTEND;TZID=America/Toronto:20271125T113000
DTSTAMP:20260422T190932
CREATED:20250911T153116Z
LAST-MODIFIED:20250911T153116Z
UID:10010407-1827136800-1827142200@www.stonegatechc.org
SUMMARY:Spanish speaking Women’s Group
DESCRIPTION:“Spanish speaking Women’s Group” \nLadies are invited to participate in a variety of activities such as informative and motivational chats\, arts & crafts\, meditation and relaxation sessions\, cooking demos and more. \nThe group meets every Thursday at 10:00am \nTo register email sonia.demartinez@stonegatechc.org or call 416-231-7070 Ext 239
URL:https://www.stonegatechc.org/event/spanish-speaking-womens-group-2-2/2027-11-25/
CATEGORIES:Women's Programs
ATTACH;FMTTYPE=image/jpeg:https://www.stonegatechc.org/wp-content/uploads/2024/01/Spanish-Womens-Group-new-poster-e1757604627756.jpg
END:VEVENT
BEGIN:VEVENT
DTSTART;TZID=America/Toronto:20271202T100000
DTEND;TZID=America/Toronto:20271202T113000
DTSTAMP:20260422T190932
CREATED:20250911T153116Z
LAST-MODIFIED:20250911T153116Z
UID:10010408-1827741600-1827747000@www.stonegatechc.org
SUMMARY:Spanish speaking Women’s Group
DESCRIPTION:“Spanish speaking Women’s Group” \nLadies are invited to participate in a variety of activities such as informative and motivational chats\, arts & crafts\, meditation and relaxation sessions\, cooking demos and more. \nThe group meets every Thursday at 10:00am \nTo register email sonia.demartinez@stonegatechc.org or call 416-231-7070 Ext 239
URL:https://www.stonegatechc.org/event/spanish-speaking-womens-group-2-2/2027-12-02/
CATEGORIES:Women's Programs
ATTACH;FMTTYPE=image/jpeg:https://www.stonegatechc.org/wp-content/uploads/2024/01/Spanish-Womens-Group-new-poster-e1757604627756.jpg
END:VEVENT
BEGIN:VEVENT
DTSTART;TZID=America/Toronto:20271209T100000
DTEND;TZID=America/Toronto:20271209T113000
DTSTAMP:20260422T190932
CREATED:20250911T153116Z
LAST-MODIFIED:20250911T153116Z
UID:10010409-1828346400-1828351800@www.stonegatechc.org
SUMMARY:Spanish speaking Women’s Group
DESCRIPTION:“Spanish speaking Women’s Group” \nLadies are invited to participate in a variety of activities such as informative and motivational chats\, arts & crafts\, meditation and relaxation sessions\, cooking demos and more. \nThe group meets every Thursday at 10:00am \nTo register email sonia.demartinez@stonegatechc.org or call 416-231-7070 Ext 239
URL:https://www.stonegatechc.org/event/spanish-speaking-womens-group-2-2/2027-12-09/
CATEGORIES:Women's Programs
ATTACH;FMTTYPE=image/jpeg:https://www.stonegatechc.org/wp-content/uploads/2024/01/Spanish-Womens-Group-new-poster-e1757604627756.jpg
END:VEVENT
BEGIN:VEVENT
DTSTART;TZID=America/Toronto:20271216T100000
DTEND;TZID=America/Toronto:20271216T113000
DTSTAMP:20260422T190932
CREATED:20250911T153116Z
LAST-MODIFIED:20250911T153116Z
UID:10010410-1828951200-1828956600@www.stonegatechc.org
SUMMARY:Spanish speaking Women’s Group
DESCRIPTION:“Spanish speaking Women’s Group” \nLadies are invited to participate in a variety of activities such as informative and motivational chats\, arts & crafts\, meditation and relaxation sessions\, cooking demos and more. \nThe group meets every Thursday at 10:00am \nTo register email sonia.demartinez@stonegatechc.org or call 416-231-7070 Ext 239
URL:https://www.stonegatechc.org/event/spanish-speaking-womens-group-2-2/2027-12-16/
CATEGORIES:Women's Programs
ATTACH;FMTTYPE=image/jpeg:https://www.stonegatechc.org/wp-content/uploads/2024/01/Spanish-Womens-Group-new-poster-e1757604627756.jpg
END:VEVENT
BEGIN:VEVENT
DTSTART;TZID=America/Toronto:20271223T100000
DTEND;TZID=America/Toronto:20271223T113000
DTSTAMP:20260422T190932
CREATED:20250911T153116Z
LAST-MODIFIED:20250911T153116Z
UID:10010411-1829556000-1829561400@www.stonegatechc.org
SUMMARY:Spanish speaking Women’s Group
DESCRIPTION:“Spanish speaking Women’s Group” \nLadies are invited to participate in a variety of activities such as informative and motivational chats\, arts & crafts\, meditation and relaxation sessions\, cooking demos and more. \nThe group meets every Thursday at 10:00am \nTo register email sonia.demartinez@stonegatechc.org or call 416-231-7070 Ext 239
URL:https://www.stonegatechc.org/event/spanish-speaking-womens-group-2-2/2027-12-23/
CATEGORIES:Women's Programs
ATTACH;FMTTYPE=image/jpeg:https://www.stonegatechc.org/wp-content/uploads/2024/01/Spanish-Womens-Group-new-poster-e1757604627756.jpg
END:VEVENT
BEGIN:VEVENT
DTSTART;TZID=America/Toronto:20271230T100000
DTEND;TZID=America/Toronto:20271230T113000
DTSTAMP:20260422T190932
CREATED:20250911T153116Z
LAST-MODIFIED:20250911T153116Z
UID:10010412-1830160800-1830166200@www.stonegatechc.org
SUMMARY:Spanish speaking Women’s Group
DESCRIPTION:“Spanish speaking Women’s Group” \nLadies are invited to participate in a variety of activities such as informative and motivational chats\, arts & crafts\, meditation and relaxation sessions\, cooking demos and more. \nThe group meets every Thursday at 10:00am \nTo register email sonia.demartinez@stonegatechc.org or call 416-231-7070 Ext 239
URL:https://www.stonegatechc.org/event/spanish-speaking-womens-group-2-2/2027-12-30/
CATEGORIES:Women's Programs
ATTACH;FMTTYPE=image/jpeg:https://www.stonegatechc.org/wp-content/uploads/2024/01/Spanish-Womens-Group-new-poster-e1757604627756.jpg
END:VEVENT
BEGIN:VEVENT
DTSTART;TZID=America/Toronto:20280106T100000
DTEND;TZID=America/Toronto:20280106T113000
DTSTAMP:20260422T190932
CREATED:20250911T153116Z
LAST-MODIFIED:20250911T153116Z
UID:10010413-1830765600-1830771000@www.stonegatechc.org
SUMMARY:Spanish speaking Women’s Group
DESCRIPTION:“Spanish speaking Women’s Group” \nLadies are invited to participate in a variety of activities such as informative and motivational chats\, arts & crafts\, meditation and relaxation sessions\, cooking demos and more. \nThe group meets every Thursday at 10:00am \nTo register email sonia.demartinez@stonegatechc.org or call 416-231-7070 Ext 239
URL:https://www.stonegatechc.org/event/spanish-speaking-womens-group-2-2/2028-01-06/
CATEGORIES:Women's Programs
ATTACH;FMTTYPE=image/jpeg:https://www.stonegatechc.org/wp-content/uploads/2024/01/Spanish-Womens-Group-new-poster-e1757604627756.jpg
END:VEVENT
BEGIN:VEVENT
DTSTART;TZID=America/Toronto:20280113T100000
DTEND;TZID=America/Toronto:20280113T113000
DTSTAMP:20260422T190932
CREATED:20250911T153116Z
LAST-MODIFIED:20250911T153116Z
UID:10010414-1831370400-1831375800@www.stonegatechc.org
SUMMARY:Spanish speaking Women’s Group
DESCRIPTION:“Spanish speaking Women’s Group” \nLadies are invited to participate in a variety of activities such as informative and motivational chats\, arts & crafts\, meditation and relaxation sessions\, cooking demos and more. \nThe group meets every Thursday at 10:00am \nTo register email sonia.demartinez@stonegatechc.org or call 416-231-7070 Ext 239
URL:https://www.stonegatechc.org/event/spanish-speaking-womens-group-2-2/2028-01-13/
CATEGORIES:Women's Programs
ATTACH;FMTTYPE=image/jpeg:https://www.stonegatechc.org/wp-content/uploads/2024/01/Spanish-Womens-Group-new-poster-e1757604627756.jpg
END:VEVENT
BEGIN:VEVENT
DTSTART;TZID=America/Toronto:20280120T100000
DTEND;TZID=America/Toronto:20280120T113000
DTSTAMP:20260422T190932
CREATED:20250911T153116Z
LAST-MODIFIED:20250911T153116Z
UID:10010415-1831975200-1831980600@www.stonegatechc.org
SUMMARY:Spanish speaking Women’s Group
DESCRIPTION:“Spanish speaking Women’s Group” \nLadies are invited to participate in a variety of activities such as informative and motivational chats\, arts & crafts\, meditation and relaxation sessions\, cooking demos and more. \nThe group meets every Thursday at 10:00am \nTo register email sonia.demartinez@stonegatechc.org or call 416-231-7070 Ext 239
URL:https://www.stonegatechc.org/event/spanish-speaking-womens-group-2-2/2028-01-20/
CATEGORIES:Women's Programs
ATTACH;FMTTYPE=image/jpeg:https://www.stonegatechc.org/wp-content/uploads/2024/01/Spanish-Womens-Group-new-poster-e1757604627756.jpg
END:VEVENT
BEGIN:VEVENT
DTSTART;TZID=America/Toronto:20280127T100000
DTEND;TZID=America/Toronto:20280127T113000
DTSTAMP:20260422T190932
CREATED:20250911T153116Z
LAST-MODIFIED:20250911T153116Z
UID:10010416-1832580000-1832585400@www.stonegatechc.org
SUMMARY:Spanish speaking Women’s Group
DESCRIPTION:“Spanish speaking Women’s Group” \nLadies are invited to participate in a variety of activities such as informative and motivational chats\, arts & crafts\, meditation and relaxation sessions\, cooking demos and more. \nThe group meets every Thursday at 10:00am \nTo register email sonia.demartinez@stonegatechc.org or call 416-231-7070 Ext 239
URL:https://www.stonegatechc.org/event/spanish-speaking-womens-group-2-2/2028-01-27/
CATEGORIES:Women's Programs
ATTACH;FMTTYPE=image/jpeg:https://www.stonegatechc.org/wp-content/uploads/2024/01/Spanish-Womens-Group-new-poster-e1757604627756.jpg
END:VEVENT
BEGIN:VEVENT
DTSTART;TZID=America/Toronto:20280203T100000
DTEND;TZID=America/Toronto:20280203T113000
DTSTAMP:20260422T190932
CREATED:20250911T153116Z
LAST-MODIFIED:20250911T153116Z
UID:10010417-1833184800-1833190200@www.stonegatechc.org
SUMMARY:Spanish speaking Women’s Group
DESCRIPTION:“Spanish speaking Women’s Group” \nLadies are invited to participate in a variety of activities such as informative and motivational chats\, arts & crafts\, meditation and relaxation sessions\, cooking demos and more. \nThe group meets every Thursday at 10:00am \nTo register email sonia.demartinez@stonegatechc.org or call 416-231-7070 Ext 239
URL:https://www.stonegatechc.org/event/spanish-speaking-womens-group-2-2/2028-02-03/
CATEGORIES:Women's Programs
ATTACH;FMTTYPE=image/jpeg:https://www.stonegatechc.org/wp-content/uploads/2024/01/Spanish-Womens-Group-new-poster-e1757604627756.jpg
END:VEVENT
BEGIN:VEVENT
DTSTART;TZID=America/Toronto:20280210T100000
DTEND;TZID=America/Toronto:20280210T113000
DTSTAMP:20260422T190932
CREATED:20250911T153116Z
LAST-MODIFIED:20250911T153116Z
UID:10010418-1833789600-1833795000@www.stonegatechc.org
SUMMARY:Spanish speaking Women’s Group
DESCRIPTION:“Spanish speaking Women’s Group” \nLadies are invited to participate in a variety of activities such as informative and motivational chats\, arts & crafts\, meditation and relaxation sessions\, cooking demos and more. \nThe group meets every Thursday at 10:00am \nTo register email sonia.demartinez@stonegatechc.org or call 416-231-7070 Ext 239
URL:https://www.stonegatechc.org/event/spanish-speaking-womens-group-2-2/2028-02-10/
CATEGORIES:Women's Programs
ATTACH;FMTTYPE=image/jpeg:https://www.stonegatechc.org/wp-content/uploads/2024/01/Spanish-Womens-Group-new-poster-e1757604627756.jpg
END:VEVENT
BEGIN:VEVENT
DTSTART;TZID=America/Toronto:20280217T100000
DTEND;TZID=America/Toronto:20280217T113000
DTSTAMP:20260422T190932
CREATED:20250911T153116Z
LAST-MODIFIED:20250911T153116Z
UID:10010419-1834394400-1834399800@www.stonegatechc.org
SUMMARY:Spanish speaking Women’s Group
DESCRIPTION:“Spanish speaking Women’s Group” \nLadies are invited to participate in a variety of activities such as informative and motivational chats\, arts & crafts\, meditation and relaxation sessions\, cooking demos and more. \nThe group meets every Thursday at 10:00am \nTo register email sonia.demartinez@stonegatechc.org or call 416-231-7070 Ext 239
URL:https://www.stonegatechc.org/event/spanish-speaking-womens-group-2-2/2028-02-17/
CATEGORIES:Women's Programs
ATTACH;FMTTYPE=image/jpeg:https://www.stonegatechc.org/wp-content/uploads/2024/01/Spanish-Womens-Group-new-poster-e1757604627756.jpg
END:VEVENT
BEGIN:VEVENT
DTSTART;TZID=America/Toronto:20280224T100000
DTEND;TZID=America/Toronto:20280224T113000
DTSTAMP:20260422T190932
CREATED:20250911T153116Z
LAST-MODIFIED:20250911T153116Z
UID:10010420-1834999200-1835004600@www.stonegatechc.org
SUMMARY:Spanish speaking Women’s Group
DESCRIPTION:“Spanish speaking Women’s Group” \nLadies are invited to participate in a variety of activities such as informative and motivational chats\, arts & crafts\, meditation and relaxation sessions\, cooking demos and more. \nThe group meets every Thursday at 10:00am \nTo register email sonia.demartinez@stonegatechc.org or call 416-231-7070 Ext 239
URL:https://www.stonegatechc.org/event/spanish-speaking-womens-group-2-2/2028-02-24/
CATEGORIES:Women's Programs
ATTACH;FMTTYPE=image/jpeg:https://www.stonegatechc.org/wp-content/uploads/2024/01/Spanish-Womens-Group-new-poster-e1757604627756.jpg
END:VEVENT
BEGIN:VEVENT
DTSTART;TZID=America/Toronto:20280302T100000
DTEND;TZID=America/Toronto:20280302T113000
DTSTAMP:20260422T190932
CREATED:20250911T153116Z
LAST-MODIFIED:20250911T153116Z
UID:10010421-1835604000-1835609400@www.stonegatechc.org
SUMMARY:Spanish speaking Women’s Group
DESCRIPTION:“Spanish speaking Women’s Group” \nLadies are invited to participate in a variety of activities such as informative and motivational chats\, arts & crafts\, meditation and relaxation sessions\, cooking demos and more. \nThe group meets every Thursday at 10:00am \nTo register email sonia.demartinez@stonegatechc.org or call 416-231-7070 Ext 239
URL:https://www.stonegatechc.org/event/spanish-speaking-womens-group-2-2/2028-03-02/
CATEGORIES:Women's Programs
ATTACH;FMTTYPE=image/jpeg:https://www.stonegatechc.org/wp-content/uploads/2024/01/Spanish-Womens-Group-new-poster-e1757604627756.jpg
END:VEVENT
BEGIN:VEVENT
DTSTART;TZID=America/Toronto:20280309T100000
DTEND;TZID=America/Toronto:20280309T113000
DTSTAMP:20260422T190932
CREATED:20250911T153116Z
LAST-MODIFIED:20250911T153116Z
UID:10010422-1836208800-1836214200@www.stonegatechc.org
SUMMARY:Spanish speaking Women’s Group
DESCRIPTION:“Spanish speaking Women’s Group” \nLadies are invited to participate in a variety of activities such as informative and motivational chats\, arts & crafts\, meditation and relaxation sessions\, cooking demos and more. \nThe group meets every Thursday at 10:00am \nTo register email sonia.demartinez@stonegatechc.org or call 416-231-7070 Ext 239
URL:https://www.stonegatechc.org/event/spanish-speaking-womens-group-2-2/2028-03-09/
CATEGORIES:Women's Programs
ATTACH;FMTTYPE=image/jpeg:https://www.stonegatechc.org/wp-content/uploads/2024/01/Spanish-Womens-Group-new-poster-e1757604627756.jpg
END:VEVENT
BEGIN:VEVENT
DTSTART;TZID=America/Toronto:20280316T100000
DTEND;TZID=America/Toronto:20280316T113000
DTSTAMP:20260422T190932
CREATED:20250911T153116Z
LAST-MODIFIED:20250911T153116Z
UID:10010423-1836813600-1836819000@www.stonegatechc.org
SUMMARY:Spanish speaking Women’s Group
DESCRIPTION:“Spanish speaking Women’s Group” \nLadies are invited to participate in a variety of activities such as informative and motivational chats\, arts & crafts\, meditation and relaxation sessions\, cooking demos and more. \nThe group meets every Thursday at 10:00am \nTo register email sonia.demartinez@stonegatechc.org or call 416-231-7070 Ext 239
URL:https://www.stonegatechc.org/event/spanish-speaking-womens-group-2-2/2028-03-16/
CATEGORIES:Women's Programs
ATTACH;FMTTYPE=image/jpeg:https://www.stonegatechc.org/wp-content/uploads/2024/01/Spanish-Womens-Group-new-poster-e1757604627756.jpg
END:VEVENT
BEGIN:VEVENT
DTSTART;TZID=America/Toronto:20280323T100000
DTEND;TZID=America/Toronto:20280323T113000
DTSTAMP:20260422T190932
CREATED:20250911T153116Z
LAST-MODIFIED:20250911T153116Z
UID:10010424-1837418400-1837423800@www.stonegatechc.org
SUMMARY:Spanish speaking Women’s Group
DESCRIPTION:“Spanish speaking Women’s Group” \nLadies are invited to participate in a variety of activities such as informative and motivational chats\, arts & crafts\, meditation and relaxation sessions\, cooking demos and more. \nThe group meets every Thursday at 10:00am \nTo register email sonia.demartinez@stonegatechc.org or call 416-231-7070 Ext 239
URL:https://www.stonegatechc.org/event/spanish-speaking-womens-group-2-2/2028-03-23/
CATEGORIES:Women's Programs
ATTACH;FMTTYPE=image/jpeg:https://www.stonegatechc.org/wp-content/uploads/2024/01/Spanish-Womens-Group-new-poster-e1757604627756.jpg
END:VEVENT
BEGIN:VEVENT
DTSTART;TZID=America/Toronto:20280330T100000
DTEND;TZID=America/Toronto:20280330T113000
DTSTAMP:20260422T190932
CREATED:20250911T153116Z
LAST-MODIFIED:20250911T153116Z
UID:10010425-1838023200-1838028600@www.stonegatechc.org
SUMMARY:Spanish speaking Women’s Group
DESCRIPTION:“Spanish speaking Women’s Group” \nLadies are invited to participate in a variety of activities such as informative and motivational chats\, arts & crafts\, meditation and relaxation sessions\, cooking demos and more. \nThe group meets every Thursday at 10:00am \nTo register email sonia.demartinez@stonegatechc.org or call 416-231-7070 Ext 239
URL:https://www.stonegatechc.org/event/spanish-speaking-womens-group-2-2/2028-03-30/
CATEGORIES:Women's Programs
ATTACH;FMTTYPE=image/jpeg:https://www.stonegatechc.org/wp-content/uploads/2024/01/Spanish-Womens-Group-new-poster-e1757604627756.jpg
END:VEVENT
BEGIN:VEVENT
DTSTART;TZID=America/Toronto:20280406T100000
DTEND;TZID=America/Toronto:20280406T113000
DTSTAMP:20260422T190932
CREATED:20250911T153116Z
LAST-MODIFIED:20250911T153116Z
UID:10010426-1838628000-1838633400@www.stonegatechc.org
SUMMARY:Spanish speaking Women’s Group
DESCRIPTION:“Spanish speaking Women’s Group” \nLadies are invited to participate in a variety of activities such as informative and motivational chats\, arts & crafts\, meditation and relaxation sessions\, cooking demos and more. \nThe group meets every Thursday at 10:00am \nTo register email sonia.demartinez@stonegatechc.org or call 416-231-7070 Ext 239
URL:https://www.stonegatechc.org/event/spanish-speaking-womens-group-2-2/2028-04-06/
CATEGORIES:Women's Programs
ATTACH;FMTTYPE=image/jpeg:https://www.stonegatechc.org/wp-content/uploads/2024/01/Spanish-Womens-Group-new-poster-e1757604627756.jpg
END:VEVENT
BEGIN:VEVENT
DTSTART;TZID=America/Toronto:20280413T100000
DTEND;TZID=America/Toronto:20280413T113000
DTSTAMP:20260422T190932
CREATED:20250911T153116Z
LAST-MODIFIED:20250911T153116Z
UID:10010427-1839232800-1839238200@www.stonegatechc.org
SUMMARY:Spanish speaking Women’s Group
DESCRIPTION:“Spanish speaking Women’s Group” \nLadies are invited to participate in a variety of activities such as informative and motivational chats\, arts & crafts\, meditation and relaxation sessions\, cooking demos and more. \nThe group meets every Thursday at 10:00am \nTo register email sonia.demartinez@stonegatechc.org or call 416-231-7070 Ext 239
URL:https://www.stonegatechc.org/event/spanish-speaking-womens-group-2-2/2028-04-13/
CATEGORIES:Women's Programs
ATTACH;FMTTYPE=image/jpeg:https://www.stonegatechc.org/wp-content/uploads/2024/01/Spanish-Womens-Group-new-poster-e1757604627756.jpg
END:VEVENT
BEGIN:VEVENT
DTSTART;TZID=America/Toronto:20280420T100000
DTEND;TZID=America/Toronto:20280420T113000
DTSTAMP:20260422T190932
CREATED:20250911T153116Z
LAST-MODIFIED:20250911T153116Z
UID:10010428-1839837600-1839843000@www.stonegatechc.org
SUMMARY:Spanish speaking Women’s Group
DESCRIPTION:“Spanish speaking Women’s Group” \nLadies are invited to participate in a variety of activities such as informative and motivational chats\, arts & crafts\, meditation and relaxation sessions\, cooking demos and more. \nThe group meets every Thursday at 10:00am \nTo register email sonia.demartinez@stonegatechc.org or call 416-231-7070 Ext 239
URL:https://www.stonegatechc.org/event/spanish-speaking-womens-group-2-2/2028-04-20/
CATEGORIES:Women's Programs
ATTACH;FMTTYPE=image/jpeg:https://www.stonegatechc.org/wp-content/uploads/2024/01/Spanish-Womens-Group-new-poster-e1757604627756.jpg
END:VEVENT
BEGIN:VEVENT
DTSTART;TZID=America/Toronto:20280427T100000
DTEND;TZID=America/Toronto:20280427T113000
DTSTAMP:20260422T190932
CREATED:20250911T153116Z
LAST-MODIFIED:20250911T153116Z
UID:10010429-1840442400-1840447800@www.stonegatechc.org
SUMMARY:Spanish speaking Women’s Group
DESCRIPTION:“Spanish speaking Women’s Group” \nLadies are invited to participate in a variety of activities such as informative and motivational chats\, arts & crafts\, meditation and relaxation sessions\, cooking demos and more. \nThe group meets every Thursday at 10:00am \nTo register email sonia.demartinez@stonegatechc.org or call 416-231-7070 Ext 239
URL:https://www.stonegatechc.org/event/spanish-speaking-womens-group-2-2/2028-04-27/
CATEGORIES:Women's Programs
ATTACH;FMTTYPE=image/jpeg:https://www.stonegatechc.org/wp-content/uploads/2024/01/Spanish-Womens-Group-new-poster-e1757604627756.jpg
END:VEVENT
END:VCALENDAR