BEGIN:VCALENDAR
VERSION:2.0
PRODID:-//Stonegate Community Health Centre - ECPv6.15.20//NONSGML v1.0//EN
CALSCALE:GREGORIAN
METHOD:PUBLISH
X-WR-CALNAME:Stonegate Community Health Centre
X-ORIGINAL-URL:https://www.stonegatechc.org
X-WR-CALDESC:Events for Stonegate Community Health Centre
REFRESH-INTERVAL;VALUE=DURATION:PT1H
X-Robots-Tag:noindex
X-PUBLISHED-TTL:PT1H
BEGIN:VTIMEZONE
TZID:America/Toronto
BEGIN:DAYLIGHT
TZOFFSETFROM:-0500
TZOFFSETTO:-0400
TZNAME:EDT
DTSTART:20210314T070000
END:DAYLIGHT
BEGIN:STANDARD
TZOFFSETFROM:-0400
TZOFFSETTO:-0500
TZNAME:EST
DTSTART:20211107T060000
END:STANDARD
BEGIN:DAYLIGHT
TZOFFSETFROM:-0500
TZOFFSETTO:-0400
TZNAME:EDT
DTSTART:20220313T070000
END:DAYLIGHT
BEGIN:STANDARD
TZOFFSETFROM:-0400
TZOFFSETTO:-0500
TZNAME:EST
DTSTART:20221106T060000
END:STANDARD
BEGIN:DAYLIGHT
TZOFFSETFROM:-0500
TZOFFSETTO:-0400
TZNAME:EDT
DTSTART:20230312T070000
END:DAYLIGHT
BEGIN:STANDARD
TZOFFSETFROM:-0400
TZOFFSETTO:-0500
TZNAME:EST
DTSTART:20231105T060000
END:STANDARD
END:VTIMEZONE
BEGIN:VEVENT
DTSTART;TZID=America/Toronto:20220310T120000
DTEND;TZID=America/Toronto:20220310T150000
DTSTAMP:20260421T022115
CREATED:20220524T052940Z
LAST-MODIFIED:20220831T160812Z
UID:10000470-1646913600-1646924400@www.stonegatechc.org
SUMMARY:Good Food Market
DESCRIPTION:Good Food Market \nEvery Thursday 12pm-3pm (Prior If Sold Out) \n10 Neighbour Hood Lane 2nd Floor At Stonegatechc \n416-231-7070 Ext 307 \nCovid Protocols Are In Place. \nBring Your Own Bag \nAffordable Produce \nCash And Debit
URL:https://www.stonegatechc.org/event/good-food-market/2022-03-10/
LOCATION:Stonegate Community Health Centre\, 10 Neighbourhood Lane\, Unit 201\, Stonegate CHC\, ETOBICOKE\, Ontario\, M8Y 0C5\, Canada
CATEGORIES:Food Programs,General
ATTACH;FMTTYPE=application/pdf:https://www.stonegatechc.org/wp-content/uploads/2022/05/Poster-GFMarket.pdf
END:VEVENT
BEGIN:VEVENT
DTSTART;TZID=America/Toronto:20220303T120000
DTEND;TZID=America/Toronto:20220303T150000
DTSTAMP:20260421T022115
CREATED:20220524T052940Z
LAST-MODIFIED:20220831T160812Z
UID:10000469-1646308800-1646319600@www.stonegatechc.org
SUMMARY:Good Food Market
DESCRIPTION:Good Food Market \nEvery Thursday 12pm-3pm (Prior If Sold Out) \n10 Neighbour Hood Lane 2nd Floor At Stonegatechc \n416-231-7070 Ext 307 \nCovid Protocols Are In Place. \nBring Your Own Bag \nAffordable Produce \nCash And Debit
URL:https://www.stonegatechc.org/event/good-food-market/2022-03-03/
LOCATION:Stonegate Community Health Centre\, 10 Neighbourhood Lane\, Unit 201\, Stonegate CHC\, ETOBICOKE\, Ontario\, M8Y 0C5\, Canada
CATEGORIES:Food Programs,General
ATTACH;FMTTYPE=application/pdf:https://www.stonegatechc.org/wp-content/uploads/2022/05/Poster-GFMarket.pdf
END:VEVENT
END:VCALENDAR