BEGIN:VCALENDAR
VERSION:2.0
PRODID:-//Stonegate Community Health Centre - ECPv6.15.20//NONSGML v1.0//EN
CALSCALE:GREGORIAN
METHOD:PUBLISH
X-WR-CALNAME:Stonegate Community Health Centre
X-ORIGINAL-URL:https://www.stonegatechc.org
X-WR-CALDESC:Events for Stonegate Community Health Centre
REFRESH-INTERVAL;VALUE=DURATION:PT1H
X-Robots-Tag:noindex
X-PUBLISHED-TTL:PT1H
BEGIN:VTIMEZONE
TZID:America/Toronto
BEGIN:DAYLIGHT
TZOFFSETFROM:-0500
TZOFFSETTO:-0400
TZNAME:EDT
DTSTART:20250309T070000
END:DAYLIGHT
BEGIN:STANDARD
TZOFFSETFROM:-0400
TZOFFSETTO:-0500
TZNAME:EST
DTSTART:20251102T060000
END:STANDARD
BEGIN:DAYLIGHT
TZOFFSETFROM:-0500
TZOFFSETTO:-0400
TZNAME:EDT
DTSTART:20260308T070000
END:DAYLIGHT
BEGIN:STANDARD
TZOFFSETFROM:-0400
TZOFFSETTO:-0500
TZNAME:EST
DTSTART:20261101T060000
END:STANDARD
BEGIN:DAYLIGHT
TZOFFSETFROM:-0500
TZOFFSETTO:-0400
TZNAME:EDT
DTSTART:20270314T070000
END:DAYLIGHT
BEGIN:STANDARD
TZOFFSETFROM:-0400
TZOFFSETTO:-0500
TZNAME:EST
DTSTART:20271107T060000
END:STANDARD
BEGIN:DAYLIGHT
TZOFFSETFROM:-0500
TZOFFSETTO:-0400
TZNAME:EDT
DTSTART:20280312T070000
END:DAYLIGHT
BEGIN:STANDARD
TZOFFSETFROM:-0400
TZOFFSETTO:-0500
TZNAME:EST
DTSTART:20281105T060000
END:STANDARD
END:VTIMEZONE
BEGIN:VEVENT
DTSTART;TZID=America/Toronto:20260521T100000
DTEND;TZID=America/Toronto:20260521T113000
DTSTAMP:20260422T162434
CREATED:20260421T163237Z
LAST-MODIFIED:20260421T163237Z
UID:10011234-1779357600-1779363000@www.stonegatechc.org
SUMMARY:Sewing Drop in
DESCRIPTION:
URL:https://www.stonegatechc.org/event/sewing-drop-in/2026-05-21/
END:VEVENT
BEGIN:VEVENT
DTSTART;TZID=America/Toronto:20260618T100000
DTEND;TZID=America/Toronto:20260618T113000
DTSTAMP:20260422T162434
CREATED:20260421T163237Z
LAST-MODIFIED:20260421T163237Z
UID:10011235-1781776800-1781782200@www.stonegatechc.org
SUMMARY:Sewing Drop in
DESCRIPTION:
URL:https://www.stonegatechc.org/event/sewing-drop-in/2026-06-18/
END:VEVENT
BEGIN:VEVENT
DTSTART;TZID=America/Toronto:20260716T100000
DTEND;TZID=America/Toronto:20260716T113000
DTSTAMP:20260422T162434
CREATED:20260421T163237Z
LAST-MODIFIED:20260421T163237Z
UID:10011236-1784196000-1784201400@www.stonegatechc.org
SUMMARY:Sewing Drop in
DESCRIPTION:
URL:https://www.stonegatechc.org/event/sewing-drop-in/2026-07-16/
END:VEVENT
BEGIN:VEVENT
DTSTART;TZID=America/Toronto:20260820T100000
DTEND;TZID=America/Toronto:20260820T113000
DTSTAMP:20260422T162434
CREATED:20260421T163237Z
LAST-MODIFIED:20260421T163237Z
UID:10011237-1787220000-1787225400@www.stonegatechc.org
SUMMARY:Sewing Drop in
DESCRIPTION:
URL:https://www.stonegatechc.org/event/sewing-drop-in/2026-08-20/
END:VEVENT
BEGIN:VEVENT
DTSTART;TZID=America/Toronto:20260917T100000
DTEND;TZID=America/Toronto:20260917T113000
DTSTAMP:20260422T162434
CREATED:20260421T163237Z
LAST-MODIFIED:20260421T163237Z
UID:10011238-1789639200-1789644600@www.stonegatechc.org
SUMMARY:Sewing Drop in
DESCRIPTION:
URL:https://www.stonegatechc.org/event/sewing-drop-in/2026-09-17/
END:VEVENT
BEGIN:VEVENT
DTSTART;TZID=America/Toronto:20261015T100000
DTEND;TZID=America/Toronto:20261015T113000
DTSTAMP:20260422T162434
CREATED:20260421T163237Z
LAST-MODIFIED:20260421T163237Z
UID:10011239-1792058400-1792063800@www.stonegatechc.org
SUMMARY:Sewing Drop in
DESCRIPTION:
URL:https://www.stonegatechc.org/event/sewing-drop-in/2026-10-15/
END:VEVENT
BEGIN:VEVENT
DTSTART;TZID=America/Toronto:20261119T100000
DTEND;TZID=America/Toronto:20261119T113000
DTSTAMP:20260422T162434
CREATED:20260421T163237Z
LAST-MODIFIED:20260421T163237Z
UID:10011240-1795082400-1795087800@www.stonegatechc.org
SUMMARY:Sewing Drop in
DESCRIPTION:
URL:https://www.stonegatechc.org/event/sewing-drop-in/2026-11-19/
END:VEVENT
BEGIN:VEVENT
DTSTART;TZID=America/Toronto:20261217T100000
DTEND;TZID=America/Toronto:20261217T113000
DTSTAMP:20260422T162434
CREATED:20260421T163237Z
LAST-MODIFIED:20260421T163237Z
UID:10011241-1797501600-1797507000@www.stonegatechc.org
SUMMARY:Sewing Drop in
DESCRIPTION:
URL:https://www.stonegatechc.org/event/sewing-drop-in/2026-12-17/
END:VEVENT
BEGIN:VEVENT
DTSTART;TZID=America/Toronto:20270121T100000
DTEND;TZID=America/Toronto:20270121T113000
DTSTAMP:20260422T162434
CREATED:20260421T163237Z
LAST-MODIFIED:20260421T163237Z
UID:10011242-1800525600-1800531000@www.stonegatechc.org
SUMMARY:Sewing Drop in
DESCRIPTION:
URL:https://www.stonegatechc.org/event/sewing-drop-in/2027-01-21/
END:VEVENT
BEGIN:VEVENT
DTSTART;TZID=America/Toronto:20270218T100000
DTEND;TZID=America/Toronto:20270218T113000
DTSTAMP:20260422T162434
CREATED:20260421T163237Z
LAST-MODIFIED:20260421T163237Z
UID:10011243-1802944800-1802950200@www.stonegatechc.org
SUMMARY:Sewing Drop in
DESCRIPTION:
URL:https://www.stonegatechc.org/event/sewing-drop-in/2027-02-18/
END:VEVENT
BEGIN:VEVENT
DTSTART;TZID=America/Toronto:20270318T100000
DTEND;TZID=America/Toronto:20270318T113000
DTSTAMP:20260422T162434
CREATED:20260421T163237Z
LAST-MODIFIED:20260421T163237Z
UID:10011244-1805364000-1805369400@www.stonegatechc.org
SUMMARY:Sewing Drop in
DESCRIPTION:
URL:https://www.stonegatechc.org/event/sewing-drop-in/2027-03-18/
END:VEVENT
BEGIN:VEVENT
DTSTART;TZID=America/Toronto:20270415T100000
DTEND;TZID=America/Toronto:20270415T113000
DTSTAMP:20260422T162434
CREATED:20260421T163237Z
LAST-MODIFIED:20260421T163237Z
UID:10011245-1807783200-1807788600@www.stonegatechc.org
SUMMARY:Sewing Drop in
DESCRIPTION:
URL:https://www.stonegatechc.org/event/sewing-drop-in/2027-04-15/
END:VEVENT
BEGIN:VEVENT
DTSTART;TZID=America/Toronto:20270520T100000
DTEND;TZID=America/Toronto:20270520T113000
DTSTAMP:20260422T162434
CREATED:20260421T163237Z
LAST-MODIFIED:20260421T163237Z
UID:10011246-1810807200-1810812600@www.stonegatechc.org
SUMMARY:Sewing Drop in
DESCRIPTION:
URL:https://www.stonegatechc.org/event/sewing-drop-in/2027-05-20/
END:VEVENT
BEGIN:VEVENT
DTSTART;TZID=America/Toronto:20270617T100000
DTEND;TZID=America/Toronto:20270617T113000
DTSTAMP:20260422T162434
CREATED:20260421T163237Z
LAST-MODIFIED:20260421T163237Z
UID:10011247-1813226400-1813231800@www.stonegatechc.org
SUMMARY:Sewing Drop in
DESCRIPTION:
URL:https://www.stonegatechc.org/event/sewing-drop-in/2027-06-17/
END:VEVENT
END:VCALENDAR