BEGIN:VCALENDAR
VERSION:2.0
PRODID:-//Stonegate Community Health Centre - ECPv6.15.20//NONSGML v1.0//EN
CALSCALE:GREGORIAN
METHOD:PUBLISH
X-WR-CALNAME:Stonegate Community Health Centre
X-ORIGINAL-URL:https://www.stonegatechc.org
X-WR-CALDESC:Events for Stonegate Community Health Centre
REFRESH-INTERVAL;VALUE=DURATION:PT1H
X-Robots-Tag:noindex
X-PUBLISHED-TTL:PT1H
BEGIN:VTIMEZONE
TZID:America/Toronto
BEGIN:DAYLIGHT
TZOFFSETFROM:-0500
TZOFFSETTO:-0400
TZNAME:EDT
DTSTART:20250309T070000
END:DAYLIGHT
BEGIN:STANDARD
TZOFFSETFROM:-0400
TZOFFSETTO:-0500
TZNAME:EST
DTSTART:20251102T060000
END:STANDARD
BEGIN:DAYLIGHT
TZOFFSETFROM:-0500
TZOFFSETTO:-0400
TZNAME:EDT
DTSTART:20260308T070000
END:DAYLIGHT
BEGIN:STANDARD
TZOFFSETFROM:-0400
TZOFFSETTO:-0500
TZNAME:EST
DTSTART:20261101T060000
END:STANDARD
BEGIN:DAYLIGHT
TZOFFSETFROM:-0500
TZOFFSETTO:-0400
TZNAME:EDT
DTSTART:20270314T070000
END:DAYLIGHT
BEGIN:STANDARD
TZOFFSETFROM:-0400
TZOFFSETTO:-0500
TZNAME:EST
DTSTART:20271107T060000
END:STANDARD
END:VTIMEZONE
BEGIN:VEVENT
DTSTART;TZID=America/Toronto:20260427T190000
DTEND;TZID=America/Toronto:20260427T200000
DTSTAMP:20260421T191031
CREATED:20260421T171236Z
LAST-MODIFIED:20260421T171236Z
UID:10011284-1777316400-1777320000@www.stonegatechc.org
SUMMARY:Evening Meditation
DESCRIPTION:Spring Into Self April 2026
URL:https://www.stonegatechc.org/event/evening-meditation/2026-04-27/
LOCATION:Stonegate Community Health Centre\, 10 Neighbourhood Lane\, Unit 201\, Stonegate CHC\, ETOBICOKE\, Ontario\, M8Y 0C5\, Canada
END:VEVENT
BEGIN:VEVENT
DTSTART;TZID=America/Toronto:20260504T190000
DTEND;TZID=America/Toronto:20260504T200000
DTSTAMP:20260421T191031
CREATED:20260421T171236Z
LAST-MODIFIED:20260421T171236Z
UID:10011285-1777921200-1777924800@www.stonegatechc.org
SUMMARY:Evening Meditation
DESCRIPTION:Spring Into Self April 2026
URL:https://www.stonegatechc.org/event/evening-meditation/2026-05-04/
LOCATION:Stonegate Community Health Centre\, 10 Neighbourhood Lane\, Unit 201\, Stonegate CHC\, ETOBICOKE\, Ontario\, M8Y 0C5\, Canada
END:VEVENT
BEGIN:VEVENT
DTSTART;TZID=America/Toronto:20260511T190000
DTEND;TZID=America/Toronto:20260511T200000
DTSTAMP:20260421T191031
CREATED:20260421T171236Z
LAST-MODIFIED:20260421T171236Z
UID:10011286-1778526000-1778529600@www.stonegatechc.org
SUMMARY:Evening Meditation
DESCRIPTION:Spring Into Self April 2026
URL:https://www.stonegatechc.org/event/evening-meditation/2026-05-11/
LOCATION:Stonegate Community Health Centre\, 10 Neighbourhood Lane\, Unit 201\, Stonegate CHC\, ETOBICOKE\, Ontario\, M8Y 0C5\, Canada
END:VEVENT
BEGIN:VEVENT
DTSTART;TZID=America/Toronto:20260518T190000
DTEND;TZID=America/Toronto:20260518T200000
DTSTAMP:20260421T191031
CREATED:20260421T171236Z
LAST-MODIFIED:20260421T171236Z
UID:10011287-1779130800-1779134400@www.stonegatechc.org
SUMMARY:Evening Meditation
DESCRIPTION:Spring Into Self April 2026
URL:https://www.stonegatechc.org/event/evening-meditation/2026-05-18/
LOCATION:Stonegate Community Health Centre\, 10 Neighbourhood Lane\, Unit 201\, Stonegate CHC\, ETOBICOKE\, Ontario\, M8Y 0C5\, Canada
END:VEVENT
BEGIN:VEVENT
DTSTART;TZID=America/Toronto:20260525T190000
DTEND;TZID=America/Toronto:20260525T200000
DTSTAMP:20260421T191031
CREATED:20260421T171236Z
LAST-MODIFIED:20260421T171236Z
UID:10011288-1779735600-1779739200@www.stonegatechc.org
SUMMARY:Evening Meditation
DESCRIPTION:Spring Into Self April 2026
URL:https://www.stonegatechc.org/event/evening-meditation/2026-05-25/
LOCATION:Stonegate Community Health Centre\, 10 Neighbourhood Lane\, Unit 201\, Stonegate CHC\, ETOBICOKE\, Ontario\, M8Y 0C5\, Canada
END:VEVENT
BEGIN:VEVENT
DTSTART;TZID=America/Toronto:20260601T190000
DTEND;TZID=America/Toronto:20260601T200000
DTSTAMP:20260421T191031
CREATED:20260421T171236Z
LAST-MODIFIED:20260421T171236Z
UID:10011289-1780340400-1780344000@www.stonegatechc.org
SUMMARY:Evening Meditation
DESCRIPTION:Spring Into Self April 2026
URL:https://www.stonegatechc.org/event/evening-meditation/2026-06-01/
LOCATION:Stonegate Community Health Centre\, 10 Neighbourhood Lane\, Unit 201\, Stonegate CHC\, ETOBICOKE\, Ontario\, M8Y 0C5\, Canada
END:VEVENT
BEGIN:VEVENT
DTSTART;TZID=America/Toronto:20260608T190000
DTEND;TZID=America/Toronto:20260608T200000
DTSTAMP:20260421T191031
CREATED:20260421T171236Z
LAST-MODIFIED:20260421T171236Z
UID:10011290-1780945200-1780948800@www.stonegatechc.org
SUMMARY:Evening Meditation
DESCRIPTION:Spring Into Self April 2026
URL:https://www.stonegatechc.org/event/evening-meditation/2026-06-08/
LOCATION:Stonegate Community Health Centre\, 10 Neighbourhood Lane\, Unit 201\, Stonegate CHC\, ETOBICOKE\, Ontario\, M8Y 0C5\, Canada
END:VEVENT
BEGIN:VEVENT
DTSTART;TZID=America/Toronto:20260615T190000
DTEND;TZID=America/Toronto:20260615T200000
DTSTAMP:20260421T191031
CREATED:20260421T171236Z
LAST-MODIFIED:20260421T171236Z
UID:10011291-1781550000-1781553600@www.stonegatechc.org
SUMMARY:Evening Meditation
DESCRIPTION:Spring Into Self April 2026
URL:https://www.stonegatechc.org/event/evening-meditation/2026-06-15/
LOCATION:Stonegate Community Health Centre\, 10 Neighbourhood Lane\, Unit 201\, Stonegate CHC\, ETOBICOKE\, Ontario\, M8Y 0C5\, Canada
END:VEVENT
BEGIN:VEVENT
DTSTART;TZID=America/Toronto:20260622T190000
DTEND;TZID=America/Toronto:20260622T200000
DTSTAMP:20260421T191031
CREATED:20260421T171236Z
LAST-MODIFIED:20260421T171236Z
UID:10011292-1782154800-1782158400@www.stonegatechc.org
SUMMARY:Evening Meditation
DESCRIPTION:Spring Into Self April 2026
URL:https://www.stonegatechc.org/event/evening-meditation/2026-06-22/
LOCATION:Stonegate Community Health Centre\, 10 Neighbourhood Lane\, Unit 201\, Stonegate CHC\, ETOBICOKE\, Ontario\, M8Y 0C5\, Canada
END:VEVENT
BEGIN:VEVENT
DTSTART;TZID=America/Toronto:20260629T190000
DTEND;TZID=America/Toronto:20260629T200000
DTSTAMP:20260421T191031
CREATED:20260421T171236Z
LAST-MODIFIED:20260421T171236Z
UID:10011293-1782759600-1782763200@www.stonegatechc.org
SUMMARY:Evening Meditation
DESCRIPTION:Spring Into Self April 2026
URL:https://www.stonegatechc.org/event/evening-meditation/2026-06-29/
LOCATION:Stonegate Community Health Centre\, 10 Neighbourhood Lane\, Unit 201\, Stonegate CHC\, ETOBICOKE\, Ontario\, M8Y 0C5\, Canada
END:VEVENT
END:VCALENDAR