BEGIN:VCALENDAR
VERSION:2.0
PRODID:-//Stonegate Community Health Centre - ECPv6.15.20//NONSGML v1.0//EN
CALSCALE:GREGORIAN
METHOD:PUBLISH
X-WR-CALNAME:Stonegate Community Health Centre
X-ORIGINAL-URL:https://www.stonegatechc.org
X-WR-CALDESC:Events for Stonegate Community Health Centre
REFRESH-INTERVAL;VALUE=DURATION:PT1H
X-Robots-Tag:noindex
X-PUBLISHED-TTL:PT1H
BEGIN:VTIMEZONE
TZID:America/Toronto
BEGIN:DAYLIGHT
TZOFFSETFROM:-0500
TZOFFSETTO:-0400
TZNAME:EDT
DTSTART:20250309T070000
END:DAYLIGHT
BEGIN:STANDARD
TZOFFSETFROM:-0400
TZOFFSETTO:-0500
TZNAME:EST
DTSTART:20251102T060000
END:STANDARD
BEGIN:DAYLIGHT
TZOFFSETFROM:-0500
TZOFFSETTO:-0400
TZNAME:EDT
DTSTART:20260308T070000
END:DAYLIGHT
BEGIN:STANDARD
TZOFFSETFROM:-0400
TZOFFSETTO:-0500
TZNAME:EST
DTSTART:20261101T060000
END:STANDARD
BEGIN:DAYLIGHT
TZOFFSETFROM:-0500
TZOFFSETTO:-0400
TZNAME:EDT
DTSTART:20270314T070000
END:DAYLIGHT
BEGIN:STANDARD
TZOFFSETFROM:-0400
TZOFFSETTO:-0500
TZNAME:EST
DTSTART:20271107T060000
END:STANDARD
END:VTIMEZONE
BEGIN:VEVENT
DTSTART;TZID=America/Toronto:20260423T140000
DTEND;TZID=America/Toronto:20260423T150000
DTSTAMP:20260422T155759
CREATED:20260422T154914Z
LAST-MODIFIED:20260422T154914Z
UID:10011305-1776952800-1776956400@www.stonegatechc.org
SUMMARY:Tai Chi
DESCRIPTION:Stonegate Tai Chi Spring Term 2026
URL:https://www.stonegatechc.org/event/tai-chi/2026-04-23/
LOCATION:Stonegate Community Health Centre\, 10 Neighbourhood Lane\, Unit 201\, Stonegate CHC\, ETOBICOKE\, Ontario\, M8Y 0C5\, Canada
END:VEVENT
BEGIN:VEVENT
DTSTART;TZID=America/Toronto:20260430T140000
DTEND;TZID=America/Toronto:20260430T150000
DTSTAMP:20260422T155759
CREATED:20260422T154914Z
LAST-MODIFIED:20260422T154914Z
UID:10011306-1777557600-1777561200@www.stonegatechc.org
SUMMARY:Tai Chi
DESCRIPTION:Stonegate Tai Chi Spring Term 2026
URL:https://www.stonegatechc.org/event/tai-chi/2026-04-30/
LOCATION:Stonegate Community Health Centre\, 10 Neighbourhood Lane\, Unit 201\, Stonegate CHC\, ETOBICOKE\, Ontario\, M8Y 0C5\, Canada
END:VEVENT
BEGIN:VEVENT
DTSTART;TZID=America/Toronto:20260507T140000
DTEND;TZID=America/Toronto:20260507T150000
DTSTAMP:20260422T155759
CREATED:20260422T154914Z
LAST-MODIFIED:20260422T154914Z
UID:10011307-1778162400-1778166000@www.stonegatechc.org
SUMMARY:Tai Chi
DESCRIPTION:Stonegate Tai Chi Spring Term 2026
URL:https://www.stonegatechc.org/event/tai-chi/2026-05-07/
LOCATION:Stonegate Community Health Centre\, 10 Neighbourhood Lane\, Unit 201\, Stonegate CHC\, ETOBICOKE\, Ontario\, M8Y 0C5\, Canada
END:VEVENT
BEGIN:VEVENT
DTSTART;TZID=America/Toronto:20260514T140000
DTEND;TZID=America/Toronto:20260514T150000
DTSTAMP:20260422T155759
CREATED:20260422T154914Z
LAST-MODIFIED:20260422T154914Z
UID:10011308-1778767200-1778770800@www.stonegatechc.org
SUMMARY:Tai Chi
DESCRIPTION:Stonegate Tai Chi Spring Term 2026
URL:https://www.stonegatechc.org/event/tai-chi/2026-05-14/
LOCATION:Stonegate Community Health Centre\, 10 Neighbourhood Lane\, Unit 201\, Stonegate CHC\, ETOBICOKE\, Ontario\, M8Y 0C5\, Canada
END:VEVENT
BEGIN:VEVENT
DTSTART;TZID=America/Toronto:20260521T140000
DTEND;TZID=America/Toronto:20260521T150000
DTSTAMP:20260422T155759
CREATED:20260422T154914Z
LAST-MODIFIED:20260422T154914Z
UID:10011309-1779372000-1779375600@www.stonegatechc.org
SUMMARY:Tai Chi
DESCRIPTION:Stonegate Tai Chi Spring Term 2026
URL:https://www.stonegatechc.org/event/tai-chi/2026-05-21/
LOCATION:Stonegate Community Health Centre\, 10 Neighbourhood Lane\, Unit 201\, Stonegate CHC\, ETOBICOKE\, Ontario\, M8Y 0C5\, Canada
END:VEVENT
BEGIN:VEVENT
DTSTART;TZID=America/Toronto:20260528T140000
DTEND;TZID=America/Toronto:20260528T150000
DTSTAMP:20260422T155759
CREATED:20260422T154914Z
LAST-MODIFIED:20260422T154914Z
UID:10011310-1779976800-1779980400@www.stonegatechc.org
SUMMARY:Tai Chi
DESCRIPTION:Stonegate Tai Chi Spring Term 2026
URL:https://www.stonegatechc.org/event/tai-chi/2026-05-28/
LOCATION:Stonegate Community Health Centre\, 10 Neighbourhood Lane\, Unit 201\, Stonegate CHC\, ETOBICOKE\, Ontario\, M8Y 0C5\, Canada
END:VEVENT
BEGIN:VEVENT
DTSTART;TZID=America/Toronto:20260604T140000
DTEND;TZID=America/Toronto:20260604T150000
DTSTAMP:20260422T155759
CREATED:20260422T154914Z
LAST-MODIFIED:20260422T154914Z
UID:10011311-1780581600-1780585200@www.stonegatechc.org
SUMMARY:Tai Chi
DESCRIPTION:Stonegate Tai Chi Spring Term 2026
URL:https://www.stonegatechc.org/event/tai-chi/2026-06-04/
LOCATION:Stonegate Community Health Centre\, 10 Neighbourhood Lane\, Unit 201\, Stonegate CHC\, ETOBICOKE\, Ontario\, M8Y 0C5\, Canada
END:VEVENT
END:VCALENDAR