BEGIN:VCALENDAR
VERSION:2.0
PRODID:-//Stonegate Community Health Centre - ECPv6.15.20//NONSGML v1.0//EN
CALSCALE:GREGORIAN
METHOD:PUBLISH
X-WR-CALNAME:Stonegate Community Health Centre
X-ORIGINAL-URL:https://www.stonegatechc.org
X-WR-CALDESC:Events for Stonegate Community Health Centre
REFRESH-INTERVAL;VALUE=DURATION:PT1H
X-Robots-Tag:noindex
X-PUBLISHED-TTL:PT1H
BEGIN:VTIMEZONE
TZID:America/Toronto
BEGIN:DAYLIGHT
TZOFFSETFROM:-0500
TZOFFSETTO:-0400
TZNAME:EDT
DTSTART:20250309T070000
END:DAYLIGHT
BEGIN:STANDARD
TZOFFSETFROM:-0400
TZOFFSETTO:-0500
TZNAME:EST
DTSTART:20251102T060000
END:STANDARD
BEGIN:DAYLIGHT
TZOFFSETFROM:-0500
TZOFFSETTO:-0400
TZNAME:EDT
DTSTART:20260308T070000
END:DAYLIGHT
BEGIN:STANDARD
TZOFFSETFROM:-0400
TZOFFSETTO:-0500
TZNAME:EST
DTSTART:20261101T060000
END:STANDARD
BEGIN:DAYLIGHT
TZOFFSETFROM:-0500
TZOFFSETTO:-0400
TZNAME:EDT
DTSTART:20270314T070000
END:DAYLIGHT
BEGIN:STANDARD
TZOFFSETFROM:-0400
TZOFFSETTO:-0500
TZNAME:EST
DTSTART:20271107T060000
END:STANDARD
END:VTIMEZONE
BEGIN:VEVENT
DTSTART;TZID=America/Toronto:20260427T110000
DTEND;TZID=America/Toronto:20260427T120000
DTSTAMP:20260422T155743
CREATED:20260422T155356Z
LAST-MODIFIED:20260422T155412Z
UID:10011314-1777287600-1777291200@www.stonegatechc.org
SUMMARY:Dance & Sweat (Zumba) Sessions
DESCRIPTION:Dance & Sweat Spring Sessions 2026
URL:https://www.stonegatechc.org/event/dance-sweat-zumba-sessions/2026-04-27/
LOCATION:Stonegate Community Health Centre\, 10 Neighbourhood Lane\, Unit 201\, Stonegate CHC\, ETOBICOKE\, Ontario\, M8Y 0C5\, Canada
END:VEVENT
BEGIN:VEVENT
DTSTART;TZID=America/Toronto:20260504T110000
DTEND;TZID=America/Toronto:20260504T120000
DTSTAMP:20260422T155743
CREATED:20260422T155356Z
LAST-MODIFIED:20260422T155412Z
UID:10011315-1777892400-1777896000@www.stonegatechc.org
SUMMARY:Dance & Sweat (Zumba) Sessions
DESCRIPTION:Dance & Sweat Spring Sessions 2026
URL:https://www.stonegatechc.org/event/dance-sweat-zumba-sessions/2026-05-04/
LOCATION:Stonegate Community Health Centre\, 10 Neighbourhood Lane\, Unit 201\, Stonegate CHC\, ETOBICOKE\, Ontario\, M8Y 0C5\, Canada
END:VEVENT
BEGIN:VEVENT
DTSTART;TZID=America/Toronto:20260511T110000
DTEND;TZID=America/Toronto:20260511T120000
DTSTAMP:20260422T155743
CREATED:20260422T155356Z
LAST-MODIFIED:20260422T155412Z
UID:10011316-1778497200-1778500800@www.stonegatechc.org
SUMMARY:Dance & Sweat (Zumba) Sessions
DESCRIPTION:Dance & Sweat Spring Sessions 2026
URL:https://www.stonegatechc.org/event/dance-sweat-zumba-sessions/2026-05-11/
LOCATION:Stonegate Community Health Centre\, 10 Neighbourhood Lane\, Unit 201\, Stonegate CHC\, ETOBICOKE\, Ontario\, M8Y 0C5\, Canada
END:VEVENT
BEGIN:VEVENT
DTSTART;TZID=America/Toronto:20260518T110000
DTEND;TZID=America/Toronto:20260518T120000
DTSTAMP:20260422T155743
CREATED:20260422T155356Z
LAST-MODIFIED:20260422T155412Z
UID:10011317-1779102000-1779105600@www.stonegatechc.org
SUMMARY:Dance & Sweat (Zumba) Sessions
DESCRIPTION:Dance & Sweat Spring Sessions 2026
URL:https://www.stonegatechc.org/event/dance-sweat-zumba-sessions/2026-05-18/
LOCATION:Stonegate Community Health Centre\, 10 Neighbourhood Lane\, Unit 201\, Stonegate CHC\, ETOBICOKE\, Ontario\, M8Y 0C5\, Canada
END:VEVENT
BEGIN:VEVENT
DTSTART;TZID=America/Toronto:20260525T110000
DTEND;TZID=America/Toronto:20260525T120000
DTSTAMP:20260422T155743
CREATED:20260422T155356Z
LAST-MODIFIED:20260422T155412Z
UID:10011318-1779706800-1779710400@www.stonegatechc.org
SUMMARY:Dance & Sweat (Zumba) Sessions
DESCRIPTION:Dance & Sweat Spring Sessions 2026
URL:https://www.stonegatechc.org/event/dance-sweat-zumba-sessions/2026-05-25/
LOCATION:Stonegate Community Health Centre\, 10 Neighbourhood Lane\, Unit 201\, Stonegate CHC\, ETOBICOKE\, Ontario\, M8Y 0C5\, Canada
END:VEVENT
BEGIN:VEVENT
DTSTART;TZID=America/Toronto:20260601T110000
DTEND;TZID=America/Toronto:20260601T120000
DTSTAMP:20260422T155743
CREATED:20260422T155356Z
LAST-MODIFIED:20260422T155412Z
UID:10011319-1780311600-1780315200@www.stonegatechc.org
SUMMARY:Dance & Sweat (Zumba) Sessions
DESCRIPTION:Dance & Sweat Spring Sessions 2026
URL:https://www.stonegatechc.org/event/dance-sweat-zumba-sessions/2026-06-01/
LOCATION:Stonegate Community Health Centre\, 10 Neighbourhood Lane\, Unit 201\, Stonegate CHC\, ETOBICOKE\, Ontario\, M8Y 0C5\, Canada
END:VEVENT
BEGIN:VEVENT
DTSTART;TZID=America/Toronto:20260608T110000
DTEND;TZID=America/Toronto:20260608T120000
DTSTAMP:20260422T155743
CREATED:20260422T155356Z
LAST-MODIFIED:20260422T155412Z
UID:10011320-1780916400-1780920000@www.stonegatechc.org
SUMMARY:Dance & Sweat (Zumba) Sessions
DESCRIPTION:Dance & Sweat Spring Sessions 2026
URL:https://www.stonegatechc.org/event/dance-sweat-zumba-sessions/2026-06-08/
LOCATION:Stonegate Community Health Centre\, 10 Neighbourhood Lane\, Unit 201\, Stonegate CHC\, ETOBICOKE\, Ontario\, M8Y 0C5\, Canada
END:VEVENT
BEGIN:VEVENT
DTSTART;TZID=America/Toronto:20260615T110000
DTEND;TZID=America/Toronto:20260615T120000
DTSTAMP:20260422T155743
CREATED:20260422T155356Z
LAST-MODIFIED:20260422T155412Z
UID:10011321-1781521200-1781524800@www.stonegatechc.org
SUMMARY:Dance & Sweat (Zumba) Sessions
DESCRIPTION:Dance & Sweat Spring Sessions 2026
URL:https://www.stonegatechc.org/event/dance-sweat-zumba-sessions/2026-06-15/
LOCATION:Stonegate Community Health Centre\, 10 Neighbourhood Lane\, Unit 201\, Stonegate CHC\, ETOBICOKE\, Ontario\, M8Y 0C5\, Canada
END:VEVENT
END:VCALENDAR