BEGIN:VCALENDAR
VERSION:2.0
PRODID:-//Stonegate Community Health Centre - ECPv6.15.20//NONSGML v1.0//EN
CALSCALE:GREGORIAN
METHOD:PUBLISH
X-WR-CALNAME:Stonegate Community Health Centre
X-ORIGINAL-URL:https://www.stonegatechc.org
X-WR-CALDESC:Events for Stonegate Community Health Centre
REFRESH-INTERVAL;VALUE=DURATION:PT1H
X-Robots-Tag:noindex
X-PUBLISHED-TTL:PT1H
BEGIN:VTIMEZONE
TZID:America/Toronto
BEGIN:DAYLIGHT
TZOFFSETFROM:-0500
TZOFFSETTO:-0400
TZNAME:EDT
DTSTART:20230312T070000
END:DAYLIGHT
BEGIN:STANDARD
TZOFFSETFROM:-0400
TZOFFSETTO:-0500
TZNAME:EST
DTSTART:20231105T060000
END:STANDARD
BEGIN:DAYLIGHT
TZOFFSETFROM:-0500
TZOFFSETTO:-0400
TZNAME:EDT
DTSTART:20240310T070000
END:DAYLIGHT
BEGIN:STANDARD
TZOFFSETFROM:-0400
TZOFFSETTO:-0500
TZNAME:EST
DTSTART:20241103T060000
END:STANDARD
BEGIN:DAYLIGHT
TZOFFSETFROM:-0500
TZOFFSETTO:-0400
TZNAME:EDT
DTSTART:20250309T070000
END:DAYLIGHT
BEGIN:STANDARD
TZOFFSETFROM:-0400
TZOFFSETTO:-0500
TZNAME:EST
DTSTART:20251102T060000
END:STANDARD
END:VTIMEZONE
BEGIN:VEVENT
DTSTART;TZID=America/Toronto:20240117T140000
DTEND;TZID=America/Toronto:20240117T160000
DTSTAMP:20260420T123456
CREATED:20240105T205037Z
LAST-MODIFIED:20240105T205037Z
UID:10006152-1705500000-1705507200@www.stonegatechc.org
SUMMARY:BAW SIE Z NAMI
DESCRIPTION:ZAPRASZAMY NA POLSKI \nPROGRAM DLA RODZICOW Z DZIECIMIOD 0-6 LAT. \nW PROGRAMIE: ZABAWY PRACE RECZNE \nROZMOWY POSENKI ICZYTANIE \nBAJIEK W JEZYKU POLSKIM \nWhen: Every Wednesday\, January 17 – March 27 \nTime: 2:00pm-4:00pm \nWhere: 71 Second St\, Room 119 \nUse side door #4 from the \nBirmingham Street \n(To enter please call the number 416-795-5408 listed on the door) \nPolish drop-in \nFor more information contact anna.wasiak@stonegatechc.org or \nbarbarac@lampchc.org
URL:https://www.stonegatechc.org/event/baw-sie-z-nami-2/
LOCATION:71 Second St\, Room 119\, 71 Second St\, Room 119\, Birmingham Street\, Etobicoke\, ON\, M8V2X4\, Canada
CATEGORIES:Early Years Programs
ATTACH;FMTTYPE=image/jpeg:https://www.stonegatechc.org/wp-content/uploads/2024/01/Baw-sie-z-nami-e1704487474195.jpg
ORGANIZER;CN="Stonegate CHC":MAILTO:health.promotion@stonegatechc.org
END:VEVENT
END:VCALENDAR