BEGIN:VCALENDAR
VERSION:2.0
PRODID:-//Stonegate Community Health Centre - ECPv6.15.20//NONSGML v1.0//EN
CALSCALE:GREGORIAN
METHOD:PUBLISH
X-ORIGINAL-URL:https://www.stonegatechc.org
X-WR-CALDESC:Events for Stonegate Community Health Centre
REFRESH-INTERVAL;VALUE=DURATION:PT1H
X-Robots-Tag:noindex
X-PUBLISHED-TTL:PT1H
BEGIN:VTIMEZONE
TZID:America/Toronto
BEGIN:DAYLIGHT
TZOFFSETFROM:-0500
TZOFFSETTO:-0400
TZNAME:EDT
DTSTART:20220313T070000
END:DAYLIGHT
BEGIN:STANDARD
TZOFFSETFROM:-0400
TZOFFSETTO:-0500
TZNAME:EST
DTSTART:20221106T060000
END:STANDARD
BEGIN:DAYLIGHT
TZOFFSETFROM:-0500
TZOFFSETTO:-0400
TZNAME:EDT
DTSTART:20230312T070000
END:DAYLIGHT
BEGIN:STANDARD
TZOFFSETFROM:-0400
TZOFFSETTO:-0500
TZNAME:EST
DTSTART:20231105T060000
END:STANDARD
BEGIN:DAYLIGHT
TZOFFSETFROM:-0500
TZOFFSETTO:-0400
TZNAME:EDT
DTSTART:20240310T070000
END:DAYLIGHT
BEGIN:STANDARD
TZOFFSETFROM:-0400
TZOFFSETTO:-0500
TZNAME:EST
DTSTART:20241103T060000
END:STANDARD
END:VTIMEZONE
BEGIN:VEVENT
DTSTART;TZID=America/Toronto:20231206T140000
DTEND;TZID=America/Toronto:20231206T160000
DTSTAMP:20260421T083716
CREATED:20231128T161148Z
LAST-MODIFIED:20231128T161148Z
UID:10006141-1701871200-1701878400@www.stonegatechc.org
SUMMARY:BAW SIE Z NAMI
DESCRIPTION:ZAPRASZAMY NA POLSKI \nPROGRAM DLA RODZICOW Z DZIECIMIOD 0-6 LAT. \nW PROGRAMIE: ZABAWY \nPRACE RECZNE ROZMOWY POSENKI ICZYTANIE BAJIEK W JEZYKU POLSKIM \nWhen: Every Wednesday\, October 11 – December 6 \nWhere: John English Drop-in \n95  Mimico Ave.Room 100 \nPlease use entrance #15  (from George St.) Time:2:00 p.m. – 4:00 p.m. \nPolish drop-in \nFor more information contact anna.wasiak@stonegatechc.org or \nbarbarac@lampchc.org
URL:https://www.stonegatechc.org/event/baw-sie-z-nami/2023-12-06/
LOCATION:95  Mimico Ave.Room 100\, 95  Mimico Ave.Room 100\, Etobicoke\, ON\, M8V1R4\, Canada
CATEGORIES:General
ATTACH;FMTTYPE=image/jpeg:https://www.stonegatechc.org/wp-content/uploads/2023/11/Baw-sie-z-nami-e1701187898200.jpg
ORGANIZER;CN="Stonegate CHC":MAILTO:health.promotion@stonegatechc.org
END:VEVENT
BEGIN:VEVENT
DTSTART;TZID=America/Toronto:20231129T140000
DTEND;TZID=America/Toronto:20231129T160000
DTSTAMP:20260421T083716
CREATED:20231128T161148Z
LAST-MODIFIED:20231128T161148Z
UID:10006140-1701266400-1701273600@www.stonegatechc.org
SUMMARY:BAW SIE Z NAMI
DESCRIPTION:ZAPRASZAMY NA POLSKI \nPROGRAM DLA RODZICOW Z DZIECIMIOD 0-6 LAT. \nW PROGRAMIE: ZABAWY \nPRACE RECZNE ROZMOWY POSENKI ICZYTANIE BAJIEK W JEZYKU POLSKIM \nWhen: Every Wednesday\, October 11 – December 6 \nWhere: John English Drop-in \n95  Mimico Ave.Room 100 \nPlease use entrance #15  (from George St.) Time:2:00 p.m. – 4:00 p.m. \nPolish drop-in \nFor more information contact anna.wasiak@stonegatechc.org or \nbarbarac@lampchc.org
URL:https://www.stonegatechc.org/event/baw-sie-z-nami/2023-11-29/
LOCATION:95  Mimico Ave.Room 100\, 95  Mimico Ave.Room 100\, Etobicoke\, ON\, M8V1R4\, Canada
CATEGORIES:General
ATTACH;FMTTYPE=image/jpeg:https://www.stonegatechc.org/wp-content/uploads/2023/11/Baw-sie-z-nami-e1701187898200.jpg
ORGANIZER;CN="Stonegate CHC":MAILTO:health.promotion@stonegatechc.org
END:VEVENT
BEGIN:VEVENT
DTSTART;TZID=America/Toronto:20231122T140000
DTEND;TZID=America/Toronto:20231122T160000
DTSTAMP:20260421T083716
CREATED:20231128T161148Z
LAST-MODIFIED:20231128T161148Z
UID:10006139-1700661600-1700668800@www.stonegatechc.org
SUMMARY:BAW SIE Z NAMI
DESCRIPTION:ZAPRASZAMY NA POLSKI \nPROGRAM DLA RODZICOW Z DZIECIMIOD 0-6 LAT. \nW PROGRAMIE: ZABAWY \nPRACE RECZNE ROZMOWY POSENKI ICZYTANIE BAJIEK W JEZYKU POLSKIM \nWhen: Every Wednesday\, October 11 – December 6 \nWhere: John English Drop-in \n95  Mimico Ave.Room 100 \nPlease use entrance #15  (from George St.) Time:2:00 p.m. – 4:00 p.m. \nPolish drop-in \nFor more information contact anna.wasiak@stonegatechc.org or \nbarbarac@lampchc.org
URL:https://www.stonegatechc.org/event/baw-sie-z-nami/2023-11-22/
LOCATION:95  Mimico Ave.Room 100\, 95  Mimico Ave.Room 100\, Etobicoke\, ON\, M8V1R4\, Canada
CATEGORIES:General
ATTACH;FMTTYPE=image/jpeg:https://www.stonegatechc.org/wp-content/uploads/2023/11/Baw-sie-z-nami-e1701187898200.jpg
ORGANIZER;CN="Stonegate CHC":MAILTO:health.promotion@stonegatechc.org
END:VEVENT
BEGIN:VEVENT
DTSTART;TZID=America/Toronto:20231115T140000
DTEND;TZID=America/Toronto:20231115T160000
DTSTAMP:20260421T083716
CREATED:20231128T161148Z
LAST-MODIFIED:20231128T161148Z
UID:10006138-1700056800-1700064000@www.stonegatechc.org
SUMMARY:BAW SIE Z NAMI
DESCRIPTION:ZAPRASZAMY NA POLSKI \nPROGRAM DLA RODZICOW Z DZIECIMIOD 0-6 LAT. \nW PROGRAMIE: ZABAWY \nPRACE RECZNE ROZMOWY POSENKI ICZYTANIE BAJIEK W JEZYKU POLSKIM \nWhen: Every Wednesday\, October 11 – December 6 \nWhere: John English Drop-in \n95  Mimico Ave.Room 100 \nPlease use entrance #15  (from George St.) Time:2:00 p.m. – 4:00 p.m. \nPolish drop-in \nFor more information contact anna.wasiak@stonegatechc.org or \nbarbarac@lampchc.org
URL:https://www.stonegatechc.org/event/baw-sie-z-nami/2023-11-15/
LOCATION:95  Mimico Ave.Room 100\, 95  Mimico Ave.Room 100\, Etobicoke\, ON\, M8V1R4\, Canada
CATEGORIES:General
ATTACH;FMTTYPE=image/jpeg:https://www.stonegatechc.org/wp-content/uploads/2023/11/Baw-sie-z-nami-e1701187898200.jpg
ORGANIZER;CN="Stonegate CHC":MAILTO:health.promotion@stonegatechc.org
END:VEVENT
BEGIN:VEVENT
DTSTART;TZID=America/Toronto:20231108T140000
DTEND;TZID=America/Toronto:20231108T160000
DTSTAMP:20260421T083716
CREATED:20231128T161148Z
LAST-MODIFIED:20231128T161148Z
UID:10006137-1699452000-1699459200@www.stonegatechc.org
SUMMARY:BAW SIE Z NAMI
DESCRIPTION:ZAPRASZAMY NA POLSKI \nPROGRAM DLA RODZICOW Z DZIECIMIOD 0-6 LAT. \nW PROGRAMIE: ZABAWY \nPRACE RECZNE ROZMOWY POSENKI ICZYTANIE BAJIEK W JEZYKU POLSKIM \nWhen: Every Wednesday\, October 11 – December 6 \nWhere: John English Drop-in \n95  Mimico Ave.Room 100 \nPlease use entrance #15  (from George St.) Time:2:00 p.m. – 4:00 p.m. \nPolish drop-in \nFor more information contact anna.wasiak@stonegatechc.org or \nbarbarac@lampchc.org
URL:https://www.stonegatechc.org/event/baw-sie-z-nami/2023-11-08/
LOCATION:95  Mimico Ave.Room 100\, 95  Mimico Ave.Room 100\, Etobicoke\, ON\, M8V1R4\, Canada
CATEGORIES:General
ATTACH;FMTTYPE=image/jpeg:https://www.stonegatechc.org/wp-content/uploads/2023/11/Baw-sie-z-nami-e1701187898200.jpg
ORGANIZER;CN="Stonegate CHC":MAILTO:health.promotion@stonegatechc.org
END:VEVENT
BEGIN:VEVENT
DTSTART;TZID=America/Toronto:20231101T140000
DTEND;TZID=America/Toronto:20231101T160000
DTSTAMP:20260421T083716
CREATED:20231128T161148Z
LAST-MODIFIED:20231128T161148Z
UID:10006136-1698847200-1698854400@www.stonegatechc.org
SUMMARY:BAW SIE Z NAMI
DESCRIPTION:ZAPRASZAMY NA POLSKI \nPROGRAM DLA RODZICOW Z DZIECIMIOD 0-6 LAT. \nW PROGRAMIE: ZABAWY \nPRACE RECZNE ROZMOWY POSENKI ICZYTANIE BAJIEK W JEZYKU POLSKIM \nWhen: Every Wednesday\, October 11 – December 6 \nWhere: John English Drop-in \n95  Mimico Ave.Room 100 \nPlease use entrance #15  (from George St.) Time:2:00 p.m. – 4:00 p.m. \nPolish drop-in \nFor more information contact anna.wasiak@stonegatechc.org or \nbarbarac@lampchc.org
URL:https://www.stonegatechc.org/event/baw-sie-z-nami/2023-11-01/
LOCATION:95  Mimico Ave.Room 100\, 95  Mimico Ave.Room 100\, Etobicoke\, ON\, M8V1R4\, Canada
CATEGORIES:General
ATTACH;FMTTYPE=image/jpeg:https://www.stonegatechc.org/wp-content/uploads/2023/11/Baw-sie-z-nami-e1701187898200.jpg
ORGANIZER;CN="Stonegate CHC":MAILTO:health.promotion@stonegatechc.org
END:VEVENT
BEGIN:VEVENT
DTSTART;TZID=America/Toronto:20231025T140000
DTEND;TZID=America/Toronto:20231025T160000
DTSTAMP:20260421T083716
CREATED:20231128T161148Z
LAST-MODIFIED:20231128T161148Z
UID:10006135-1698242400-1698249600@www.stonegatechc.org
SUMMARY:BAW SIE Z NAMI
DESCRIPTION:ZAPRASZAMY NA POLSKI \nPROGRAM DLA RODZICOW Z DZIECIMIOD 0-6 LAT. \nW PROGRAMIE: ZABAWY \nPRACE RECZNE ROZMOWY POSENKI ICZYTANIE BAJIEK W JEZYKU POLSKIM \nWhen: Every Wednesday\, October 11 – December 6 \nWhere: John English Drop-in \n95  Mimico Ave.Room 100 \nPlease use entrance #15  (from George St.) Time:2:00 p.m. – 4:00 p.m. \nPolish drop-in \nFor more information contact anna.wasiak@stonegatechc.org or \nbarbarac@lampchc.org
URL:https://www.stonegatechc.org/event/baw-sie-z-nami/2023-10-25/
LOCATION:95  Mimico Ave.Room 100\, 95  Mimico Ave.Room 100\, Etobicoke\, ON\, M8V1R4\, Canada
CATEGORIES:General
ATTACH;FMTTYPE=image/jpeg:https://www.stonegatechc.org/wp-content/uploads/2023/11/Baw-sie-z-nami-e1701187898200.jpg
ORGANIZER;CN="Stonegate CHC":MAILTO:health.promotion@stonegatechc.org
END:VEVENT
BEGIN:VEVENT
DTSTART;TZID=America/Toronto:20231018T140000
DTEND;TZID=America/Toronto:20231018T160000
DTSTAMP:20260421T083716
CREATED:20231128T161148Z
LAST-MODIFIED:20231128T161148Z
UID:10006134-1697637600-1697644800@www.stonegatechc.org
SUMMARY:BAW SIE Z NAMI
DESCRIPTION:ZAPRASZAMY NA POLSKI \nPROGRAM DLA RODZICOW Z DZIECIMIOD 0-6 LAT. \nW PROGRAMIE: ZABAWY \nPRACE RECZNE ROZMOWY POSENKI ICZYTANIE BAJIEK W JEZYKU POLSKIM \nWhen: Every Wednesday\, October 11 – December 6 \nWhere: John English Drop-in \n95  Mimico Ave.Room 100 \nPlease use entrance #15  (from George St.) Time:2:00 p.m. – 4:00 p.m. \nPolish drop-in \nFor more information contact anna.wasiak@stonegatechc.org or \nbarbarac@lampchc.org
URL:https://www.stonegatechc.org/event/baw-sie-z-nami/2023-10-18/
LOCATION:95  Mimico Ave.Room 100\, 95  Mimico Ave.Room 100\, Etobicoke\, ON\, M8V1R4\, Canada
CATEGORIES:General
ATTACH;FMTTYPE=image/jpeg:https://www.stonegatechc.org/wp-content/uploads/2023/11/Baw-sie-z-nami-e1701187898200.jpg
ORGANIZER;CN="Stonegate CHC":MAILTO:health.promotion@stonegatechc.org
END:VEVENT
BEGIN:VEVENT
DTSTART;TZID=America/Toronto:20231011T140000
DTEND;TZID=America/Toronto:20231011T160000
DTSTAMP:20260421T083716
CREATED:20231128T161148Z
LAST-MODIFIED:20231128T161148Z
UID:10006133-1697032800-1697040000@www.stonegatechc.org
SUMMARY:BAW SIE Z NAMI
DESCRIPTION:ZAPRASZAMY NA POLSKI \nPROGRAM DLA RODZICOW Z DZIECIMIOD 0-6 LAT. \nW PROGRAMIE: ZABAWY \nPRACE RECZNE ROZMOWY POSENKI ICZYTANIE BAJIEK W JEZYKU POLSKIM \nWhen: Every Wednesday\, October 11 – December 6 \nWhere: John English Drop-in \n95  Mimico Ave.Room 100 \nPlease use entrance #15  (from George St.) Time:2:00 p.m. – 4:00 p.m. \nPolish drop-in \nFor more information contact anna.wasiak@stonegatechc.org or \nbarbarac@lampchc.org
URL:https://www.stonegatechc.org/event/baw-sie-z-nami/2023-10-11/
LOCATION:95  Mimico Ave.Room 100\, 95  Mimico Ave.Room 100\, Etobicoke\, ON\, M8V1R4\, Canada
CATEGORIES:General
ATTACH;FMTTYPE=image/jpeg:https://www.stonegatechc.org/wp-content/uploads/2023/11/Baw-sie-z-nami-e1701187898200.jpg
ORGANIZER;CN="Stonegate CHC":MAILTO:health.promotion@stonegatechc.org
END:VEVENT
END:VCALENDAR