BEGIN:VCALENDAR
VERSION:2.0
PRODID:-//Stonegate Community Health Centre - ECPv6.15.20//NONSGML v1.0//EN
CALSCALE:GREGORIAN
METHOD:PUBLISH
X-ORIGINAL-URL:https://www.stonegatechc.org
X-WR-CALDESC:Events for Stonegate Community Health Centre
REFRESH-INTERVAL;VALUE=DURATION:PT1H
X-Robots-Tag:noindex
X-PUBLISHED-TTL:PT1H
BEGIN:VTIMEZONE
TZID:America/Toronto
BEGIN:DAYLIGHT
TZOFFSETFROM:-0500
TZOFFSETTO:-0400
TZNAME:EDT
DTSTART:20250309T070000
END:DAYLIGHT
BEGIN:STANDARD
TZOFFSETFROM:-0400
TZOFFSETTO:-0500
TZNAME:EST
DTSTART:20251102T060000
END:STANDARD
BEGIN:DAYLIGHT
TZOFFSETFROM:-0500
TZOFFSETTO:-0400
TZNAME:EDT
DTSTART:20260308T070000
END:DAYLIGHT
BEGIN:STANDARD
TZOFFSETFROM:-0400
TZOFFSETTO:-0500
TZNAME:EST
DTSTART:20261101T060000
END:STANDARD
BEGIN:DAYLIGHT
TZOFFSETFROM:-0500
TZOFFSETTO:-0400
TZNAME:EDT
DTSTART:20270314T070000
END:DAYLIGHT
BEGIN:STANDARD
TZOFFSETFROM:-0400
TZOFFSETTO:-0500
TZNAME:EST
DTSTART:20271107T060000
END:STANDARD
END:VTIMEZONE
BEGIN:VEVENT
DTSTART;TZID=America/Toronto:20260609T111500
DTEND;TZID=America/Toronto:20260609T121500
DTSTAMP:20260422T201903
CREATED:20240405T143038Z
LAST-MODIFIED:20240718T182609Z
UID:10007395-1781003700-1781007300@www.stonegatechc.org
SUMMARY:Seniors Gentle Chair Exercise
DESCRIPTION:Seniors Gentle Chair Exercise \nJoin a Registered Kinesiologist who will lead the group with exercises to increase strength\, balance and flexibility. \nTuesdays 11:15 am to 12:15 pm \nLocation: Stonegate CHC – Trillium Room \nRegistration is required as space is limited\, to register call ESS Support Services 416-243-0127 ext. 503\nPlease specify you want to attend Stonegate CHC location. \nPlease note if you already attend the first class from 10 to 11 am\, DO NOT REGISTER FOR THIS SESSION. \nConsult with your doctor or health care provider before starting this or any exercise program.
URL:https://www.stonegatechc.org/event/seniors-gentle-chair-exercise-2/2026-06-09/
LOCATION:Stonegate Community Health Centre\, 10 Neighbourhood Lane\, Unit 201\, Stonegate CHC\, ETOBICOKE\, Ontario\, M8Y 0C5\, Canada
ATTACH;FMTTYPE=image/jpeg:https://www.stonegatechc.org/wp-content/uploads/2024/04/2-ESS-Genlte-Exercise-for-seniors-2nd.-class-poster-e1712327232100.jpg
ORGANIZER;CN="Stonegate CHC":MAILTO:health.promotion@stonegatechc.org
END:VEVENT
BEGIN:VEVENT
DTSTART;TZID=America/Toronto:20260609T113000
DTEND;TZID=America/Toronto:20260609T130000
DTSTAMP:20260422T201903
CREATED:20260421T171014Z
LAST-MODIFIED:20260421T171014Z
UID:10011278-1781004600-1781010000@www.stonegatechc.org
SUMMARY:Meditation & Reflections on Gratitude
DESCRIPTION:Spring Into Self April 2026
URL:https://www.stonegatechc.org/event/meditation-reflections-on-gratitude/2026-06-09/
LOCATION:Stonegate Community Health Centre\, 10 Neighbourhood Lane\, Unit 201\, Stonegate CHC\, ETOBICOKE\, Ontario\, M8Y 0C5\, Canada
END:VEVENT
BEGIN:VEVENT
DTSTART;TZID=America/Toronto:20260609T160000
DTEND;TZID=America/Toronto:20260609T180000
DTSTAMP:20260422T201903
CREATED:20250917T171108Z
LAST-MODIFIED:20250917T171108Z
UID:10010607-1781020800-1781028000@www.stonegatechc.org
SUMMARY:MARTIAL ARTS
DESCRIPTION:MARTIAL ARTS \nStrength • Speed  • Discipline \nTuesdays starting September 23rd\,2025 \nBEGINNERS \n4:00 PM TO 4:45 PM \n  \nINTERMEDIATE/ADVANCED \n5:00 PM TO 5:45 PM \n  \nSPACES LIMITED REGISTER BY PHONE: \n416-231-7070 X 283 OR EMAIL: health.promotion@stonegatechc.org \n 
URL:https://www.stonegatechc.org/event/martial-arts-2/2026-06-09/
LOCATION:Stonegate Community Health Centre\, 10 Neighbourhood Lane\, Unit 201\, Stonegate CHC\, ETOBICOKE\, Ontario\, M8Y 0C5\, Canada
CATEGORIES:Children & Youth
ATTACH;FMTTYPE=image/jpeg:https://www.stonegatechc.org/wp-content/uploads/2025/09/Martial-Arts-2025-e1758126601560.jpg
ORGANIZER;CN="Stonegate CHC":MAILTO:health.promotion@stonegatechc.org
END:VEVENT
BEGIN:VEVENT
DTSTART;TZID=America/Toronto:20260612T123000
DTEND;TZID=America/Toronto:20260612T143000
DTSTAMP:20260422T201903
CREATED:20260422T154501Z
LAST-MODIFIED:20260422T154528Z
UID:10011297-1781267400-1781274600@www.stonegatechc.org
SUMMARY:Friday Women's Groups
DESCRIPTION:Friday Women’s Group Poster
URL:https://www.stonegatechc.org/event/frida-womens-groups/2026-06-12/
LOCATION:Stonegate Community Health Centre\, 10 Neighbourhood Lane\, Unit 201\, Stonegate CHC\, ETOBICOKE\, Ontario\, M8Y 0C5\, Canada
CATEGORIES:Women's Programs
END:VEVENT
BEGIN:VEVENT
DTSTART;TZID=America/Toronto:20260615T100000
DTEND;TZID=America/Toronto:20260615T133000
DTSTAMP:20260422T201903
CREATED:20230627T182044Z
LAST-MODIFIED:20240416T180336Z
UID:10005014-1781517600-1781530200@www.stonegatechc.org
SUMMARY:The Seniors Polish Group
DESCRIPTION:The Seniors Polish Group  \n  \nThis group gives Polish speaking participants time to meet\, socialize\, exercise\, play bingo\, and participate in informative presentations such as nutrition\, healthy aging\, foot care\, chronic illness and more. \nThe group meets every Monday from 10:00 am to 1:30 pm \nFor more information and/or to register please call 416-231-7070 Ext. 307 or email health.promotion@stonegatechc.org
URL:https://www.stonegatechc.org/event/the-seniors-polish-group/2026-06-15/
LOCATION:Stonegate Community Health Centre\, 10 Neighbourhood Lane\, Unit 201\, Stonegate CHC\, ETOBICOKE\, Ontario\, M8Y 0C5\, Canada
CATEGORIES:Senior's Programs
ATTACH;FMTTYPE=image/jpeg:https://www.stonegatechc.org/wp-content/uploads/2023/06/Polish-Seniors-Group-Poster_page-0001.jpg
ORGANIZER;CN="Stonegate CHC":MAILTO:health.promotion@stonegatechc.org
END:VEVENT
BEGIN:VEVENT
DTSTART;TZID=America/Toronto:20260615T110000
DTEND;TZID=America/Toronto:20260615T120000
DTSTAMP:20260422T201903
CREATED:20260422T155356Z
LAST-MODIFIED:20260422T155412Z
UID:10011321-1781521200-1781524800@www.stonegatechc.org
SUMMARY:Dance & Sweat (Zumba) Sessions
DESCRIPTION:Dance & Sweat Spring Sessions 2026
URL:https://www.stonegatechc.org/event/dance-sweat-zumba-sessions/2026-06-15/
LOCATION:Stonegate Community Health Centre\, 10 Neighbourhood Lane\, Unit 201\, Stonegate CHC\, ETOBICOKE\, Ontario\, M8Y 0C5\, Canada
END:VEVENT
BEGIN:VEVENT
DTSTART;TZID=America/Toronto:20260615T180000
DTEND;TZID=America/Toronto:20260615T193000
DTSTAMP:20260422T201903
CREATED:20260421T153923Z
LAST-MODIFIED:20260421T153923Z
UID:10011181-1781546400-1781551800@www.stonegatechc.org
SUMMARY:Ukrainian Weekly Social Group
DESCRIPTION:
URL:https://www.stonegatechc.org/event/ukrainian-weekly-social-group-4/2026-06-15/
LOCATION:Stonegate Community Health Centre\, 10 Neighbourhood Lane\, Unit 201\, Stonegate CHC\, ETOBICOKE\, Ontario\, M8Y 0C5\, Canada
END:VEVENT
BEGIN:VEVENT
DTSTART;TZID=America/Toronto:20260615T190000
DTEND;TZID=America/Toronto:20260615T200000
DTSTAMP:20260422T201903
CREATED:20260421T171236Z
LAST-MODIFIED:20260421T171236Z
UID:10011291-1781550000-1781553600@www.stonegatechc.org
SUMMARY:Evening Meditation
DESCRIPTION:Spring Into Self April 2026
URL:https://www.stonegatechc.org/event/evening-meditation/2026-06-15/
LOCATION:Stonegate Community Health Centre\, 10 Neighbourhood Lane\, Unit 201\, Stonegate CHC\, ETOBICOKE\, Ontario\, M8Y 0C5\, Canada
END:VEVENT
BEGIN:VEVENT
DTSTART;TZID=America/Toronto:20260616T111500
DTEND;TZID=America/Toronto:20260616T121500
DTSTAMP:20260422T201903
CREATED:20240405T143038Z
LAST-MODIFIED:20240718T182609Z
UID:10007396-1781608500-1781612100@www.stonegatechc.org
SUMMARY:Seniors Gentle Chair Exercise
DESCRIPTION:Seniors Gentle Chair Exercise \nJoin a Registered Kinesiologist who will lead the group with exercises to increase strength\, balance and flexibility. \nTuesdays 11:15 am to 12:15 pm \nLocation: Stonegate CHC – Trillium Room \nRegistration is required as space is limited\, to register call ESS Support Services 416-243-0127 ext. 503\nPlease specify you want to attend Stonegate CHC location. \nPlease note if you already attend the first class from 10 to 11 am\, DO NOT REGISTER FOR THIS SESSION. \nConsult with your doctor or health care provider before starting this or any exercise program.
URL:https://www.stonegatechc.org/event/seniors-gentle-chair-exercise-2/2026-06-16/
LOCATION:Stonegate Community Health Centre\, 10 Neighbourhood Lane\, Unit 201\, Stonegate CHC\, ETOBICOKE\, Ontario\, M8Y 0C5\, Canada
ATTACH;FMTTYPE=image/jpeg:https://www.stonegatechc.org/wp-content/uploads/2024/04/2-ESS-Genlte-Exercise-for-seniors-2nd.-class-poster-e1712327232100.jpg
ORGANIZER;CN="Stonegate CHC":MAILTO:health.promotion@stonegatechc.org
END:VEVENT
BEGIN:VEVENT
DTSTART;TZID=America/Toronto:20260616T113000
DTEND;TZID=America/Toronto:20260616T130000
DTSTAMP:20260422T201904
CREATED:20260421T171014Z
LAST-MODIFIED:20260421T171014Z
UID:10011279-1781609400-1781614800@www.stonegatechc.org
SUMMARY:Meditation & Reflections on Gratitude
DESCRIPTION:Spring Into Self April 2026
URL:https://www.stonegatechc.org/event/meditation-reflections-on-gratitude/2026-06-16/
LOCATION:Stonegate Community Health Centre\, 10 Neighbourhood Lane\, Unit 201\, Stonegate CHC\, ETOBICOKE\, Ontario\, M8Y 0C5\, Canada
END:VEVENT
BEGIN:VEVENT
DTSTART;TZID=America/Toronto:20260616T160000
DTEND;TZID=America/Toronto:20260616T180000
DTSTAMP:20260422T201904
CREATED:20250917T171108Z
LAST-MODIFIED:20250917T171108Z
UID:10010608-1781625600-1781632800@www.stonegatechc.org
SUMMARY:MARTIAL ARTS
DESCRIPTION:MARTIAL ARTS \nStrength • Speed  • Discipline \nTuesdays starting September 23rd\,2025 \nBEGINNERS \n4:00 PM TO 4:45 PM \n  \nINTERMEDIATE/ADVANCED \n5:00 PM TO 5:45 PM \n  \nSPACES LIMITED REGISTER BY PHONE: \n416-231-7070 X 283 OR EMAIL: health.promotion@stonegatechc.org \n 
URL:https://www.stonegatechc.org/event/martial-arts-2/2026-06-16/
LOCATION:Stonegate Community Health Centre\, 10 Neighbourhood Lane\, Unit 201\, Stonegate CHC\, ETOBICOKE\, Ontario\, M8Y 0C5\, Canada
CATEGORIES:Children & Youth
ATTACH;FMTTYPE=image/jpeg:https://www.stonegatechc.org/wp-content/uploads/2025/09/Martial-Arts-2025-e1758126601560.jpg
ORGANIZER;CN="Stonegate CHC":MAILTO:health.promotion@stonegatechc.org
END:VEVENT
BEGIN:VEVENT
DTSTART;TZID=America/Toronto:20260618T133000
DTEND;TZID=America/Toronto:20260618T143000
DTSTAMP:20260422T201904
CREATED:20260421T164822Z
LAST-MODIFIED:20260421T164822Z
UID:10011259-1781789400-1781793000@www.stonegatechc.org
SUMMARY:Mystery Book Club
DESCRIPTION:
URL:https://www.stonegatechc.org/event/mystery-book-club-3/2026-06-18/
LOCATION:Stonegate Community Health Centre\, 10 Neighbourhood Lane\, Unit 201\, Stonegate CHC\, ETOBICOKE\, Ontario\, M8Y 0C5\, Canada
END:VEVENT
BEGIN:VEVENT
DTSTART;TZID=America/Toronto:20260622T100000
DTEND;TZID=America/Toronto:20260622T133000
DTSTAMP:20260422T201904
CREATED:20230627T182044Z
LAST-MODIFIED:20240416T180336Z
UID:10005015-1782122400-1782135000@www.stonegatechc.org
SUMMARY:The Seniors Polish Group
DESCRIPTION:The Seniors Polish Group  \n  \nThis group gives Polish speaking participants time to meet\, socialize\, exercise\, play bingo\, and participate in informative presentations such as nutrition\, healthy aging\, foot care\, chronic illness and more. \nThe group meets every Monday from 10:00 am to 1:30 pm \nFor more information and/or to register please call 416-231-7070 Ext. 307 or email health.promotion@stonegatechc.org
URL:https://www.stonegatechc.org/event/the-seniors-polish-group/2026-06-22/
LOCATION:Stonegate Community Health Centre\, 10 Neighbourhood Lane\, Unit 201\, Stonegate CHC\, ETOBICOKE\, Ontario\, M8Y 0C5\, Canada
CATEGORIES:Senior's Programs
ATTACH;FMTTYPE=image/jpeg:https://www.stonegatechc.org/wp-content/uploads/2023/06/Polish-Seniors-Group-Poster_page-0001.jpg
ORGANIZER;CN="Stonegate CHC":MAILTO:health.promotion@stonegatechc.org
END:VEVENT
BEGIN:VEVENT
DTSTART;TZID=America/Toronto:20260622T180000
DTEND;TZID=America/Toronto:20260622T193000
DTSTAMP:20260422T201904
CREATED:20260421T153923Z
LAST-MODIFIED:20260421T153923Z
UID:10011182-1782151200-1782156600@www.stonegatechc.org
SUMMARY:Ukrainian Weekly Social Group
DESCRIPTION:
URL:https://www.stonegatechc.org/event/ukrainian-weekly-social-group-4/2026-06-22/
LOCATION:Stonegate Community Health Centre\, 10 Neighbourhood Lane\, Unit 201\, Stonegate CHC\, ETOBICOKE\, Ontario\, M8Y 0C5\, Canada
END:VEVENT
BEGIN:VEVENT
DTSTART;TZID=America/Toronto:20260622T190000
DTEND;TZID=America/Toronto:20260622T200000
DTSTAMP:20260422T201904
CREATED:20260421T171236Z
LAST-MODIFIED:20260421T171236Z
UID:10011292-1782154800-1782158400@www.stonegatechc.org
SUMMARY:Evening Meditation
DESCRIPTION:Spring Into Self April 2026
URL:https://www.stonegatechc.org/event/evening-meditation/2026-06-22/
LOCATION:Stonegate Community Health Centre\, 10 Neighbourhood Lane\, Unit 201\, Stonegate CHC\, ETOBICOKE\, Ontario\, M8Y 0C5\, Canada
END:VEVENT
BEGIN:VEVENT
DTSTART;TZID=America/Toronto:20260623T111500
DTEND;TZID=America/Toronto:20260623T121500
DTSTAMP:20260422T201904
CREATED:20240405T143038Z
LAST-MODIFIED:20240718T182609Z
UID:10007397-1782213300-1782216900@www.stonegatechc.org
SUMMARY:Seniors Gentle Chair Exercise
DESCRIPTION:Seniors Gentle Chair Exercise \nJoin a Registered Kinesiologist who will lead the group with exercises to increase strength\, balance and flexibility. \nTuesdays 11:15 am to 12:15 pm \nLocation: Stonegate CHC – Trillium Room \nRegistration is required as space is limited\, to register call ESS Support Services 416-243-0127 ext. 503\nPlease specify you want to attend Stonegate CHC location. \nPlease note if you already attend the first class from 10 to 11 am\, DO NOT REGISTER FOR THIS SESSION. \nConsult with your doctor or health care provider before starting this or any exercise program.
URL:https://www.stonegatechc.org/event/seniors-gentle-chair-exercise-2/2026-06-23/
LOCATION:Stonegate Community Health Centre\, 10 Neighbourhood Lane\, Unit 201\, Stonegate CHC\, ETOBICOKE\, Ontario\, M8Y 0C5\, Canada
ATTACH;FMTTYPE=image/jpeg:https://www.stonegatechc.org/wp-content/uploads/2024/04/2-ESS-Genlte-Exercise-for-seniors-2nd.-class-poster-e1712327232100.jpg
ORGANIZER;CN="Stonegate CHC":MAILTO:health.promotion@stonegatechc.org
END:VEVENT
BEGIN:VEVENT
DTSTART;TZID=America/Toronto:20260623T113000
DTEND;TZID=America/Toronto:20260623T130000
DTSTAMP:20260422T201904
CREATED:20260421T171014Z
LAST-MODIFIED:20260421T171014Z
UID:10011280-1782214200-1782219600@www.stonegatechc.org
SUMMARY:Meditation & Reflections on Gratitude
DESCRIPTION:Spring Into Self April 2026
URL:https://www.stonegatechc.org/event/meditation-reflections-on-gratitude/2026-06-23/
LOCATION:Stonegate Community Health Centre\, 10 Neighbourhood Lane\, Unit 201\, Stonegate CHC\, ETOBICOKE\, Ontario\, M8Y 0C5\, Canada
END:VEVENT
BEGIN:VEVENT
DTSTART;TZID=America/Toronto:20260623T160000
DTEND;TZID=America/Toronto:20260623T180000
DTSTAMP:20260422T201904
CREATED:20250917T171108Z
LAST-MODIFIED:20250917T171108Z
UID:10010609-1782230400-1782237600@www.stonegatechc.org
SUMMARY:MARTIAL ARTS
DESCRIPTION:MARTIAL ARTS \nStrength • Speed  • Discipline \nTuesdays starting September 23rd\,2025 \nBEGINNERS \n4:00 PM TO 4:45 PM \n  \nINTERMEDIATE/ADVANCED \n5:00 PM TO 5:45 PM \n  \nSPACES LIMITED REGISTER BY PHONE: \n416-231-7070 X 283 OR EMAIL: health.promotion@stonegatechc.org \n 
URL:https://www.stonegatechc.org/event/martial-arts-2/2026-06-23/
LOCATION:Stonegate Community Health Centre\, 10 Neighbourhood Lane\, Unit 201\, Stonegate CHC\, ETOBICOKE\, Ontario\, M8Y 0C5\, Canada
CATEGORIES:Children & Youth
ATTACH;FMTTYPE=image/jpeg:https://www.stonegatechc.org/wp-content/uploads/2025/09/Martial-Arts-2025-e1758126601560.jpg
ORGANIZER;CN="Stonegate CHC":MAILTO:health.promotion@stonegatechc.org
END:VEVENT
BEGIN:VEVENT
DTSTART;TZID=America/Toronto:20260626T110000
DTEND;TZID=America/Toronto:20260626T140000
DTSTAMP:20260422T201904
CREATED:20240404T210013Z
LAST-MODIFIED:20240416T183201Z
UID:10005467-1782471600-1782482400@www.stonegatechc.org
SUMMARY:Older Adults 55+ & Seniors Social	- Game Group
DESCRIPTION:Older Adults 55+ & Seniors Social – Game Group \nLast Friday of each month\, from 11:00am to 2:00pm \nThis group gives participants the opportunity to meet\, socialize\, and take part in card & board games such as Euchre\, Bridge\, Uno\, Domino and more! \nLight lunch is served\, everyone is welcome! \n  \nTo register please call 416-231-7070 Ext. 307 \nor send an email to  health.promotion@stonegatechc.org  \n 
URL:https://www.stonegatechc.org/event/older-adults-55-seniors-social-group-2-2-2/2026-06-26/
LOCATION:Stonegate Community Health Centre\, 10 Neighbourhood Lane\, Unit 201\, Stonegate CHC\, ETOBICOKE\, Ontario\, M8Y 0C5\, Canada
CATEGORIES:Senior's Programs
ATTACH;FMTTYPE=image/jpeg:https://www.stonegatechc.org/wp-content/uploads/2023/07/Seniors-Social-Games-Group-Poster-e1712264403623.jpg
ORGANIZER;CN="Stonegate CHC":MAILTO:health.promotion@stonegatechc.org
END:VEVENT
BEGIN:VEVENT
DTSTART;TZID=America/Toronto:20260629T100000
DTEND;TZID=America/Toronto:20260629T133000
DTSTAMP:20260422T201904
CREATED:20230627T182044Z
LAST-MODIFIED:20240416T180336Z
UID:10005016-1782727200-1782739800@www.stonegatechc.org
SUMMARY:The Seniors Polish Group
DESCRIPTION:The Seniors Polish Group  \n  \nThis group gives Polish speaking participants time to meet\, socialize\, exercise\, play bingo\, and participate in informative presentations such as nutrition\, healthy aging\, foot care\, chronic illness and more. \nThe group meets every Monday from 10:00 am to 1:30 pm \nFor more information and/or to register please call 416-231-7070 Ext. 307 or email health.promotion@stonegatechc.org
URL:https://www.stonegatechc.org/event/the-seniors-polish-group/2026-06-29/
LOCATION:Stonegate Community Health Centre\, 10 Neighbourhood Lane\, Unit 201\, Stonegate CHC\, ETOBICOKE\, Ontario\, M8Y 0C5\, Canada
CATEGORIES:Senior's Programs
ATTACH;FMTTYPE=image/jpeg:https://www.stonegatechc.org/wp-content/uploads/2023/06/Polish-Seniors-Group-Poster_page-0001.jpg
ORGANIZER;CN="Stonegate CHC":MAILTO:health.promotion@stonegatechc.org
END:VEVENT
BEGIN:VEVENT
DTSTART;TZID=America/Toronto:20260629T180000
DTEND;TZID=America/Toronto:20260629T193000
DTSTAMP:20260422T201904
CREATED:20260421T153923Z
LAST-MODIFIED:20260421T153923Z
UID:10011183-1782756000-1782761400@www.stonegatechc.org
SUMMARY:Ukrainian Weekly Social Group
DESCRIPTION:
URL:https://www.stonegatechc.org/event/ukrainian-weekly-social-group-4/2026-06-29/
LOCATION:Stonegate Community Health Centre\, 10 Neighbourhood Lane\, Unit 201\, Stonegate CHC\, ETOBICOKE\, Ontario\, M8Y 0C5\, Canada
END:VEVENT
BEGIN:VEVENT
DTSTART;TZID=America/Toronto:20260629T190000
DTEND;TZID=America/Toronto:20260629T200000
DTSTAMP:20260422T201904
CREATED:20260421T171236Z
LAST-MODIFIED:20260421T171236Z
UID:10011293-1782759600-1782763200@www.stonegatechc.org
SUMMARY:Evening Meditation
DESCRIPTION:Spring Into Self April 2026
URL:https://www.stonegatechc.org/event/evening-meditation/2026-06-29/
LOCATION:Stonegate Community Health Centre\, 10 Neighbourhood Lane\, Unit 201\, Stonegate CHC\, ETOBICOKE\, Ontario\, M8Y 0C5\, Canada
END:VEVENT
BEGIN:VEVENT
DTSTART;TZID=America/Toronto:20260630T111500
DTEND;TZID=America/Toronto:20260630T121500
DTSTAMP:20260422T201904
CREATED:20240405T143038Z
LAST-MODIFIED:20240718T182609Z
UID:10007398-1782818100-1782821700@www.stonegatechc.org
SUMMARY:Seniors Gentle Chair Exercise
DESCRIPTION:Seniors Gentle Chair Exercise \nJoin a Registered Kinesiologist who will lead the group with exercises to increase strength\, balance and flexibility. \nTuesdays 11:15 am to 12:15 pm \nLocation: Stonegate CHC – Trillium Room \nRegistration is required as space is limited\, to register call ESS Support Services 416-243-0127 ext. 503\nPlease specify you want to attend Stonegate CHC location. \nPlease note if you already attend the first class from 10 to 11 am\, DO NOT REGISTER FOR THIS SESSION. \nConsult with your doctor or health care provider before starting this or any exercise program.
URL:https://www.stonegatechc.org/event/seniors-gentle-chair-exercise-2/2026-06-30/
LOCATION:Stonegate Community Health Centre\, 10 Neighbourhood Lane\, Unit 201\, Stonegate CHC\, ETOBICOKE\, Ontario\, M8Y 0C5\, Canada
ATTACH;FMTTYPE=image/jpeg:https://www.stonegatechc.org/wp-content/uploads/2024/04/2-ESS-Genlte-Exercise-for-seniors-2nd.-class-poster-e1712327232100.jpg
ORGANIZER;CN="Stonegate CHC":MAILTO:health.promotion@stonegatechc.org
END:VEVENT
BEGIN:VEVENT
DTSTART;TZID=America/Toronto:20260630T113000
DTEND;TZID=America/Toronto:20260630T130000
DTSTAMP:20260422T201904
CREATED:20260421T171014Z
LAST-MODIFIED:20260421T171014Z
UID:10011281-1782819000-1782824400@www.stonegatechc.org
SUMMARY:Meditation & Reflections on Gratitude
DESCRIPTION:Spring Into Self April 2026
URL:https://www.stonegatechc.org/event/meditation-reflections-on-gratitude/2026-06-30/
LOCATION:Stonegate Community Health Centre\, 10 Neighbourhood Lane\, Unit 201\, Stonegate CHC\, ETOBICOKE\, Ontario\, M8Y 0C5\, Canada
END:VEVENT
BEGIN:VEVENT
DTSTART;TZID=America/Toronto:20260630T160000
DTEND;TZID=America/Toronto:20260630T180000
DTSTAMP:20260422T201904
CREATED:20250917T171108Z
LAST-MODIFIED:20250917T171108Z
UID:10010610-1782835200-1782842400@www.stonegatechc.org
SUMMARY:MARTIAL ARTS
DESCRIPTION:MARTIAL ARTS \nStrength • Speed  • Discipline \nTuesdays starting September 23rd\,2025 \nBEGINNERS \n4:00 PM TO 4:45 PM \n  \nINTERMEDIATE/ADVANCED \n5:00 PM TO 5:45 PM \n  \nSPACES LIMITED REGISTER BY PHONE: \n416-231-7070 X 283 OR EMAIL: health.promotion@stonegatechc.org \n 
URL:https://www.stonegatechc.org/event/martial-arts-2/2026-06-30/
LOCATION:Stonegate Community Health Centre\, 10 Neighbourhood Lane\, Unit 201\, Stonegate CHC\, ETOBICOKE\, Ontario\, M8Y 0C5\, Canada
CATEGORIES:Children & Youth
ATTACH;FMTTYPE=image/jpeg:https://www.stonegatechc.org/wp-content/uploads/2025/09/Martial-Arts-2025-e1758126601560.jpg
ORGANIZER;CN="Stonegate CHC":MAILTO:health.promotion@stonegatechc.org
END:VEVENT
BEGIN:VEVENT
DTSTART;TZID=America/Toronto:20260706T100000
DTEND;TZID=America/Toronto:20260706T133000
DTSTAMP:20260422T201904
CREATED:20230627T182044Z
LAST-MODIFIED:20240416T180336Z
UID:10005017-1783332000-1783344600@www.stonegatechc.org
SUMMARY:The Seniors Polish Group
DESCRIPTION:The Seniors Polish Group  \n  \nThis group gives Polish speaking participants time to meet\, socialize\, exercise\, play bingo\, and participate in informative presentations such as nutrition\, healthy aging\, foot care\, chronic illness and more. \nThe group meets every Monday from 10:00 am to 1:30 pm \nFor more information and/or to register please call 416-231-7070 Ext. 307 or email health.promotion@stonegatechc.org
URL:https://www.stonegatechc.org/event/the-seniors-polish-group/2026-07-06/
LOCATION:Stonegate Community Health Centre\, 10 Neighbourhood Lane\, Unit 201\, Stonegate CHC\, ETOBICOKE\, Ontario\, M8Y 0C5\, Canada
CATEGORIES:Senior's Programs
ATTACH;FMTTYPE=image/jpeg:https://www.stonegatechc.org/wp-content/uploads/2023/06/Polish-Seniors-Group-Poster_page-0001.jpg
ORGANIZER;CN="Stonegate CHC":MAILTO:health.promotion@stonegatechc.org
END:VEVENT
BEGIN:VEVENT
DTSTART;TZID=America/Toronto:20260706T180000
DTEND;TZID=America/Toronto:20260706T193000
DTSTAMP:20260422T201904
CREATED:20260421T153923Z
LAST-MODIFIED:20260421T153923Z
UID:10011184-1783360800-1783366200@www.stonegatechc.org
SUMMARY:Ukrainian Weekly Social Group
DESCRIPTION:
URL:https://www.stonegatechc.org/event/ukrainian-weekly-social-group-4/2026-07-06/
LOCATION:Stonegate Community Health Centre\, 10 Neighbourhood Lane\, Unit 201\, Stonegate CHC\, ETOBICOKE\, Ontario\, M8Y 0C5\, Canada
END:VEVENT
BEGIN:VEVENT
DTSTART;TZID=America/Toronto:20260707T111500
DTEND;TZID=America/Toronto:20260707T121500
DTSTAMP:20260422T201904
CREATED:20240405T143038Z
LAST-MODIFIED:20240718T182609Z
UID:10007399-1783422900-1783426500@www.stonegatechc.org
SUMMARY:Seniors Gentle Chair Exercise
DESCRIPTION:Seniors Gentle Chair Exercise \nJoin a Registered Kinesiologist who will lead the group with exercises to increase strength\, balance and flexibility. \nTuesdays 11:15 am to 12:15 pm \nLocation: Stonegate CHC – Trillium Room \nRegistration is required as space is limited\, to register call ESS Support Services 416-243-0127 ext. 503\nPlease specify you want to attend Stonegate CHC location. \nPlease note if you already attend the first class from 10 to 11 am\, DO NOT REGISTER FOR THIS SESSION. \nConsult with your doctor or health care provider before starting this or any exercise program.
URL:https://www.stonegatechc.org/event/seniors-gentle-chair-exercise-2/2026-07-07/
LOCATION:Stonegate Community Health Centre\, 10 Neighbourhood Lane\, Unit 201\, Stonegate CHC\, ETOBICOKE\, Ontario\, M8Y 0C5\, Canada
ATTACH;FMTTYPE=image/jpeg:https://www.stonegatechc.org/wp-content/uploads/2024/04/2-ESS-Genlte-Exercise-for-seniors-2nd.-class-poster-e1712327232100.jpg
ORGANIZER;CN="Stonegate CHC":MAILTO:health.promotion@stonegatechc.org
END:VEVENT
BEGIN:VEVENT
DTSTART;TZID=America/Toronto:20260707T160000
DTEND;TZID=America/Toronto:20260707T180000
DTSTAMP:20260422T201904
CREATED:20250917T171108Z
LAST-MODIFIED:20250917T171108Z
UID:10010611-1783440000-1783447200@www.stonegatechc.org
SUMMARY:MARTIAL ARTS
DESCRIPTION:MARTIAL ARTS \nStrength • Speed  • Discipline \nTuesdays starting September 23rd\,2025 \nBEGINNERS \n4:00 PM TO 4:45 PM \n  \nINTERMEDIATE/ADVANCED \n5:00 PM TO 5:45 PM \n  \nSPACES LIMITED REGISTER BY PHONE: \n416-231-7070 X 283 OR EMAIL: health.promotion@stonegatechc.org \n 
URL:https://www.stonegatechc.org/event/martial-arts-2/2026-07-07/
LOCATION:Stonegate Community Health Centre\, 10 Neighbourhood Lane\, Unit 201\, Stonegate CHC\, ETOBICOKE\, Ontario\, M8Y 0C5\, Canada
CATEGORIES:Children & Youth
ATTACH;FMTTYPE=image/jpeg:https://www.stonegatechc.org/wp-content/uploads/2025/09/Martial-Arts-2025-e1758126601560.jpg
ORGANIZER;CN="Stonegate CHC":MAILTO:health.promotion@stonegatechc.org
END:VEVENT
BEGIN:VEVENT
DTSTART;TZID=America/Toronto:20260710T123000
DTEND;TZID=America/Toronto:20260710T143000
DTSTAMP:20260422T201904
CREATED:20260422T154501Z
LAST-MODIFIED:20260422T154528Z
UID:10011298-1783686600-1783693800@www.stonegatechc.org
SUMMARY:Friday Women's Groups
DESCRIPTION:Friday Women’s Group Poster
URL:https://www.stonegatechc.org/event/frida-womens-groups/2026-07-10/
LOCATION:Stonegate Community Health Centre\, 10 Neighbourhood Lane\, Unit 201\, Stonegate CHC\, ETOBICOKE\, Ontario\, M8Y 0C5\, Canada
CATEGORIES:Women's Programs
END:VEVENT
END:VCALENDAR